BEGIN:VCALENDAR
VERSION:2.0
PRODID:-//Weimar Evangelisch - ECPv6.6.1//NONSGML v1.0//EN
CALSCALE:GREGORIAN
METHOD:PUBLISH
X-WR-CALNAME:Weimar Evangelisch
X-ORIGINAL-URL:https://weimar-evangelisch.de
X-WR-CALDESC:Veranstaltungen für Weimar Evangelisch
REFRESH-INTERVAL;VALUE=DURATION:PT1H
X-Robots-Tag:noindex
X-PUBLISHED-TTL:PT1H
BEGIN:VTIMEZONE
TZID:Europe/Berlin
BEGIN:DAYLIGHT
TZOFFSETFROM:+0100
TZOFFSETTO:+0200
TZNAME:CEST
DTSTART:20240331T010000
END:DAYLIGHT
BEGIN:STANDARD
TZOFFSETFROM:+0200
TZOFFSETTO:+0100
TZNAME:CET
DTSTART:20241027T010000
END:STANDARD
BEGIN:DAYLIGHT
TZOFFSETFROM:+0100
TZOFFSETTO:+0200
TZNAME:CEST
DTSTART:20250330T010000
END:DAYLIGHT
BEGIN:STANDARD
TZOFFSETFROM:+0200
TZOFFSETTO:+0100
TZNAME:CET
DTSTART:20251026T010000
END:STANDARD
END:VTIMEZONE
BEGIN:VEVENT
DTSTART;TZID=Europe/Berlin:20250523T200000
DTEND;TZID=Europe/Berlin:20250523T213000
DTSTAMP:20260425T012924
CREATED:20241205T125607Z
LAST-MODIFIED:20250509T122336Z
UID:13578-1748030400-1748035800@weimar-evangelisch.de
SUMMARY:Wohnzimmerkirche Open Air
DESCRIPTION:“Herz öffnen”
URL:https://weimar-evangelisch.de/veranstaltung/wohnzimmerkirche-7-2025-05-23/
LOCATION:Wittumspalais\, Am Palais 3\, Weimar\, 99423
CATEGORIES:Gottesdienste,Veranstaltungen
ATTACH;FMTTYPE=image/jpeg:https://weimar-evangelisch.de/wp-content/uploads/2023/01/2301_WoZiKi_Karte_Vs-e1674814646628.jpg
END:VEVENT
BEGIN:VEVENT
DTSTART;TZID=Europe/Berlin:20240816T200000
DTEND;TZID=Europe/Berlin:20240816T213000
DTSTAMP:20260425T012924
CREATED:20240322T115138Z
LAST-MODIFIED:20240628T105727Z
UID:12404-1723838400-1723843800@weimar-evangelisch.de
SUMMARY:Wohnzimmerkirche
DESCRIPTION:Alltags-Magie
URL:https://weimar-evangelisch.de/veranstaltung/wohnzimmerkirche-4-2024-08-16/
LOCATION:Wittumspalais\, Am Palais 3\, Weimar\, 99423
CATEGORIES:Gottesdienste,Veranstaltungen
ATTACH;FMTTYPE=image/jpeg:https://weimar-evangelisch.de/wp-content/uploads/2023/01/2301_WoZiKi_Karte_Vs-e1674814646628.jpg
END:VEVENT
BEGIN:VEVENT
DTSTART;TZID=Europe/Berlin:20240607T200000
DTEND;TZID=Europe/Berlin:20240607T213000
DTSTAMP:20260425T012924
CREATED:20240322T115138Z
LAST-MODIFIED:20240530T105531Z
UID:12401-1717790400-1717795800@weimar-evangelisch.de
SUMMARY:Wohnzimmerkirche
DESCRIPTION:Zeit-Reise \nbei schlechtem Wetter im Herdersaal (Herderplatz 7)
URL:https://weimar-evangelisch.de/veranstaltung/wohnzimmerkirche-4/
LOCATION:Wittumspalais\, Am Palais 3\, Weimar\, 99423
CATEGORIES:Gottesdienste,Veranstaltungen
ATTACH;FMTTYPE=image/jpeg:https://weimar-evangelisch.de/wp-content/uploads/2023/01/2301_WoZiKi_Karte_Vs-e1674814646628.jpg
END:VEVENT
END:VCALENDAR