BEGIN:VCALENDAR
VERSION:2.0
PRODID:-//Weimar Evangelisch - ECPv6.6.1//NONSGML v1.0//EN
CALSCALE:GREGORIAN
METHOD:PUBLISH
X-ORIGINAL-URL:https://weimar-evangelisch.de
X-WR-CALDESC:Veranstaltungen für Weimar Evangelisch
REFRESH-INTERVAL;VALUE=DURATION:PT1H
X-Robots-Tag:noindex
X-PUBLISHED-TTL:PT1H
BEGIN:VTIMEZONE
TZID:Europe/Berlin
BEGIN:DAYLIGHT
TZOFFSETFROM:+0100
TZOFFSETTO:+0200
TZNAME:CEST
DTSTART:20230326T010000
END:DAYLIGHT
BEGIN:STANDARD
TZOFFSETFROM:+0200
TZOFFSETTO:+0100
TZNAME:CET
DTSTART:20231029T010000
END:STANDARD
BEGIN:DAYLIGHT
TZOFFSETFROM:+0100
TZOFFSETTO:+0200
TZNAME:CEST
DTSTART:20240331T010000
END:DAYLIGHT
BEGIN:STANDARD
TZOFFSETFROM:+0200
TZOFFSETTO:+0100
TZNAME:CET
DTSTART:20241027T010000
END:STANDARD
END:VTIMEZONE
BEGIN:VEVENT
DTSTART;TZID=Europe/Berlin:20240706T170000
DTEND;TZID=Europe/Berlin:20240706T180000
DTSTAMP:20260422T104941
CREATED:20240531T102648Z
LAST-MODIFIED:20240531T102648Z
UID:12721-1720285200-1720288800@weimar-evangelisch.de
SUMMARY:Gottesdienst
DESCRIPTION:Pfarrerin Anne Puhr
URL:https://weimar-evangelisch.de/veranstaltung/gottesdienst-116/
LOCATION:Süßenborn „Zu den Vierzehn Heiligen“\, Kirchweg 2\, Süßenborn\, Thüringen\, 99425\, Deutschland
CATEGORIES:Gottesdienste
ATTACH;FMTTYPE=image/jpeg:https://weimar-evangelisch.de/wp-content/uploads/2022/03/vierzehn_heiligen_suessenborn_06.jpg
END:VEVENT
BEGIN:VEVENT
DTSTART;TZID=Europe/Berlin:20240623T100000
DTEND;TZID=Europe/Berlin:20240623T110000
DTSTAMP:20260422T104941
CREATED:20240530T105226Z
LAST-MODIFIED:20240530T105226Z
UID:12636-1719136800-1719140400@weimar-evangelisch.de
SUMMARY:Gottesdienst
DESCRIPTION:Lektorin Dietlind Steinhöfel
URL:https://weimar-evangelisch.de/veranstaltung/gottesdienst-113/
LOCATION:Süßenborn „Zu den Vierzehn Heiligen“\, Kirchweg 2\, Süßenborn\, Thüringen\, 99425\, Deutschland
CATEGORIES:Gottesdienste
ATTACH;FMTTYPE=image/jpeg:https://weimar-evangelisch.de/wp-content/uploads/2022/03/vierzehn_heiligen_suessenborn_06.jpg
END:VEVENT
BEGIN:VEVENT
DTSTART;TZID=Europe/Berlin:20240615T170000
DTEND;TZID=Europe/Berlin:20240615T180000
DTSTAMP:20260422T104941
CREATED:20240530T113823Z
LAST-MODIFIED:20240530T113823Z
UID:12673-1718470800-1718474400@weimar-evangelisch.de
SUMMARY:Gottesdienst
DESCRIPTION:Pfarrerin Anne Puhr
URL:https://weimar-evangelisch.de/veranstaltung/gottesdienst-115/
LOCATION:Süßenborn „Zu den Vierzehn Heiligen“\, Kirchweg 2\, Süßenborn\, Thüringen\, 99425\, Deutschland
CATEGORIES:Gottesdienste
ATTACH;FMTTYPE=image/jpeg:https://weimar-evangelisch.de/wp-content/uploads/2022/03/vierzehn_heiligen_suessenborn_06.jpg
END:VEVENT
BEGIN:VEVENT
DTSTART;TZID=Europe/Berlin:20240602T100000
DTEND;TZID=Europe/Berlin:20240602T110000
DTSTAMP:20260422T104941
CREATED:20240530T105132Z
LAST-MODIFIED:20240530T105132Z
UID:12634-1717322400-1717326000@weimar-evangelisch.de
SUMMARY:Gottesdienst
DESCRIPTION:Lektorin Dietlind Steinhöfel
URL:https://weimar-evangelisch.de/veranstaltung/gottesdienst-112/
LOCATION:Süßenborn „Zu den Vierzehn Heiligen“\, Kirchweg 2\, Süßenborn\, Thüringen\, 99425\, Deutschland
CATEGORIES:Gottesdienste
ATTACH;FMTTYPE=image/jpeg:https://weimar-evangelisch.de/wp-content/uploads/2022/03/vierzehn_heiligen_suessenborn_06.jpg
END:VEVENT
BEGIN:VEVENT
DTSTART;TZID=Europe/Berlin:20240518T170000
DTEND;TZID=Europe/Berlin:20240518T180000
DTSTAMP:20260422T104941
CREATED:20240424T065821Z
LAST-MODIFIED:20240424T065821Z
UID:12525-1716051600-1716055200@weimar-evangelisch.de
SUMMARY:Gottesdienst
DESCRIPTION:Pfarrerin Anne Puhr
URL:https://weimar-evangelisch.de/veranstaltung/gottesdienst-110/
LOCATION:Süßenborn „Zu den Vierzehn Heiligen“\, Kirchweg 2\, Süßenborn\, Thüringen\, 99425\, Deutschland
CATEGORIES:Gottesdienste
ATTACH;FMTTYPE=image/jpeg:https://weimar-evangelisch.de/wp-content/uploads/2022/03/vierzehn_heiligen_suessenborn_06.jpg
END:VEVENT
BEGIN:VEVENT
DTSTART;TZID=Europe/Berlin:20240511T170000
DTEND;TZID=Europe/Berlin:20240511T180000
DTSTAMP:20260422T104941
CREATED:20240424T065601Z
LAST-MODIFIED:20240424T065601Z
UID:12521-1715446800-1715450400@weimar-evangelisch.de
SUMMARY:Gottesdienst
DESCRIPTION:Pfarrerin Anne Puhr
URL:https://weimar-evangelisch.de/veranstaltung/gottesdienst-109/
LOCATION:Süßenborn „Zu den Vierzehn Heiligen“\, Kirchweg 2\, Süßenborn\, Thüringen\, 99425\, Deutschland
CATEGORIES:Gottesdienste
ATTACH;FMTTYPE=image/jpeg:https://weimar-evangelisch.de/wp-content/uploads/2022/03/vierzehn_heiligen_suessenborn_06.jpg
END:VEVENT
BEGIN:VEVENT
DTSTART;TZID=Europe/Berlin:20240413T170000
DTEND;TZID=Europe/Berlin:20240413T180000
DTSTAMP:20260422T104941
CREATED:20240322T120729Z
LAST-MODIFIED:20240322T120729Z
UID:12409-1713027600-1713031200@weimar-evangelisch.de
SUMMARY:Gottesdienst
DESCRIPTION:Pfarrerin Anne Puhr
URL:https://weimar-evangelisch.de/veranstaltung/gottesdienst-105/
LOCATION:Süßenborn „Zu den Vierzehn Heiligen“\, Kirchweg 2\, Süßenborn\, Thüringen\, 99425\, Deutschland
CATEGORIES:Gottesdienste
ATTACH;FMTTYPE=image/jpeg:https://weimar-evangelisch.de/wp-content/uploads/2022/03/vierzehn_heiligen_suessenborn_06.jpg
END:VEVENT
BEGIN:VEVENT
DTSTART;TZID=Europe/Berlin:20240329T170000
DTEND;TZID=Europe/Berlin:20240329T180000
DTSTAMP:20260422T104941
CREATED:20240206T144900Z
LAST-MODIFIED:20240206T144900Z
UID:11623-1711731600-1711735200@weimar-evangelisch.de
SUMMARY:Gottesdienst mit Abendmahl
DESCRIPTION:Pfarrerin Anne Puhr
URL:https://weimar-evangelisch.de/veranstaltung/gottesdienst-mit-abendmahl-7/
LOCATION:Süßenborn „Zu den Vierzehn Heiligen“\, Kirchweg 2\, Süßenborn\, Thüringen\, 99425\, Deutschland
CATEGORIES:Gottesdienste
ATTACH;FMTTYPE=image/jpeg:https://weimar-evangelisch.de/wp-content/uploads/2022/03/vierzehn_heiligen_suessenborn_06.jpg
END:VEVENT
BEGIN:VEVENT
DTSTART;TZID=Europe/Berlin:20240317T100000
DTEND;TZID=Europe/Berlin:20240317T110000
DTSTAMP:20260422T104941
CREATED:20240221T124811Z
LAST-MODIFIED:20240221T124811Z
UID:12213-1710669600-1710673200@weimar-evangelisch.de
SUMMARY:Gottesdienst
DESCRIPTION:Pfarrerin Anne Puhr
URL:https://weimar-evangelisch.de/veranstaltung/gottesdienst-101/
LOCATION:Süßenborn „Zu den Vierzehn Heiligen“\, Kirchweg 2\, Süßenborn\, Thüringen\, 99425\, Deutschland
CATEGORIES:Gottesdienste
ATTACH;FMTTYPE=image/jpeg:https://weimar-evangelisch.de/wp-content/uploads/2022/03/vierzehn_heiligen_suessenborn_06.jpg
END:VEVENT
BEGIN:VEVENT
DTSTART;TZID=Europe/Berlin:20240224T170000
DTEND;TZID=Europe/Berlin:20240224T180000
DTSTAMP:20260422T104941
CREATED:20240206T131254Z
LAST-MODIFIED:20240206T131254Z
UID:11597-1708794000-1708797600@weimar-evangelisch.de
SUMMARY:Gottesdienst
DESCRIPTION:Pfarrerin Anne Puhr
URL:https://weimar-evangelisch.de/veranstaltung/gottesdienst-95/
LOCATION:Süßenborn „Zu den Vierzehn Heiligen“\, Kirchweg 2\, Süßenborn\, Thüringen\, 99425\, Deutschland
CATEGORIES:Gottesdienste
ATTACH;FMTTYPE=image/jpeg:https://weimar-evangelisch.de/wp-content/uploads/2022/03/vierzehn_heiligen_suessenborn_06.jpg
END:VEVENT
BEGIN:VEVENT
DTSTART;TZID=Europe/Berlin:20240211T100000
DTEND;TZID=Europe/Berlin:20240211T110000
DTSTAMP:20260422T104941
CREATED:20240202T130128Z
LAST-MODIFIED:20240202T130128Z
UID:11512-1707645600-1707649200@weimar-evangelisch.de
SUMMARY:Gottesdienst
DESCRIPTION:Lektorin Dietlind Steinhöfel
URL:https://weimar-evangelisch.de/veranstaltung/gottesdienst-93/
LOCATION:Süßenborn „Zu den Vierzehn Heiligen“\, Kirchweg 2\, Süßenborn\, Thüringen\, 99425\, Deutschland
CATEGORIES:Gottesdienste
ATTACH;FMTTYPE=image/jpeg:https://weimar-evangelisch.de/wp-content/uploads/2022/03/vierzehn_heiligen_suessenborn_06.jpg
END:VEVENT
BEGIN:VEVENT
DTSTART;TZID=Europe/Berlin:20231231T170000
DTEND;TZID=Europe/Berlin:20231231T180000
DTSTAMP:20260422T104941
CREATED:20231207T123349Z
LAST-MODIFIED:20231207T123402Z
UID:10206-1704042000-1704045600@weimar-evangelisch.de
SUMMARY:Gottesdienst zum Jahresausklang mit Abendmahl
DESCRIPTION:Lektorin Dietlind Steinhöfel \n 
URL:https://weimar-evangelisch.de/veranstaltung/gottesdienst-zum-jahresausklang-mit-abendmahl/
LOCATION:Süßenborn „Zu den Vierzehn Heiligen“\, Kirchweg 2\, Süßenborn\, Thüringen\, 99425\, Deutschland
CATEGORIES:Gottesdienste
ATTACH;FMTTYPE=image/jpeg:https://weimar-evangelisch.de/wp-content/uploads/2022/03/vierzehn_heiligen_suessenborn_06.jpg
END:VEVENT
BEGIN:VEVENT
DTSTART;TZID=Europe/Berlin:20231224T153000
DTEND;TZID=Europe/Berlin:20231224T163000
DTSTAMP:20260422T104941
CREATED:20231124T124524Z
LAST-MODIFIED:20231124T124524Z
UID:9852-1703431800-1703435400@weimar-evangelisch.de
SUMMARY:Christvesper mit Krippenspiel
DESCRIPTION:Lektorin Dietlind Steinhöfel
URL:https://weimar-evangelisch.de/veranstaltung/christvesper-mit-krippenspiel-3/
LOCATION:Süßenborn „Zu den Vierzehn Heiligen“\, Kirchweg 2\, Süßenborn\, Thüringen\, 99425\, Deutschland
CATEGORIES:Gottesdienste,Veranstaltungen
ATTACH;FMTTYPE=image/jpeg:https://weimar-evangelisch.de/wp-content/uploads/2022/03/vierzehn_heiligen_suessenborn_06.jpg
END:VEVENT
BEGIN:VEVENT
DTSTART;TZID=Europe/Berlin:20231209T170000
DTEND;TZID=Europe/Berlin:20231209T174500
DTSTAMP:20260422T104941
CREATED:20231121T131058Z
LAST-MODIFIED:20231121T131058Z
UID:9818-1702141200-1702143900@weimar-evangelisch.de
SUMMARY:Vesper
DESCRIPTION:Lektorin Dietlind Steinhöfel
URL:https://weimar-evangelisch.de/veranstaltung/vesper-14/
LOCATION:Süßenborn „Zu den Vierzehn Heiligen“\, Kirchweg 2\, Süßenborn\, Thüringen\, 99425\, Deutschland
CATEGORIES:Gottesdienste
ATTACH;FMTTYPE=image/jpeg:https://weimar-evangelisch.de/wp-content/uploads/2022/03/vierzehn_heiligen_suessenborn_06.jpg
END:VEVENT
BEGIN:VEVENT
DTSTART;TZID=Europe/Berlin:20231107T170000
DTEND;TZID=Europe/Berlin:20231107T180000
DTSTAMP:20260422T104941
CREATED:20231027T115215Z
LAST-MODIFIED:20231027T115215Z
UID:9736-1699376400-1699380000@weimar-evangelisch.de
SUMMARY:Feier zum Martinstag
DESCRIPTION:Dirk Marschall
URL:https://weimar-evangelisch.de/veranstaltung/feier-zum-martinstag/
LOCATION:Süßenborn „Zu den Vierzehn Heiligen“\, Kirchweg 2\, Süßenborn\, Thüringen\, 99425\, Deutschland
CATEGORIES:Gottesdienste,Veranstaltungen
ATTACH;FMTTYPE=image/jpeg:https://weimar-evangelisch.de/wp-content/uploads/2022/03/vierzehn_heiligen_suessenborn_06.jpg
END:VEVENT
BEGIN:VEVENT
DTSTART;TZID=Europe/Berlin:20231014T170000
DTEND;TZID=Europe/Berlin:20231014T174500
DTSTAMP:20260422T104941
CREATED:20230927T082307Z
LAST-MODIFIED:20230927T082307Z
UID:9378-1697302800-1697305500@weimar-evangelisch.de
SUMMARY:Vesper
DESCRIPTION:Lektorin Dietlind Steinhöfel
URL:https://weimar-evangelisch.de/veranstaltung/vesper-13/
LOCATION:Süßenborn „Zu den Vierzehn Heiligen“\, Kirchweg 2\, Süßenborn\, Thüringen\, 99425\, Deutschland
CATEGORIES:Gottesdienste
ATTACH;FMTTYPE=image/jpeg:https://weimar-evangelisch.de/wp-content/uploads/2022/03/vierzehn_heiligen_suessenborn_06.jpg
END:VEVENT
BEGIN:VEVENT
DTSTART;TZID=Europe/Berlin:20231001T100000
DTEND;TZID=Europe/Berlin:20231001T110000
DTSTAMP:20260422T104941
CREATED:20230816T112746Z
LAST-MODIFIED:20230816T112746Z
UID:9127-1696154400-1696158000@weimar-evangelisch.de
SUMMARY:Gottesdienst zu Erntedank
DESCRIPTION:Lektorin Dietlind Steinhöfel
URL:https://weimar-evangelisch.de/veranstaltung/gottesdienst-zu-erntedank/
LOCATION:Süßenborn „Zu den Vierzehn Heiligen“\, Kirchweg 2\, Süßenborn\, Thüringen\, 99425\, Deutschland
CATEGORIES:Gottesdienste
ATTACH;FMTTYPE=image/jpeg:https://weimar-evangelisch.de/wp-content/uploads/2022/03/vierzehn_heiligen_suessenborn_06.jpg
END:VEVENT
BEGIN:VEVENT
DTSTART;TZID=Europe/Berlin:20230917T100000
DTEND;TZID=Europe/Berlin:20230917T110000
DTSTAMP:20260422T104941
CREATED:20230817T103316Z
LAST-MODIFIED:20230817T103316Z
UID:9173-1694944800-1694948400@weimar-evangelisch.de
SUMMARY:Gottesdienst
DESCRIPTION:Lektorin Dietlind Steinhöfel
URL:https://weimar-evangelisch.de/veranstaltung/gottesdienst-71/
LOCATION:Süßenborn „Zu den Vierzehn Heiligen“\, Kirchweg 2\, Süßenborn\, Thüringen\, 99425\, Deutschland
CATEGORIES:Gottesdienste
ATTACH;FMTTYPE=image/jpeg:https://weimar-evangelisch.de/wp-content/uploads/2022/03/vierzehn_heiligen_suessenborn_06.jpg
END:VEVENT
BEGIN:VEVENT
DTSTART;TZID=Europe/Berlin:20230902T170000
DTEND;TZID=Europe/Berlin:20230902T180000
DTSTAMP:20260422T104941
CREATED:20230816T112510Z
LAST-MODIFIED:20230816T112510Z
UID:9125-1693674000-1693677600@weimar-evangelisch.de
SUMMARY:Familiengottesdienst zum Schulanfang
DESCRIPTION:Lektorin Dietlind Steinhöfel
URL:https://weimar-evangelisch.de/veranstaltung/familiengottesdienst-zum-schulanfang/
LOCATION:Süßenborn „Zu den Vierzehn Heiligen“\, Kirchweg 2\, Süßenborn\, Thüringen\, 99425\, Deutschland
CATEGORIES:Gottesdienste
ATTACH;FMTTYPE=image/jpeg:https://weimar-evangelisch.de/wp-content/uploads/2022/03/vierzehn_heiligen_suessenborn_06.jpg
END:VEVENT
BEGIN:VEVENT
DTSTART;TZID=Europe/Berlin:20230723T100000
DTEND;TZID=Europe/Berlin:20230723T110000
DTSTAMP:20260422T104941
CREATED:20230622T090245Z
LAST-MODIFIED:20230622T090245Z
UID:8871-1690106400-1690110000@weimar-evangelisch.de
SUMMARY:Gottesdienst
DESCRIPTION:Lektorin Dietlind Steinhöfel
URL:https://weimar-evangelisch.de/veranstaltung/gottesdienst-67/
LOCATION:Süßenborn „Zu den Vierzehn Heiligen“\, Kirchweg 2\, Süßenborn\, Thüringen\, 99425\, Deutschland
CATEGORIES:Gottesdienste
ATTACH;FMTTYPE=image/jpeg:https://weimar-evangelisch.de/wp-content/uploads/2022/03/vierzehn_heiligen_suessenborn_06.jpg
END:VEVENT
BEGIN:VEVENT
DTSTART;TZID=Europe/Berlin:20230708T140000
DTEND;TZID=Europe/Berlin:20230708T150000
DTSTAMP:20260422T104941
CREATED:20230622T090424Z
LAST-MODIFIED:20230622T090424Z
UID:8873-1688824800-1688828400@weimar-evangelisch.de
SUMMARY:Gottesdienst zum Dorffest
DESCRIPTION:Pfarrerin Dr. Teresa Tenbergen und Lektorin Dietlind Steinhöfel
URL:https://weimar-evangelisch.de/veranstaltung/gottesdienst-zum-dorffest/
LOCATION:Süßenborn „Zu den Vierzehn Heiligen“\, Kirchweg 2\, Süßenborn\, Thüringen\, 99425\, Deutschland
CATEGORIES:Gottesdienste
ATTACH;FMTTYPE=image/jpeg:https://weimar-evangelisch.de/wp-content/uploads/2022/03/vierzehn_heiligen_suessenborn_06.jpg
END:VEVENT
BEGIN:VEVENT
DTSTART;TZID=Europe/Berlin:20230618T100000
DTEND;TZID=Europe/Berlin:20230618T110000
DTSTAMP:20260422T104941
CREATED:20230524T105800Z
LAST-MODIFIED:20230524T105800Z
UID:8263-1687082400-1687086000@weimar-evangelisch.de
SUMMARY:Gottesdienst
DESCRIPTION:Lektorin Dietlind Steinhöfel
URL:https://weimar-evangelisch.de/veranstaltung/gottesdienst-57/
LOCATION:Süßenborn „Zu den Vierzehn Heiligen“\, Kirchweg 2\, Süßenborn\, Thüringen\, 99425\, Deutschland
CATEGORIES:Gottesdienste
ATTACH;FMTTYPE=image/jpeg:https://weimar-evangelisch.de/wp-content/uploads/2022/03/vierzehn_heiligen_suessenborn_06.jpg
END:VEVENT
BEGIN:VEVENT
DTSTART;TZID=Europe/Berlin:20230610T170000
DTEND;TZID=Europe/Berlin:20230610T180000
DTSTAMP:20260422T104941
CREATED:20230525T115007Z
LAST-MODIFIED:20230525T115007Z
UID:8326-1686416400-1686420000@weimar-evangelisch.de
SUMMARY:"Im Grünen\, da geht alles gut“ - Frühlingskonzert
DESCRIPTION:Kammerchor Collegium Canticum\n \n  \n  \n  \n 
URL:https://weimar-evangelisch.de/veranstaltung/im-gruenen-da-geht-alles-gut-fruehlingskonzert/
LOCATION:Süßenborn „Zu den Vierzehn Heiligen“\, Kirchweg 2\, Süßenborn\, Thüringen\, 99425\, Deutschland
CATEGORIES:Veranstaltungen
ATTACH;FMTTYPE=image/jpeg:https://weimar-evangelisch.de/wp-content/uploads/2022/03/vierzehn_heiligen_suessenborn_06.jpg
END:VEVENT
BEGIN:VEVENT
DTSTART;TZID=Europe/Berlin:20230528T100000
DTEND;TZID=Europe/Berlin:20230528T110000
DTSTAMP:20260422T104941
CREATED:20230412T120412Z
LAST-MODIFIED:20230412T120412Z
UID:7810-1685268000-1685271600@weimar-evangelisch.de
SUMMARY:Familiengottesdienst zu Pfingstsonntag
DESCRIPTION:Pfarrerin Dr. Teresa Tenbergen
URL:https://weimar-evangelisch.de/veranstaltung/familiengottesdienst-zu-pfingstsonntag/
LOCATION:Süßenborn „Zu den Vierzehn Heiligen“\, Kirchweg 2\, Süßenborn\, Thüringen\, 99425\, Deutschland
CATEGORIES:Gottesdienste
ATTACH;FMTTYPE=image/jpeg:https://weimar-evangelisch.de/wp-content/uploads/2022/03/vierzehn_heiligen_suessenborn_06.jpg
END:VEVENT
BEGIN:VEVENT
DTSTART;TZID=Europe/Berlin:20230507T100000
DTEND;TZID=Europe/Berlin:20230507T110000
DTSTAMP:20260422T104941
CREATED:20230412T120515Z
LAST-MODIFIED:20230502T090730Z
UID:7812-1683453600-1683457200@weimar-evangelisch.de
SUMMARY:Musikalischer Gottesdienst
DESCRIPTION:Lektorin Dietlind Steinhöfel
URL:https://weimar-evangelisch.de/veranstaltung/gottesdienst-53/
LOCATION:Süßenborn „Zu den Vierzehn Heiligen“\, Kirchweg 2\, Süßenborn\, Thüringen\, 99425\, Deutschland
CATEGORIES:Gottesdienste
ATTACH;FMTTYPE=image/jpeg:https://weimar-evangelisch.de/wp-content/uploads/2022/03/vierzehn_heiligen_suessenborn_06.jpg
END:VEVENT
BEGIN:VEVENT
DTSTART;TZID=Europe/Berlin:20230422T170000
DTEND;TZID=Europe/Berlin:20230422T174500
DTSTAMP:20260422T104941
CREATED:20230315T125912Z
LAST-MODIFIED:20230315T125912Z
UID:7595-1682182800-1682185500@weimar-evangelisch.de
SUMMARY:Vesper
DESCRIPTION:Pfarrerin Dr. Teresa Tenbergen
URL:https://weimar-evangelisch.de/veranstaltung/vesper-12/
LOCATION:Süßenborn „Zu den Vierzehn Heiligen“\, Kirchweg 2\, Süßenborn\, Thüringen\, 99425\, Deutschland
CATEGORIES:Gottesdienste
ATTACH;FMTTYPE=image/jpeg:https://weimar-evangelisch.de/wp-content/uploads/2022/03/vierzehn_heiligen_suessenborn_06.jpg
END:VEVENT
BEGIN:VEVENT
DTSTART;TZID=Europe/Berlin:20230409T100000
DTEND;TZID=Europe/Berlin:20230409T110000
DTSTAMP:20260422T104941
CREATED:20230315T124119Z
LAST-MODIFIED:20230315T124119Z
UID:7578-1681034400-1681038000@weimar-evangelisch.de
SUMMARY:Familiengottesdienst
DESCRIPTION:Lektorin Dielind Steinhöfel
URL:https://weimar-evangelisch.de/veranstaltung/familiengottesdienst-2/
LOCATION:Süßenborn „Zu den Vierzehn Heiligen“\, Kirchweg 2\, Süßenborn\, Thüringen\, 99425\, Deutschland
CATEGORIES:Gottesdienste
ATTACH;FMTTYPE=image/jpeg:https://weimar-evangelisch.de/wp-content/uploads/2022/03/vierzehn_heiligen_suessenborn_06.jpg
END:VEVENT
BEGIN:VEVENT
DTSTART;TZID=Europe/Berlin:20230407T160000
DTEND;TZID=Europe/Berlin:20230407T170000
DTSTAMP:20260422T104941
CREATED:20230315T120124Z
LAST-MODIFIED:20230315T120124Z
UID:7560-1680883200-1680886800@weimar-evangelisch.de
SUMMARY:Gottesdienst mit Abendmahl
DESCRIPTION:Lektorin Dietlind Steinhöfel
URL:https://weimar-evangelisch.de/veranstaltung/gottesdienst-mit-abendmahl-6/
LOCATION:Süßenborn „Zu den Vierzehn Heiligen“\, Kirchweg 2\, Süßenborn\, Thüringen\, 99425\, Deutschland
CATEGORIES:Gottesdienste
ATTACH;FMTTYPE=image/jpeg:https://weimar-evangelisch.de/wp-content/uploads/2022/03/vierzehn_heiligen_suessenborn_06.jpg
END:VEVENT
BEGIN:VEVENT
DTSTART;TZID=Europe/Berlin:20230318T170000
DTEND;TZID=Europe/Berlin:20230318T174500
DTSTAMP:20260422T104941
CREATED:20230228T104606Z
LAST-MODIFIED:20230228T104606Z
UID:7369-1679158800-1679161500@weimar-evangelisch.de
SUMMARY:Vesper
DESCRIPTION:Pfarrerin Teresa Tenbergen
URL:https://weimar-evangelisch.de/veranstaltung/vesper-10/
LOCATION:Süßenborn „Zu den Vierzehn Heiligen“\, Kirchweg 2\, Süßenborn\, Thüringen\, 99425\, Deutschland
CATEGORIES:Gottesdienste
ATTACH;FMTTYPE=image/jpeg:https://weimar-evangelisch.de/wp-content/uploads/2022/03/vierzehn_heiligen_suessenborn_06.jpg
END:VEVENT
BEGIN:VEVENT
DTSTART;TZID=Europe/Berlin:20230226T100000
DTEND;TZID=Europe/Berlin:20230226T103000
DTSTAMP:20260422T104941
CREATED:20230201T080413Z
LAST-MODIFIED:20230201T080413Z
UID:7201-1677405600-1677407400@weimar-evangelisch.de
SUMMARY:Gottesdienst
DESCRIPTION:Lektorin Dietlind Steinhöfel
URL:https://weimar-evangelisch.de/veranstaltung/gottesdienst-44/
LOCATION:Süßenborn „Zu den Vierzehn Heiligen“\, Kirchweg 2\, Süßenborn\, Thüringen\, 99425\, Deutschland
CATEGORIES:Gottesdienste
ATTACH;FMTTYPE=image/jpeg:https://weimar-evangelisch.de/wp-content/uploads/2022/03/vierzehn_heiligen_suessenborn_06.jpg
END:VEVENT
END:VCALENDAR