BEGIN:VCALENDAR
VERSION:2.0
PRODID:-//Weimar Evangelisch - ECPv6.6.1//NONSGML v1.0//EN
CALSCALE:GREGORIAN
METHOD:PUBLISH
X-WR-CALNAME:Weimar Evangelisch
X-ORIGINAL-URL:https://weimar-evangelisch.de
X-WR-CALDESC:Veranstaltungen für Weimar Evangelisch
REFRESH-INTERVAL;VALUE=DURATION:PT1H
X-Robots-Tag:noindex
X-PUBLISHED-TTL:PT1H
BEGIN:VTIMEZONE
TZID:Europe/Berlin
BEGIN:DAYLIGHT
TZOFFSETFROM:+0100
TZOFFSETTO:+0200
TZNAME:CEST
DTSTART:20230326T010000
END:DAYLIGHT
BEGIN:STANDARD
TZOFFSETFROM:+0200
TZOFFSETTO:+0100
TZNAME:CET
DTSTART:20231029T010000
END:STANDARD
BEGIN:DAYLIGHT
TZOFFSETFROM:+0100
TZOFFSETTO:+0200
TZNAME:CEST
DTSTART:20240331T010000
END:DAYLIGHT
BEGIN:STANDARD
TZOFFSETFROM:+0200
TZOFFSETTO:+0100
TZNAME:CET
DTSTART:20241027T010000
END:STANDARD
BEGIN:DAYLIGHT
TZOFFSETFROM:+0100
TZOFFSETTO:+0200
TZNAME:CEST
DTSTART:20250330T010000
END:DAYLIGHT
BEGIN:STANDARD
TZOFFSETFROM:+0200
TZOFFSETTO:+0100
TZNAME:CET
DTSTART:20251026T010000
END:STANDARD
BEGIN:DAYLIGHT
TZOFFSETFROM:+0100
TZOFFSETTO:+0200
TZNAME:CEST
DTSTART:20260329T010000
END:DAYLIGHT
BEGIN:STANDARD
TZOFFSETFROM:+0200
TZOFFSETTO:+0100
TZNAME:CET
DTSTART:20261025T010000
END:STANDARD
END:VTIMEZONE
BEGIN:VEVENT
DTSTART;TZID=Europe/Berlin:20260405T100000
DTEND;TZID=Europe/Berlin:20260405T110000
DTSTAMP:20260423T115958
CREATED:20260313T131224Z
LAST-MODIFIED:20260313T131224Z
UID:20901-1775383200-1775386800@weimar-evangelisch.de
SUMMARY:Gottesdienst
DESCRIPTION:Pfarrer Jürgen Uth
URL:https://weimar-evangelisch.de/veranstaltung/gottesdienst-194/
LOCATION:Kromsdorf\, Bei der Kirche\, Kromsdorf\, 99441 
CATEGORIES:Gottesdienste
ATTACH;FMTTYPE=image/jpeg:https://weimar-evangelisch.de/wp-content/uploads/2022/03/kirche_kromsdorf_09.jpg
END:VEVENT
BEGIN:VEVENT
DTSTART;TZID=Europe/Berlin:20260307T170000
DTEND;TZID=Europe/Berlin:20260307T180000
DTSTAMP:20260423T115958
CREATED:20260218T091607Z
LAST-MODIFIED:20260218T091607Z
UID:20750-1772902800-1772906400@weimar-evangelisch.de
SUMMARY:Gottesdienst
DESCRIPTION:Pfarrer Marcus Victor
URL:https://weimar-evangelisch.de/veranstaltung/gottesdienst-187/
LOCATION:Kromsdorf\, Bei der Kirche\, Kromsdorf\, 99441 
CATEGORIES:Gottesdienste
ATTACH;FMTTYPE=image/jpeg:https://weimar-evangelisch.de/wp-content/uploads/2022/03/kirche_kromsdorf_09.jpg
END:VEVENT
BEGIN:VEVENT
DTSTART;TZID=Europe/Berlin:20251220T170000
DTEND;TZID=Europe/Berlin:20251220T180000
DTSTAMP:20260423T115958
CREATED:20251121T104535Z
LAST-MODIFIED:20251121T104535Z
UID:19673-1766250000-1766253600@weimar-evangelisch.de
SUMMARY:Adventsliedersingen
DESCRIPTION:
URL:https://weimar-evangelisch.de/veranstaltung/adventsliedersingen/
LOCATION:Kromsdorf\, Bei der Kirche\, Kromsdorf\, 99441 
CATEGORIES:Gottesdienste
ATTACH;FMTTYPE=image/jpeg:https://weimar-evangelisch.de/wp-content/uploads/2022/03/kirche_kromsdorf_09.jpg
END:VEVENT
BEGIN:VEVENT
DTSTART;TZID=Europe/Berlin:20251111T170000
DTEND;TZID=Europe/Berlin:20251111T180000
DTSTAMP:20260423T115958
CREATED:20251024T114113Z
LAST-MODIFIED:20251024T114113Z
UID:19534-1762880400-1762884000@weimar-evangelisch.de
SUMMARY:Martinsfeier mit Martinsumzug
DESCRIPTION:
URL:https://weimar-evangelisch.de/veranstaltung/martinsfeier-mit-martinsumzug-2/
LOCATION:Kromsdorf\, Bei der Kirche\, Kromsdorf\, 99441 
CATEGORIES:Veranstaltungen
END:VEVENT
BEGIN:VEVENT
DTSTART;TZID=Europe/Berlin:20250927T140000
DTEND;TZID=Europe/Berlin:20250927T150000
DTSTAMP:20260423T115958
CREATED:20250828T115431Z
LAST-MODIFIED:20250828T115431Z
UID:18172-1758981600-1758985200@weimar-evangelisch.de
SUMMARY:Gottesdienst zum Erntedank
DESCRIPTION:Pfarrer Marcus Victor
URL:https://weimar-evangelisch.de/veranstaltung/gottesdienst-zum-erntedank/
LOCATION:Kromsdorf\, Bei der Kirche\, Kromsdorf\, 99441 
CATEGORIES:Gottesdienste
ATTACH;FMTTYPE=image/jpeg:https://weimar-evangelisch.de/wp-content/uploads/2022/03/kirche_kromsdorf_09.jpg
END:VEVENT
BEGIN:VEVENT
DTSTART;TZID=Europe/Berlin:20250914T090000
DTEND;TZID=Europe/Berlin:20250914T100000
DTSTAMP:20260423T115958
CREATED:20250828T114455Z
LAST-MODIFIED:20250828T114455Z
UID:18163-1757840400-1757844000@weimar-evangelisch.de
SUMMARY:Festgottesdienst
DESCRIPTION:875 Jahre Kromsdorf \nPfarrer Marcus Victor
URL:https://weimar-evangelisch.de/veranstaltung/festgottesdienst-2/
LOCATION:Kromsdorf\, Bei der Kirche\, Kromsdorf\, 99441 
CATEGORIES:Gottesdienste
ATTACH;FMTTYPE=image/jpeg:https://weimar-evangelisch.de/wp-content/uploads/2022/03/kirche_kromsdorf_09.jpg
END:VEVENT
BEGIN:VEVENT
DTSTART;TZID=Europe/Berlin:20250418T140000
DTEND;TZID=Europe/Berlin:20250418T150000
DTSTAMP:20260423T115958
CREATED:20250331T100930Z
LAST-MODIFIED:20250331T100930Z
UID:17449-1744984800-1744988400@weimar-evangelisch.de
SUMMARY:Abendmahlsgottesdienst
DESCRIPTION:Pfarrer Marcus Victor
URL:https://weimar-evangelisch.de/veranstaltung/abendmahlsgottesdienst-2/
LOCATION:Kromsdorf\, Bei der Kirche\, Kromsdorf\, 99441 
CATEGORIES:Gottesdienste
ATTACH;FMTTYPE=image/jpeg:https://weimar-evangelisch.de/wp-content/uploads/2022/03/kirche_kromsdorf_09.jpg
END:VEVENT
BEGIN:VEVENT
DTSTART;TZID=Europe/Berlin:20250308T170000
DTEND;TZID=Europe/Berlin:20250308T180000
DTSTAMP:20260423T115958
CREATED:20250226T124537Z
LAST-MODIFIED:20250226T124551Z
UID:15246-1741453200-1741456800@weimar-evangelisch.de
SUMMARY:Gottesdienst
DESCRIPTION:Pfarrer Marcus Victor
URL:https://weimar-evangelisch.de/veranstaltung/gottesdienst-147/
LOCATION:Kromsdorf\, Bei der Kirche\, Kromsdorf\, 99441 
CATEGORIES:Gottesdienste
ATTACH;FMTTYPE=image/jpeg:https://weimar-evangelisch.de/wp-content/uploads/2022/03/kirche_kromsdorf_09.jpg
END:VEVENT
BEGIN:VEVENT
DTSTART;TZID=Europe/Berlin:20241221T170000
DTEND;TZID=Europe/Berlin:20241221T180000
DTSTAMP:20260423T115958
CREATED:20241129T095449Z
LAST-MODIFIED:20241129T095449Z
UID:13449-1734800400-1734804000@weimar-evangelisch.de
SUMMARY:Weihnachtsliedersingen
DESCRIPTION:
URL:https://weimar-evangelisch.de/veranstaltung/weihnachtsliedersingen/
LOCATION:Kromsdorf\, Bei der Kirche\, Kromsdorf\, 99441 
CATEGORIES:Gottesdienste
ATTACH;FMTTYPE=image/jpeg:https://weimar-evangelisch.de/wp-content/uploads/2022/03/kirche_kromsdorf_09.jpg
END:VEVENT
BEGIN:VEVENT
DTSTART;TZID=Europe/Berlin:20241013T083000
DTEND;TZID=Europe/Berlin:20241013T093000
DTSTAMP:20260423T115958
CREATED:20241008T134030Z
LAST-MODIFIED:20241008T134030Z
UID:13112-1728808200-1728811800@weimar-evangelisch.de
SUMMARY:Gottesdienst
DESCRIPTION:Pfarrer Marcus Victor
URL:https://weimar-evangelisch.de/veranstaltung/gottesdienst-121/
LOCATION:Kromsdorf\, Bei der Kirche\, Kromsdorf\, 99441 
CATEGORIES:Gottesdienste
ATTACH;FMTTYPE=image/jpeg:https://weimar-evangelisch.de/wp-content/uploads/2022/03/kirche_kromsdorf_09.jpg
END:VEVENT
BEGIN:VEVENT
DTSTART;TZID=Europe/Berlin:20240623T083000
DTEND;TZID=Europe/Berlin:20240623T093000
DTSTAMP:20260423T115958
CREATED:20231221T105359Z
LAST-MODIFIED:20240530T114901Z
UID:11167-1719131400-1719135000@weimar-evangelisch.de
SUMMARY:Gottesdienst
DESCRIPTION:Pfarrer Marcus Victor \n 
URL:https://weimar-evangelisch.de/veranstaltung/gottesdienst-85-2024-06-23/
LOCATION:Kromsdorf\, Bei der Kirche\, Kromsdorf\, 99441 
CATEGORIES:Gottesdienste
ATTACH;FMTTYPE=image/jpeg:https://weimar-evangelisch.de/wp-content/uploads/2022/03/kirche_kromsdorf_09.jpg
END:VEVENT
BEGIN:VEVENT
DTSTART;TZID=Europe/Berlin:20230702T083000
DTEND;TZID=Europe/Berlin:20230702T093000
DTSTAMP:20260423T115958
CREATED:20220624T082915Z
LAST-MODIFIED:20230622T090643Z
UID:5105-1688286600-1688290200@weimar-evangelisch.de
SUMMARY:Gottesdienst
DESCRIPTION:Pfarrer Marcus Victor
URL:https://weimar-evangelisch.de/veranstaltung/gottesdienst-16/
LOCATION:Kromsdorf\, Bei der Kirche\, Kromsdorf\, 99441 
CATEGORIES:Gottesdienste
ATTACH;FMTTYPE=image/jpeg:https://weimar-evangelisch.de/wp-content/uploads/2022/03/kirche_kromsdorf_09.jpg
END:VEVENT
BEGIN:VEVENT
DTSTART;TZID=Europe/Berlin:20230211T170000
DTEND;TZID=Europe/Berlin:20230211T173000
DTSTAMP:20260423T115958
CREATED:20230119T121757Z
LAST-MODIFIED:20230123T104051Z
UID:7098-1676134800-1676136600@weimar-evangelisch.de
SUMMARY:Vesper
DESCRIPTION:Pfarrer Marcus Victor
URL:https://weimar-evangelisch.de/veranstaltung/vesper-7/
LOCATION:Kromsdorf\, Bei der Kirche\, Kromsdorf\, 99441 
CATEGORIES:Gottesdienste
ATTACH;FMTTYPE=image/jpeg:https://weimar-evangelisch.de/wp-content/uploads/2022/03/kirche_kromsdorf_09.jpg
END:VEVENT
END:VCALENDAR