BEGIN:VCALENDAR
VERSION:2.0
PRODID:-//Weimar Evangelisch - ECPv6.6.1//NONSGML v1.0//EN
CALSCALE:GREGORIAN
METHOD:PUBLISH
X-ORIGINAL-URL:https://weimar-evangelisch.de
X-WR-CALDESC:Veranstaltungen für Weimar Evangelisch
REFRESH-INTERVAL;VALUE=DURATION:PT1H
X-Robots-Tag:noindex
X-PUBLISHED-TTL:PT1H
BEGIN:VTIMEZONE
TZID:Europe/Berlin
BEGIN:DAYLIGHT
TZOFFSETFROM:+0100
TZOFFSETTO:+0200
TZNAME:CEST
DTSTART:20230326T010000
END:DAYLIGHT
BEGIN:STANDARD
TZOFFSETFROM:+0200
TZOFFSETTO:+0100
TZNAME:CET
DTSTART:20231029T010000
END:STANDARD
END:VTIMEZONE
BEGIN:VEVENT
DTSTART;TZID=Europe/Berlin:20230702T100000
DTEND;TZID=Europe/Berlin:20230702T110000
DTSTAMP:20260424T201932
CREATED:20230621T103351Z
LAST-MODIFIED:20230621T103858Z
UID:8444-1688292000-1688295600@weimar-evangelisch.de
SUMMARY:Familienfreundlicher Gottesdienst
DESCRIPTION:Pfarrerin Dr. Teresa Tenbergen und Franz Schmiedt
URL:https://weimar-evangelisch.de/veranstaltung/gottesdienst-61/
LOCATION:Kreuzkirche\, Böhlaustraße 2\, Weimar\, Thüringen\, 99423\, Deutschland
CATEGORIES:Gottesdienste
ATTACH;FMTTYPE=image/jpeg:https://weimar-evangelisch.de/wp-content/uploads/2021/05/1090366.jpg
END:VEVENT
BEGIN:VEVENT
DTSTART;TZID=Europe/Berlin:20230625T100000
DTEND;TZID=Europe/Berlin:20230625T110000
DTSTAMP:20260424T201932
CREATED:20221207T100019Z
LAST-MODIFIED:20230524T115007Z
UID:6673-1687687200-1687690800@weimar-evangelisch.de
SUMMARY:Gottesdienst
DESCRIPTION:Pfarrerin Dr. Teresa Tenbergen
URL:https://weimar-evangelisch.de/veranstaltung/gottesdienst-34-2023-06-25/
LOCATION:Kreuzkirche\, Böhlaustraße 2\, Weimar\, Thüringen\, 99423\, Deutschland
CATEGORIES:Gottesdienste
ATTACH;FMTTYPE=image/jpeg:https://weimar-evangelisch.de/wp-content/uploads/2021/05/1090366.jpg
END:VEVENT
BEGIN:VEVENT
DTSTART;TZID=Europe/Berlin:20230618T100000
DTEND;TZID=Europe/Berlin:20230618T110000
DTSTAMP:20260424T201932
CREATED:20221207T100019Z
LAST-MODIFIED:20230524T104405Z
UID:6672-1687082400-1687086000@weimar-evangelisch.de
SUMMARY:Gottesdienst mit anschl. Gemeindefest
DESCRIPTION:Pfarrerin Dr. Teresa Tenbergen
URL:https://weimar-evangelisch.de/veranstaltung/gottesdienst-34-2023-06-18/
LOCATION:Kreuzkirche\, Böhlaustraße 2\, Weimar\, Thüringen\, 99423\, Deutschland
CATEGORIES:Gottesdienste
ATTACH;FMTTYPE=image/jpeg:https://weimar-evangelisch.de/wp-content/uploads/2021/05/1090366.jpg
END:VEVENT
BEGIN:VEVENT
DTSTART;TZID=Europe/Berlin:20230604T100000
DTEND;TZID=Europe/Berlin:20230604T110000
DTSTAMP:20260424T201932
CREATED:20221207T100019Z
LAST-MODIFIED:20230524T094311Z
UID:6670-1685872800-1685876400@weimar-evangelisch.de
SUMMARY:Gottesdienst
DESCRIPTION:Pfarrerin Dr. Teresa Tenbergen
URL:https://weimar-evangelisch.de/veranstaltung/gottesdienst-34-2023-06-04/
LOCATION:Kreuzkirche\, Böhlaustraße 2\, Weimar\, Thüringen\, 99423\, Deutschland
CATEGORIES:Gottesdienste
ATTACH;FMTTYPE=image/jpeg:https://weimar-evangelisch.de/wp-content/uploads/2021/05/1090366.jpg
END:VEVENT
BEGIN:VEVENT
DTSTART;TZID=Europe/Berlin:20230529T100000
DTEND;TZID=Europe/Berlin:20230529T110000
DTSTAMP:20260424T201932
CREATED:20230412T114944Z
LAST-MODIFIED:20230412T114944Z
UID:7805-1685354400-1685358000@weimar-evangelisch.de
SUMMARY:Familiengottesdienst zum Mehrgenerationentag
DESCRIPTION:Gemeindepädagoge Franz Schmiedt und Pfarrerin Dr. Teresa Tenbergen
URL:https://weimar-evangelisch.de/veranstaltung/familiengottesdienst-zum-mehrgenerationentag/
LOCATION:Kreuzkirche\, Böhlaustraße 2\, Weimar\, Thüringen\, 99423\, Deutschland
CATEGORIES:Gottesdienste
ATTACH;FMTTYPE=image/jpeg:https://weimar-evangelisch.de/wp-content/uploads/2022/01/Kreuzkirche_Weimar_s2528_0023.jpg
END:VEVENT
BEGIN:VEVENT
DTSTART;TZID=Europe/Berlin:20230528T100000
DTEND;TZID=Europe/Berlin:20230528T110000
DTSTAMP:20260424T201932
CREATED:20221207T100019Z
LAST-MODIFIED:20230412T085807Z
UID:6669-1685268000-1685271600@weimar-evangelisch.de
SUMMARY:Gottesdienst
DESCRIPTION:Lektorin Dietlind Steinhöfel
URL:https://weimar-evangelisch.de/veranstaltung/gottesdienst-34-2023-05-28/
LOCATION:Kreuzkirche\, Böhlaustraße 2\, Weimar\, Thüringen\, 99423\, Deutschland
CATEGORIES:Gottesdienste
ATTACH;FMTTYPE=image/jpeg:https://weimar-evangelisch.de/wp-content/uploads/2021/05/1090366.jpg
END:VEVENT
BEGIN:VEVENT
DTSTART;TZID=Europe/Berlin:20230521T100000
DTEND;TZID=Europe/Berlin:20230521T110000
DTSTAMP:20260424T201932
CREATED:20221207T100019Z
LAST-MODIFIED:20230412T085347Z
UID:6668-1684663200-1684666800@weimar-evangelisch.de
SUMMARY:Gottesdienst
DESCRIPTION:Pfarrerin Dr. Teresa Tenbergen
URL:https://weimar-evangelisch.de/veranstaltung/gottesdienst-34-2023-05-21/
LOCATION:Kreuzkirche\, Böhlaustraße 2\, Weimar\, Thüringen\, 99423\, Deutschland
CATEGORIES:Gottesdienste
ATTACH;FMTTYPE=image/jpeg:https://weimar-evangelisch.de/wp-content/uploads/2021/05/1090366.jpg
END:VEVENT
BEGIN:VEVENT
DTSTART;TZID=Europe/Berlin:20230514T100000
DTEND;TZID=Europe/Berlin:20230514T110000
DTSTAMP:20260424T201932
CREATED:20221207T100019Z
LAST-MODIFIED:20230412T081500Z
UID:6667-1684058400-1684062000@weimar-evangelisch.de
SUMMARY:Gottesdienst
DESCRIPTION:Gemeindepädagogin Evi Nachtigall
URL:https://weimar-evangelisch.de/veranstaltung/gottesdienst-34-2023-05-14/
LOCATION:Kreuzkirche\, Böhlaustraße 2\, Weimar\, Thüringen\, 99423\, Deutschland
CATEGORIES:Gottesdienste
ATTACH;FMTTYPE=image/jpeg:https://weimar-evangelisch.de/wp-content/uploads/2021/05/1090366.jpg
END:VEVENT
BEGIN:VEVENT
DTSTART;TZID=Europe/Berlin:20230507T100000
DTEND;TZID=Europe/Berlin:20230507T110000
DTSTAMP:20260424T201932
CREATED:20221207T100019Z
LAST-MODIFIED:20230425T065339Z
UID:6666-1683453600-1683457200@weimar-evangelisch.de
SUMMARY:Gottesdienst
DESCRIPTION:Pfarrerin Dr. Teresa Tenbergen
URL:https://weimar-evangelisch.de/veranstaltung/gottesdienst-34-2023-05-07/
LOCATION:Kreuzkirche\, Böhlaustraße 2\, Weimar\, Thüringen\, 99423\, Deutschland
CATEGORIES:Gottesdienste
ATTACH;FMTTYPE=image/jpeg:https://weimar-evangelisch.de/wp-content/uploads/2021/05/1090366.jpg
END:VEVENT
BEGIN:VEVENT
DTSTART;TZID=Europe/Berlin:20230430T100000
DTEND;TZID=Europe/Berlin:20230430T110000
DTSTAMP:20260424T201932
CREATED:20221207T100019Z
LAST-MODIFIED:20230420T084419Z
UID:6665-1682848800-1682852400@weimar-evangelisch.de
SUMMARY:Gottesdienst
DESCRIPTION:Pfarrerin Dr. Esther-Maria Wedler
URL:https://weimar-evangelisch.de/veranstaltung/gottesdienst-34-2023-04-30/
LOCATION:Kreuzkirche\, Böhlaustraße 2\, Weimar\, Thüringen\, 99423\, Deutschland
CATEGORIES:Gottesdienste
ATTACH;FMTTYPE=image/jpeg:https://weimar-evangelisch.de/wp-content/uploads/2021/05/1090366.jpg
END:VEVENT
BEGIN:VEVENT
DTSTART;TZID=Europe/Berlin:20230423T100000
DTEND;TZID=Europe/Berlin:20230423T110000
DTSTAMP:20260424T201932
CREATED:20221207T100019Z
LAST-MODIFIED:20230315T130034Z
UID:6664-1682244000-1682247600@weimar-evangelisch.de
SUMMARY:Gottesdienst
DESCRIPTION:Pfarrerin Dr. Teresa Tenbergen
URL:https://weimar-evangelisch.de/veranstaltung/gottesdienst-34-2023-04-23/
LOCATION:Kreuzkirche\, Böhlaustraße 2\, Weimar\, Thüringen\, 99423\, Deutschland
CATEGORIES:Gottesdienste
ATTACH;FMTTYPE=image/jpeg:https://weimar-evangelisch.de/wp-content/uploads/2021/05/1090366.jpg
END:VEVENT
BEGIN:VEVENT
DTSTART;TZID=Europe/Berlin:20230416T100000
DTEND;TZID=Europe/Berlin:20230416T110000
DTSTAMP:20260424T201932
CREATED:20221207T100019Z
LAST-MODIFIED:20230315T124818Z
UID:6663-1681639200-1681642800@weimar-evangelisch.de
SUMMARY:Gottesdienst
DESCRIPTION:Pfarrerin Dr. Teresa Tenbergen
URL:https://weimar-evangelisch.de/veranstaltung/gottesdienst-34-2023-04-16/
LOCATION:Kreuzkirche\, Böhlaustraße 2\, Weimar\, Thüringen\, 99423\, Deutschland
CATEGORIES:Gottesdienste
ATTACH;FMTTYPE=image/jpeg:https://weimar-evangelisch.de/wp-content/uploads/2021/05/1090366.jpg
END:VEVENT
BEGIN:VEVENT
DTSTART;TZID=Europe/Berlin:20230410T100000
DTEND;TZID=Europe/Berlin:20230410T110000
DTSTAMP:20260424T201932
CREATED:20230315T124841Z
LAST-MODIFIED:20230315T124841Z
UID:7589-1681120800-1681124400@weimar-evangelisch.de
SUMMARY:Gottesdienst
DESCRIPTION:Pfarrerin Dr. Teresa Tenbergen
URL:https://weimar-evangelisch.de/veranstaltung/gottesdienst-48/
LOCATION:Kreuzkirche\, Böhlaustraße 2\, Weimar\, Thüringen\, 99423\, Deutschland
CATEGORIES:Gottesdienste
ATTACH;FMTTYPE=image/jpeg:https://weimar-evangelisch.de/wp-content/uploads/2021/05/1090366.jpg
END:VEVENT
BEGIN:VEVENT
DTSTART;TZID=Europe/Berlin:20230409T100000
DTEND;TZID=Europe/Berlin:20230409T110000
DTSTAMP:20260424T201932
CREATED:20230315T123323Z
LAST-MODIFIED:20230315T123323Z
UID:7570-1681034400-1681038000@weimar-evangelisch.de
SUMMARY:Familiengottesdienst
DESCRIPTION:Franz Schmiedt und Pfarrerin Dr. Teresa Tenbergen
URL:https://weimar-evangelisch.de/veranstaltung/familiengottesdienst/
LOCATION:Kreuzkirche\, Böhlaustraße 2\, Weimar\, Thüringen\, 99423\, Deutschland
CATEGORIES:Gottesdienste
ATTACH;FMTTYPE=image/jpeg:https://weimar-evangelisch.de/wp-content/uploads/2022/01/Kreuzkirche_Weimar_s2528_0023.jpg
END:VEVENT
BEGIN:VEVENT
DTSTART;TZID=Europe/Berlin:20230409T054500
DTEND;TZID=Europe/Berlin:20230409T064500
DTSTAMP:20260424T201932
CREATED:20221207T100019Z
LAST-MODIFIED:20230315T122547Z
UID:6662-1681019100-1681022700@weimar-evangelisch.de
SUMMARY:Osternacht
DESCRIPTION:Pfarrerin Dr. Teresa Tenbergen
URL:https://weimar-evangelisch.de/veranstaltung/gottesdienst-34-2023-04-09/
LOCATION:Kreuzkirche\, Böhlaustraße 2\, Weimar\, Thüringen\, 99423\, Deutschland
CATEGORIES:Gottesdienste
ATTACH;FMTTYPE=image/jpeg:https://weimar-evangelisch.de/wp-content/uploads/2021/05/1090366.jpg
END:VEVENT
BEGIN:VEVENT
DTSTART;TZID=Europe/Berlin:20230407T150000
DTEND;TZID=Europe/Berlin:20230407T160000
DTSTAMP:20260424T201932
CREATED:20230315T115920Z
LAST-MODIFIED:20230315T115920Z
UID:7558-1680879600-1680883200@weimar-evangelisch.de
SUMMARY:Musikalische Andacht zur Sterbestunde Jesu
DESCRIPTION:Pfarrerin Dr. Teresa Tenbergen \nKreuzkirchen Kantorei
URL:https://weimar-evangelisch.de/veranstaltung/musikalische-andacht-zur-sterbestunde-jesu-2/
LOCATION:Kreuzkirche\, Böhlaustraße 2\, Weimar\, Thüringen\, 99423\, Deutschland
CATEGORIES:Gottesdienste,Veranstaltungen
ATTACH;FMTTYPE=image/jpeg:https://weimar-evangelisch.de/wp-content/uploads/2022/01/Kreuzkirche_Weimar_s2528_0023.jpg
END:VEVENT
BEGIN:VEVENT
DTSTART;TZID=Europe/Berlin:20230407T100000
DTEND;TZID=Europe/Berlin:20230407T110000
DTSTAMP:20260424T201932
CREATED:20240206T145043Z
LAST-MODIFIED:20240206T145043Z
UID:11627-1680861600-1680865200@weimar-evangelisch.de
SUMMARY:Gottesdienst
DESCRIPTION:Pfarrerin Anne Puhr
URL:https://weimar-evangelisch.de/veranstaltung/gottesdienst-96/
LOCATION:Kreuzkirche\, Böhlaustraße 2\, Weimar\, Thüringen\, 99423\, Deutschland
CATEGORIES:Gottesdienste
ATTACH;FMTTYPE=image/jpeg:https://weimar-evangelisch.de/wp-content/uploads/2022/01/Kreuzkirche_Weimar_s2528_0023.jpg
END:VEVENT
BEGIN:VEVENT
DTSTART;TZID=Europe/Berlin:20230407T100000
DTEND;TZID=Europe/Berlin:20230407T110000
DTSTAMP:20260424T201932
CREATED:20230315T112613Z
LAST-MODIFIED:20230315T114646Z
UID:7546-1680861600-1680865200@weimar-evangelisch.de
SUMMARY:Gottesdienst
DESCRIPTION:Pfarrerin Dr. Teresa Tenbergen
URL:https://weimar-evangelisch.de/veranstaltung/gottesdienst-46/
LOCATION:Kreuzkirche\, Böhlaustraße 2\, Weimar\, Thüringen\, 99423\, Deutschland
CATEGORIES:Gottesdienste
ATTACH;FMTTYPE=image/jpeg:https://weimar-evangelisch.de/wp-content/uploads/2022/01/Kreuzkirche_Weimar_s2528_0023.jpg
END:VEVENT
BEGIN:VEVENT
DTSTART;TZID=Europe/Berlin:20230402T113000
DTEND;TZID=Europe/Berlin:20230402T120000
DTSTAMP:20260424T201932
CREATED:20221229T133843Z
LAST-MODIFIED:20221229T134200Z
UID:6990-1680435000-1680436800@weimar-evangelisch.de
SUMMARY:Familienkirche
DESCRIPTION:
URL:https://weimar-evangelisch.de/veranstaltung/familienkirche-4-2023-04-09/
LOCATION:Kreuzkirche\, Böhlaustraße 2\, Weimar\, Thüringen\, 99423\, Deutschland
CATEGORIES:Gottesdienste
ATTACH;FMTTYPE=image/jpeg:https://weimar-evangelisch.de/wp-content/uploads/2022/03/Angebote_Kinder_und_Familie_jelleke-vanooteghem-uNWuSF4WwXc-unsplash.jpg
END:VEVENT
BEGIN:VEVENT
DTSTART;TZID=Europe/Berlin:20230402T100000
DTEND;TZID=Europe/Berlin:20230402T110000
DTSTAMP:20260424T201932
CREATED:20221207T100019Z
LAST-MODIFIED:20230315T104034Z
UID:6661-1680429600-1680433200@weimar-evangelisch.de
SUMMARY:Gottesdienst mit Abendmahl
DESCRIPTION:Pfarrerin Dr. Teresa Tenbergen
URL:https://weimar-evangelisch.de/veranstaltung/gottesdienst-34-2023-04-02/
LOCATION:Kreuzkirche\, Böhlaustraße 2\, Weimar\, Thüringen\, 99423\, Deutschland
CATEGORIES:Gottesdienste
ATTACH;FMTTYPE=image/jpeg:https://weimar-evangelisch.de/wp-content/uploads/2021/05/1090366.jpg
END:VEVENT
BEGIN:VEVENT
DTSTART;TZID=Europe/Berlin:20230326T100000
DTEND;TZID=Europe/Berlin:20230326T110000
DTSTAMP:20260424T201932
CREATED:20221207T100019Z
LAST-MODIFIED:20230315T122710Z
UID:6660-1679824800-1679828400@weimar-evangelisch.de
SUMMARY:Gottesdienst
DESCRIPTION:Lektor Paul Andreas Freyer
URL:https://weimar-evangelisch.de/veranstaltung/gottesdienst-34-2023-03-26/
LOCATION:Kreuzkirche\, Böhlaustraße 2\, Weimar\, Thüringen\, 99423\, Deutschland
CATEGORIES:Gottesdienste
ATTACH;FMTTYPE=image/jpeg:https://weimar-evangelisch.de/wp-content/uploads/2021/05/1090366.jpg
END:VEVENT
BEGIN:VEVENT
DTSTART;TZID=Europe/Berlin:20230319T100000
DTEND;TZID=Europe/Berlin:20230319T110000
DTSTAMP:20260424T201932
CREATED:20221207T100019Z
LAST-MODIFIED:20230228T104850Z
UID:6659-1679220000-1679223600@weimar-evangelisch.de
SUMMARY:Taufgottesdienst mit Taufgedächtnis
DESCRIPTION:Pfarrerin Dr. Teresa Tenbergen
URL:https://weimar-evangelisch.de/veranstaltung/gottesdienst-34-2023-03-19/
LOCATION:Kreuzkirche\, Böhlaustraße 2\, Weimar\, Thüringen\, 99423\, Deutschland
CATEGORIES:Gottesdienste
ATTACH;FMTTYPE=image/jpeg:https://weimar-evangelisch.de/wp-content/uploads/2021/05/1090366.jpg
END:VEVENT
BEGIN:VEVENT
DTSTART;TZID=Europe/Berlin:20230312T100000
DTEND;TZID=Europe/Berlin:20230312T110000
DTSTAMP:20260424T201932
CREATED:20221207T100019Z
LAST-MODIFIED:20230228T103718Z
UID:6658-1678615200-1678618800@weimar-evangelisch.de
SUMMARY:Gottesdienst
DESCRIPTION:Pfarrerin Dr. Teresa Tenbergen und Konfirmand*innen
URL:https://weimar-evangelisch.de/veranstaltung/gottesdienst-34-2023-03-12/
LOCATION:Kreuzkirche\, Böhlaustraße 2\, Weimar\, Thüringen\, 99423\, Deutschland
CATEGORIES:Gottesdienste
ATTACH;FMTTYPE=image/jpeg:https://weimar-evangelisch.de/wp-content/uploads/2021/05/1090366.jpg
END:VEVENT
BEGIN:VEVENT
DTSTART;TZID=Europe/Berlin:20230305T100000
DTEND;TZID=Europe/Berlin:20230305T110000
DTSTAMP:20260424T201932
CREATED:20221207T100019Z
LAST-MODIFIED:20230228T102957Z
UID:6657-1678010400-1678014000@weimar-evangelisch.de
SUMMARY:Gottesdienst
DESCRIPTION:Pfarrerin Dr. Teresa Tenbergen
URL:https://weimar-evangelisch.de/veranstaltung/gottesdienst-34-2023-03-05/
LOCATION:Kreuzkirche\, Böhlaustraße 2\, Weimar\, Thüringen\, 99423\, Deutschland
CATEGORIES:Gottesdienste
ATTACH;FMTTYPE=image/jpeg:https://weimar-evangelisch.de/wp-content/uploads/2021/05/1090366.jpg
END:VEVENT
BEGIN:VEVENT
DTSTART;TZID=Europe/Berlin:20230226T100000
DTEND;TZID=Europe/Berlin:20230226T110000
DTSTAMP:20260424T201932
CREATED:20221207T100019Z
LAST-MODIFIED:20230119T125222Z
UID:6656-1677405600-1677409200@weimar-evangelisch.de
SUMMARY:Gottesdienst
DESCRIPTION:Pfarrerin Dr. Teresa Tenbergen
URL:https://weimar-evangelisch.de/veranstaltung/gottesdienst-34-2023-02-26/
LOCATION:Kreuzkirche\, Böhlaustraße 2\, Weimar\, Thüringen\, 99423\, Deutschland
CATEGORIES:Gottesdienste
ATTACH;FMTTYPE=image/jpeg:https://weimar-evangelisch.de/wp-content/uploads/2021/05/1090366.jpg
END:VEVENT
BEGIN:VEVENT
DTSTART;TZID=Europe/Berlin:20230212T100000
DTEND;TZID=Europe/Berlin:20230212T110000
DTSTAMP:20260424T201932
CREATED:20221207T100019Z
LAST-MODIFIED:20230119T122023Z
UID:6654-1676196000-1676199600@weimar-evangelisch.de
SUMMARY:Gottesdienst
DESCRIPTION:Pfarrein Dr. Teresa Tenbergen
URL:https://weimar-evangelisch.de/veranstaltung/gottesdienst-34-2023-02-12/
LOCATION:Kreuzkirche\, Böhlaustraße 2\, Weimar\, Thüringen\, 99423\, Deutschland
CATEGORIES:Gottesdienste
ATTACH;FMTTYPE=image/jpeg:https://weimar-evangelisch.de/wp-content/uploads/2021/05/1090366.jpg
END:VEVENT
BEGIN:VEVENT
DTSTART;TZID=Europe/Berlin:20230129T100000
DTEND;TZID=Europe/Berlin:20230129T110000
DTSTAMP:20260424T201932
CREATED:20221207T100019Z
LAST-MODIFIED:20230104T095719Z
UID:6652-1674986400-1674990000@weimar-evangelisch.de
SUMMARY:Gottesdienst
DESCRIPTION:Pfarrerin Dr. Teresa Tenbergen
URL:https://weimar-evangelisch.de/veranstaltung/gottesdienst-34-2023-01-29/
LOCATION:Kreuzkirche\, Böhlaustraße 2\, Weimar\, Thüringen\, 99423\, Deutschland
CATEGORIES:Gottesdienste
ATTACH;FMTTYPE=image/jpeg:https://weimar-evangelisch.de/wp-content/uploads/2021/05/1090366.jpg
END:VEVENT
BEGIN:VEVENT
DTSTART;TZID=Europe/Berlin:20230122T100000
DTEND;TZID=Europe/Berlin:20230122T110000
DTSTAMP:20260424T201932
CREATED:20221207T100019Z
LAST-MODIFIED:20230105T102038Z
UID:6651-1674381600-1674385200@weimar-evangelisch.de
SUMMARY:Gottesdienst mit anschließender Gemeindeversammlung
DESCRIPTION:Pfarrerin Dr. Teresa Tenbergen
URL:https://weimar-evangelisch.de/veranstaltung/gottesdienst-34-2023-01-22/
LOCATION:Kreuzkirche\, Böhlaustraße 2\, Weimar\, Thüringen\, 99423\, Deutschland
CATEGORIES:Gottesdienste,Veranstaltungen
ATTACH;FMTTYPE=image/jpeg:https://weimar-evangelisch.de/wp-content/uploads/2021/05/1090366.jpg
END:VEVENT
BEGIN:VEVENT
DTSTART;TZID=Europe/Berlin:20230115T100000
DTEND;TZID=Europe/Berlin:20230115T110000
DTSTAMP:20260424T201932
CREATED:20221207T100019Z
LAST-MODIFIED:20221207T101247Z
UID:6650-1673776800-1673780400@weimar-evangelisch.de
SUMMARY:Gottesdienst
DESCRIPTION:Pfarrerin Dr. Teresa Tenbergen
URL:https://weimar-evangelisch.de/veranstaltung/gottesdienst-34-2023-01-15/
LOCATION:Kreuzkirche\, Böhlaustraße 2\, Weimar\, Thüringen\, 99423\, Deutschland
CATEGORIES:Gottesdienste
ATTACH;FMTTYPE=image/jpeg:https://weimar-evangelisch.de/wp-content/uploads/2021/05/1090366.jpg
END:VEVENT
BEGIN:VEVENT
DTSTART;TZID=Europe/Berlin:20230108T100000
DTEND;TZID=Europe/Berlin:20230108T110000
DTSTAMP:20260424T201932
CREATED:20221207T100019Z
LAST-MODIFIED:20221207T100447Z
UID:6648-1673172000-1673175600@weimar-evangelisch.de
SUMMARY:Gottesdienst
DESCRIPTION:Superintendent Henrich Herbst
URL:https://weimar-evangelisch.de/veranstaltung/gottesdienst-34/
LOCATION:Kreuzkirche\, Böhlaustraße 2\, Weimar\, Thüringen\, 99423\, Deutschland
CATEGORIES:Gottesdienste
ATTACH;FMTTYPE=image/jpeg:https://weimar-evangelisch.de/wp-content/uploads/2021/05/1090366.jpg
END:VEVENT
END:VCALENDAR