BEGIN:VCALENDAR
VERSION:2.0
PRODID:-//Weimar Evangelisch - ECPv6.6.1//NONSGML v1.0//EN
CALSCALE:GREGORIAN
METHOD:PUBLISH
X-ORIGINAL-URL:https://weimar-evangelisch.de
X-WR-CALDESC:Veranstaltungen für Weimar Evangelisch
REFRESH-INTERVAL;VALUE=DURATION:PT1H
X-Robots-Tag:noindex
X-PUBLISHED-TTL:PT1H
BEGIN:VTIMEZONE
TZID:Europe/Berlin
BEGIN:DAYLIGHT
TZOFFSETFROM:+0100
TZOFFSETTO:+0200
TZNAME:CEST
DTSTART:20230326T010000
END:DAYLIGHT
BEGIN:STANDARD
TZOFFSETFROM:+0200
TZOFFSETTO:+0100
TZNAME:CET
DTSTART:20231029T010000
END:STANDARD
BEGIN:DAYLIGHT
TZOFFSETFROM:+0100
TZOFFSETTO:+0200
TZNAME:CEST
DTSTART:20240331T010000
END:DAYLIGHT
BEGIN:STANDARD
TZOFFSETFROM:+0200
TZOFFSETTO:+0100
TZNAME:CET
DTSTART:20241027T010000
END:STANDARD
END:VTIMEZONE
BEGIN:VEVENT
DTSTART;TZID=Europe/Berlin:20240107T100000
DTEND;TZID=Europe/Berlin:20240107T110000
DTSTAMP:20260424T185648
CREATED:20231208T124309Z
LAST-MODIFIED:20231221T102715Z
UID:10798-1704621600-1704625200@weimar-evangelisch.de
SUMMARY:Gottesdienst
DESCRIPTION:Pfarrerin Anne Puhr
URL:https://weimar-evangelisch.de/veranstaltung/gottedienst/
LOCATION:Kreuzkirche\, Böhlaustraße 2\, Weimar\, Thüringen\, 99423\, Deutschland
CATEGORIES:Gottesdienste
ATTACH;FMTTYPE=image/jpeg:https://weimar-evangelisch.de/wp-content/uploads/2021/05/1090366.jpg
END:VEVENT
BEGIN:VEVENT
DTSTART;TZID=Europe/Berlin:20240106T170000
DTEND;TZID=Europe/Berlin:20240106T180000
DTSTAMP:20260424T185648
CREATED:20231208T081349Z
LAST-MODIFIED:20231208T081358Z
UID:10222-1704560400-1704564000@weimar-evangelisch.de
SUMMARY:Vesper zum Epiphaniasfest
DESCRIPTION:mit Einführung von Pfarrerin Anne Puhr \n  \nSuperintendent Henrich Herbst und Pfarrerin Anne Puhr
URL:https://weimar-evangelisch.de/veranstaltung/vesper-zum-epiphaniasfest/
LOCATION:Kreuzkirche\, Böhlaustraße 2\, Weimar\, Thüringen\, 99423\, Deutschland
CATEGORIES:Gottesdienste
ATTACH;FMTTYPE=image/jpeg:https://weimar-evangelisch.de/wp-content/uploads/2022/01/Kreuzkirche_Weimar_s2528_0023.jpg
END:VEVENT
BEGIN:VEVENT
DTSTART;TZID=Europe/Berlin:20231231T170000
DTEND;TZID=Europe/Berlin:20231231T180000
DTSTAMP:20260424T185648
CREATED:20231207T123524Z
LAST-MODIFIED:20231207T123524Z
UID:10208-1704042000-1704045600@weimar-evangelisch.de
SUMMARY:Gottesdienst zum Jahresausklang
DESCRIPTION:Superintendent Henrich Herbst \n 
URL:https://weimar-evangelisch.de/veranstaltung/gottesdienst-zum-jahresausklang-3/
LOCATION:Kreuzkirche\, Böhlaustraße 2\, Weimar\, Thüringen\, 99423\, Deutschland
CATEGORIES:Gottesdienste
ATTACH;FMTTYPE=image/jpeg:https://weimar-evangelisch.de/wp-content/uploads/2021/05/1090366.jpg
END:VEVENT
BEGIN:VEVENT
DTSTART;TZID=Europe/Berlin:20231226T100000
DTEND;TZID=Europe/Berlin:20231226T110000
DTSTAMP:20260424T185648
CREATED:20231207T121913Z
LAST-MODIFIED:20231207T121913Z
UID:10191-1703584800-1703588400@weimar-evangelisch.de
SUMMARY:Gottesdienst zum 2. Christtag
DESCRIPTION:Sup. Henrich Herbst
URL:https://weimar-evangelisch.de/veranstaltung/gottesdienst-zum-2-christtag-5/
LOCATION:Kreuzkirche\, Böhlaustraße 2\, Weimar\, Thüringen\, 99423\, Deutschland
CATEGORIES:Gottesdienste
ATTACH;FMTTYPE=image/jpeg:https://weimar-evangelisch.de/wp-content/uploads/2022/01/Kreuzkirche_Weimar_s2528_0023.jpg
END:VEVENT
BEGIN:VEVENT
DTSTART;TZID=Europe/Berlin:20231224T180000
DTEND;TZID=Europe/Berlin:20231224T190000
DTSTAMP:20260424T185648
CREATED:20231124T124224Z
LAST-MODIFIED:20231124T124224Z
UID:9849-1703440800-1703444400@weimar-evangelisch.de
SUMMARY:Christvesper
DESCRIPTION:Lektor André Poppowitsch
URL:https://weimar-evangelisch.de/veranstaltung/christvesper-6/
LOCATION:Kreuzkirche\, Böhlaustraße 2\, Weimar\, Thüringen\, 99423\, Deutschland
CATEGORIES:Gottesdienste
ATTACH;FMTTYPE=image/jpeg:https://weimar-evangelisch.de/wp-content/uploads/2022/01/Kreuzkirche_Weimar_s2528_0023.jpg
END:VEVENT
BEGIN:VEVENT
DTSTART;TZID=Europe/Berlin:20231224T160000
DTEND;TZID=Europe/Berlin:20231224T170000
DTSTAMP:20260424T185648
CREATED:20231124T124655Z
LAST-MODIFIED:20231124T124746Z
UID:9854-1703433600-1703437200@weimar-evangelisch.de
SUMMARY:Krippenspiel im Kirchgarten
DESCRIPTION:Gemeindepädagogin Evi Nachtigall
URL:https://weimar-evangelisch.de/veranstaltung/krippenspiel-im-kirchgarten/
LOCATION:Kreuzkirche\, Böhlaustraße 2\, Weimar\, Thüringen\, 99423\, Deutschland
CATEGORIES:Gottesdienste,Veranstaltungen
ATTACH;FMTTYPE=image/jpeg:https://weimar-evangelisch.de/wp-content/uploads/2022/12/2009-Sperling-Seitenansicht-mit-Garten.jpg
END:VEVENT
BEGIN:VEVENT
DTSTART;TZID=Europe/Berlin:20231223T170000
DTEND;TZID=Europe/Berlin:20231223T180000
DTSTAMP:20260424T185648
CREATED:20231207T114903Z
LAST-MODIFIED:20231207T114903Z
UID:10179-1703350800-1703354400@weimar-evangelisch.de
SUMMARY:Nine Lessons & Carols
DESCRIPTION:Die Englische Weihnachts-Andacht wird gemeinsam von Rev. Scott A. Moore\, dem\nSt. Michael’s Choir\, und der evangelischen Kreuzkirchengemeinde gestaltet.
URL:https://weimar-evangelisch.de/veranstaltung/nine-lessons-carols/
LOCATION:Kreuzkirche\, Böhlaustraße 2\, Weimar\, Thüringen\, 99423\, Deutschland
CATEGORIES:Gottesdienste
ATTACH;FMTTYPE=image/jpeg:https://weimar-evangelisch.de/wp-content/uploads/2022/01/Kreuzkirche_Weimar_s2528_0023.jpg
END:VEVENT
BEGIN:VEVENT
DTSTART;TZID=Europe/Berlin:20231217T100000
DTEND;TZID=Europe/Berlin:20231217T110000
DTSTAMP:20260424T185648
CREATED:20230621T103351Z
LAST-MODIFIED:20231121T143924Z
UID:8467-1702807200-1702810800@weimar-evangelisch.de
SUMMARY:Gottesdienst
DESCRIPTION:Pfarrer Ulrich Spengler
URL:https://weimar-evangelisch.de/veranstaltung/gottesdienst-61-2023-12-17/
LOCATION:Kreuzkirche\, Böhlaustraße 2\, Weimar\, Thüringen\, 99423\, Deutschland
CATEGORIES:Gottesdienste
ATTACH;FMTTYPE=image/jpeg:https://weimar-evangelisch.de/wp-content/uploads/2021/05/1090366.jpg
END:VEVENT
BEGIN:VEVENT
DTSTART;TZID=Europe/Berlin:20231210T100000
DTEND;TZID=Europe/Berlin:20231210T110000
DTSTAMP:20260424T185648
CREATED:20230621T103351Z
LAST-MODIFIED:20231121T130405Z
UID:8466-1702202400-1702206000@weimar-evangelisch.de
SUMMARY:Gottesdienst
DESCRIPTION:Lektor André Poppowitsch
URL:https://weimar-evangelisch.de/veranstaltung/gottesdienst-61-2023-12-10/
LOCATION:Kreuzkirche\, Böhlaustraße 2\, Weimar\, Thüringen\, 99423\, Deutschland
CATEGORIES:Gottesdienste
ATTACH;FMTTYPE=image/jpeg:https://weimar-evangelisch.de/wp-content/uploads/2021/05/1090366.jpg
END:VEVENT
BEGIN:VEVENT
DTSTART;TZID=Europe/Berlin:20231203T170000
DTEND;TZID=Europe/Berlin:20231203T180000
DTSTAMP:20260424T185648
CREATED:20231121T131509Z
LAST-MODIFIED:20231121T131737Z
UID:9821-1701622800-1701626400@weimar-evangelisch.de
SUMMARY:Adventskonzert
DESCRIPTION:„Gloria“ von A. Vivaldi und Chormusik mit der Kantorei der Kreuzkirche und Instrumentalensemble.
URL:https://weimar-evangelisch.de/veranstaltung/adventskonzert-2/
LOCATION:Kreuzkirche\, Böhlaustraße 2\, Weimar\, Thüringen\, 99423\, Deutschland
CATEGORIES:Veranstaltungen
ATTACH;FMTTYPE=image/jpeg:https://weimar-evangelisch.de/wp-content/uploads/2022/01/Kreuzkirche_Weimar_s2528_0023.jpg
END:VEVENT
BEGIN:VEVENT
DTSTART;TZID=Europe/Berlin:20231203T100000
DTEND;TZID=Europe/Berlin:20231203T110000
DTSTAMP:20260424T185648
CREATED:20230621T103351Z
LAST-MODIFIED:20231121T122508Z
UID:8465-1701597600-1701601200@weimar-evangelisch.de
SUMMARY:Familiengottesdienst
DESCRIPTION:Gemeindepädagogin Evi Nachtigall
URL:https://weimar-evangelisch.de/veranstaltung/gottesdienst-61-2023-12-03/
LOCATION:Kreuzkirche\, Böhlaustraße 2\, Weimar\, Thüringen\, 99423\, Deutschland
CATEGORIES:Gottesdienste
ATTACH;FMTTYPE=image/jpeg:https://weimar-evangelisch.de/wp-content/uploads/2021/05/1090366.jpg
END:VEVENT
BEGIN:VEVENT
DTSTART;TZID=Europe/Berlin:20231126T100000
DTEND;TZID=Europe/Berlin:20231126T110000
DTSTAMP:20260424T185648
CREATED:20230621T103351Z
LAST-MODIFIED:20231103T125909Z
UID:8464-1700992800-1700996400@weimar-evangelisch.de
SUMMARY:Gottesdienst mit Abendmahl
DESCRIPTION:Lektor André Poppowitsch
URL:https://weimar-evangelisch.de/veranstaltung/gottesdienst-61-2023-11-26/
LOCATION:Kreuzkirche\, Böhlaustraße 2\, Weimar\, Thüringen\, 99423\, Deutschland
CATEGORIES:Gottesdienste
ATTACH;FMTTYPE=image/jpeg:https://weimar-evangelisch.de/wp-content/uploads/2021/05/1090366.jpg
END:VEVENT
BEGIN:VEVENT
DTSTART;TZID=Europe/Berlin:20231119T100000
DTEND;TZID=Europe/Berlin:20231119T110000
DTSTAMP:20260424T185648
CREATED:20230621T103351Z
LAST-MODIFIED:20231027T120713Z
UID:8463-1700388000-1700391600@weimar-evangelisch.de
SUMMARY:Gottesdienst
DESCRIPTION:Pfarrer Reinhard Werneburg
URL:https://weimar-evangelisch.de/veranstaltung/gottesdienst-61-2023-11-19/
LOCATION:Kreuzkirche\, Böhlaustraße 2\, Weimar\, Thüringen\, 99423\, Deutschland
CATEGORIES:Gottesdienste
ATTACH;FMTTYPE=image/jpeg:https://weimar-evangelisch.de/wp-content/uploads/2021/05/1090366.jpg
END:VEVENT
BEGIN:VEVENT
DTSTART;TZID=Europe/Berlin:20231112T100000
DTEND;TZID=Europe/Berlin:20231112T110000
DTSTAMP:20260424T185648
CREATED:20230621T103351Z
LAST-MODIFIED:20231027T120306Z
UID:8462-1699783200-1699786800@weimar-evangelisch.de
SUMMARY:Gottesdienst
DESCRIPTION:Lektor André Poppowitsch
URL:https://weimar-evangelisch.de/veranstaltung/gottesdienst-61-2023-11-12/
LOCATION:Kreuzkirche\, Böhlaustraße 2\, Weimar\, Thüringen\, 99423\, Deutschland
CATEGORIES:Gottesdienste
ATTACH;FMTTYPE=image/jpeg:https://weimar-evangelisch.de/wp-content/uploads/2021/05/1090366.jpg
END:VEVENT
BEGIN:VEVENT
DTSTART;TZID=Europe/Berlin:20231105T100000
DTEND;TZID=Europe/Berlin:20231105T110000
DTSTAMP:20260424T185648
CREATED:20230621T103351Z
LAST-MODIFIED:20231027T114931Z
UID:8461-1699178400-1699182000@weimar-evangelisch.de
SUMMARY:Gottesdienst
DESCRIPTION:Pfarrerin Dorothea Heller
URL:https://weimar-evangelisch.de/veranstaltung/gottesdienst-61-2023-11-05/
LOCATION:Kreuzkirche\, Böhlaustraße 2\, Weimar\, Thüringen\, 99423\, Deutschland
CATEGORIES:Gottesdienste
ATTACH;FMTTYPE=image/jpeg:https://weimar-evangelisch.de/wp-content/uploads/2021/05/1090366.jpg
END:VEVENT
BEGIN:VEVENT
DTSTART;TZID=Europe/Berlin:20231029T100000
DTEND;TZID=Europe/Berlin:20231029T110000
DTSTAMP:20260424T185648
CREATED:20230621T103351Z
LAST-MODIFIED:20230928T092350Z
UID:8460-1698573600-1698577200@weimar-evangelisch.de
SUMMARY:Gottesdienst
DESCRIPTION:Lektor André Poppowitsch
URL:https://weimar-evangelisch.de/veranstaltung/gottesdienst-61-2023-10-29/
LOCATION:Kreuzkirche\, Böhlaustraße 2\, Weimar\, Thüringen\, 99423\, Deutschland
CATEGORIES:Gottesdienste
ATTACH;FMTTYPE=image/jpeg:https://weimar-evangelisch.de/wp-content/uploads/2021/05/1090366.jpg
END:VEVENT
BEGIN:VEVENT
DTSTART;TZID=Europe/Berlin:20231022T100000
DTEND;TZID=Europe/Berlin:20231022T110000
DTSTAMP:20260424T185648
CREATED:20230621T103351Z
LAST-MODIFIED:20230928T091533Z
UID:8459-1697968800-1697972400@weimar-evangelisch.de
SUMMARY:Gottesdienst
DESCRIPTION:Posaunenchor der Kreuzkirche \n  \nPfarrerin Dr. Constance Hartung
URL:https://weimar-evangelisch.de/veranstaltung/gottesdienst-61-2023-10-22/
LOCATION:Kreuzkirche\, Böhlaustraße 2\, Weimar\, Thüringen\, 99423\, Deutschland
CATEGORIES:Gottesdienste
ATTACH;FMTTYPE=image/jpeg:https://weimar-evangelisch.de/wp-content/uploads/2021/05/1090366.jpg
END:VEVENT
BEGIN:VEVENT
DTSTART;TZID=Europe/Berlin:20231008T100000
DTEND;TZID=Europe/Berlin:20231008T110000
DTSTAMP:20260424T185648
CREATED:20230621T103351Z
LAST-MODIFIED:20230927T081846Z
UID:8457-1696759200-1696762800@weimar-evangelisch.de
SUMMARY:Gottesdienst
DESCRIPTION:Superintendent Henrich Herbst
URL:https://weimar-evangelisch.de/veranstaltung/gottesdienst-61-2023-10-08/
LOCATION:Kreuzkirche\, Böhlaustraße 2\, Weimar\, Thüringen\, 99423\, Deutschland
CATEGORIES:Gottesdienste
ATTACH;FMTTYPE=image/jpeg:https://weimar-evangelisch.de/wp-content/uploads/2021/05/1090366.jpg
END:VEVENT
BEGIN:VEVENT
DTSTART;TZID=Europe/Berlin:20231001T100000
DTEND;TZID=Europe/Berlin:20231001T110000
DTSTAMP:20260424T185648
CREATED:20230621T103351Z
LAST-MODIFIED:20230817T110332Z
UID:8456-1696154400-1696158000@weimar-evangelisch.de
SUMMARY:Gottesdienst
DESCRIPTION:Lektor André Poppowitsch
URL:https://weimar-evangelisch.de/veranstaltung/gottesdienst-61-2023-10-01/
LOCATION:Kreuzkirche\, Böhlaustraße 2\, Weimar\, Thüringen\, 99423\, Deutschland
CATEGORIES:Gottesdienste
ATTACH;FMTTYPE=image/jpeg:https://weimar-evangelisch.de/wp-content/uploads/2021/05/1090366.jpg
END:VEVENT
BEGIN:VEVENT
DTSTART;TZID=Europe/Berlin:20230924T100000
DTEND;TZID=Europe/Berlin:20230924T110000
DTSTAMP:20260424T185648
CREATED:20230621T103351Z
LAST-MODIFIED:20230817T105647Z
UID:8455-1695549600-1695553200@weimar-evangelisch.de
SUMMARY:Vorstellungsgottesdienst
DESCRIPTION:Kandidatin Pfarrerin Anna Puhr
URL:https://weimar-evangelisch.de/veranstaltung/gottesdienst-61-2023-09-24/
LOCATION:Kreuzkirche\, Böhlaustraße 2\, Weimar\, Thüringen\, 99423\, Deutschland
CATEGORIES:Gottesdienste
ATTACH;FMTTYPE=image/jpeg:https://weimar-evangelisch.de/wp-content/uploads/2021/05/1090366.jpg
END:VEVENT
BEGIN:VEVENT
DTSTART;TZID=Europe/Berlin:20230917T100000
DTEND;TZID=Europe/Berlin:20230917T110000
DTSTAMP:20260424T185648
CREATED:20230621T103351Z
LAST-MODIFIED:20230816T115352Z
UID:8454-1694944800-1694948400@weimar-evangelisch.de
SUMMARY:Gottesdienst
DESCRIPTION:Lektor André Poppowitsch
URL:https://weimar-evangelisch.de/veranstaltung/gottesdienst-61-2023-09-17/
LOCATION:Kreuzkirche\, Böhlaustraße 2\, Weimar\, Thüringen\, 99423\, Deutschland
CATEGORIES:Gottesdienste
ATTACH;FMTTYPE=image/jpeg:https://weimar-evangelisch.de/wp-content/uploads/2021/05/1090366.jpg
END:VEVENT
BEGIN:VEVENT
DTSTART;TZID=Europe/Berlin:20230910T100000
DTEND;TZID=Europe/Berlin:20230910T110000
DTSTAMP:20260424T185648
CREATED:20230621T103351Z
LAST-MODIFIED:20230816T114825Z
UID:8453-1694340000-1694343600@weimar-evangelisch.de
SUMMARY:Gottesdienst
DESCRIPTION:Lektor Paul-Andreas Freyer
URL:https://weimar-evangelisch.de/veranstaltung/gottesdienst-61-2023-09-10/
LOCATION:Kreuzkirche\, Böhlaustraße 2\, Weimar\, Thüringen\, 99423\, Deutschland
CATEGORIES:Gottesdienste
ATTACH;FMTTYPE=image/jpeg:https://weimar-evangelisch.de/wp-content/uploads/2021/05/1090366.jpg
END:VEVENT
BEGIN:VEVENT
DTSTART;TZID=Europe/Berlin:20230903T100000
DTEND;TZID=Europe/Berlin:20230903T110000
DTSTAMP:20260424T185648
CREATED:20230621T103351Z
LAST-MODIFIED:20230816T113252Z
UID:8452-1693735200-1693738800@weimar-evangelisch.de
SUMMARY:Gottesdienst
DESCRIPTION:Superintendent Henrich Herbst
URL:https://weimar-evangelisch.de/veranstaltung/gottesdienst-61-2023-09-03/
LOCATION:Kreuzkirche\, Böhlaustraße 2\, Weimar\, Thüringen\, 99423\, Deutschland
CATEGORIES:Gottesdienste
ATTACH;FMTTYPE=image/jpeg:https://weimar-evangelisch.de/wp-content/uploads/2021/05/1090366.jpg
END:VEVENT
BEGIN:VEVENT
DTSTART;TZID=Europe/Berlin:20230827T100000
DTEND;TZID=Europe/Berlin:20230827T110000
DTSTAMP:20260424T185648
CREATED:20230621T103351Z
LAST-MODIFIED:20230719T080123Z
UID:8451-1693130400-1693134000@weimar-evangelisch.de
SUMMARY:Familiengottesdienst zum Schulanfang
DESCRIPTION:Franz Schmiedt und Pfarrerin Dr. Teresa Tenbergen
URL:https://weimar-evangelisch.de/veranstaltung/gottesdienst-61-2023-08-27/
LOCATION:Kreuzkirche\, Böhlaustraße 2\, Weimar\, Thüringen\, 99423\, Deutschland
CATEGORIES:Gottesdienste
ATTACH;FMTTYPE=image/jpeg:https://weimar-evangelisch.de/wp-content/uploads/2021/05/1090366.jpg
END:VEVENT
BEGIN:VEVENT
DTSTART;TZID=Europe/Berlin:20230820T100000
DTEND;TZID=Europe/Berlin:20230820T110000
DTSTAMP:20260424T185648
CREATED:20230621T103351Z
LAST-MODIFIED:20230719T074703Z
UID:8450-1692525600-1692529200@weimar-evangelisch.de
SUMMARY:Gottesdienst
DESCRIPTION:Pfarrerin Dr. Teresa Tenbergen
URL:https://weimar-evangelisch.de/veranstaltung/gottesdienst-61-2023-08-20/
LOCATION:Kreuzkirche\, Böhlaustraße 2\, Weimar\, Thüringen\, 99423\, Deutschland
CATEGORIES:Gottesdienste
ATTACH;FMTTYPE=image/jpeg:https://weimar-evangelisch.de/wp-content/uploads/2021/05/1090366.jpg
END:VEVENT
BEGIN:VEVENT
DTSTART;TZID=Europe/Berlin:20230813T170000
DTEND;TZID=Europe/Berlin:20230813T180000
DTSTAMP:20260424T185648
CREATED:20230621T103710Z
LAST-MODIFIED:20230719T073410Z
UID:8470-1691946000-1691949600@weimar-evangelisch.de
SUMMARY:Gottesdienst
DESCRIPTION:Pfarrerin Karin Krapp
URL:https://weimar-evangelisch.de/veranstaltung/gottesdienst-63/
LOCATION:Kreuzkirche\, Böhlaustraße 2\, Weimar\, Thüringen\, 99423\, Deutschland
CATEGORIES:Gottesdienste
ATTACH;FMTTYPE=image/jpeg:https://weimar-evangelisch.de/wp-content/uploads/2021/05/1090366.jpg
END:VEVENT
BEGIN:VEVENT
DTSTART;TZID=Europe/Berlin:20230806T170000
DTEND;TZID=Europe/Berlin:20230806T180000
DTSTAMP:20260424T185648
CREATED:20230621T103640Z
LAST-MODIFIED:20230621T103640Z
UID:8468-1691341200-1691344800@weimar-evangelisch.de
SUMMARY:Gottesdienst
DESCRIPTION:Pfarrer Hardy Rylke
URL:https://weimar-evangelisch.de/veranstaltung/gottesdienst-62/
LOCATION:Kreuzkirche\, Böhlaustraße 2\, Weimar\, Thüringen\, 99423\, Deutschland
CATEGORIES:Gottesdienste
ATTACH;FMTTYPE=image/jpeg:https://weimar-evangelisch.de/wp-content/uploads/2021/05/1090366.jpg
END:VEVENT
BEGIN:VEVENT
DTSTART;TZID=Europe/Berlin:20230723T100000
DTEND;TZID=Europe/Berlin:20230723T110000
DTSTAMP:20260424T185648
CREATED:20230621T103351Z
LAST-MODIFIED:20230719T074952Z
UID:8448-1690106400-1690110000@weimar-evangelisch.de
SUMMARY:Gottesdienst
DESCRIPTION:Verabschiedung von Pfarrerin Dr. Teresa Tenbergen \nSuperintendent Henrich Herbst
URL:https://weimar-evangelisch.de/veranstaltung/gottesdienst-61-2023-07-23/
LOCATION:Kreuzkirche\, Böhlaustraße 2\, Weimar\, Thüringen\, 99423\, Deutschland
CATEGORIES:Gottesdienste
ATTACH;FMTTYPE=image/jpeg:https://weimar-evangelisch.de/wp-content/uploads/2021/05/1090366.jpg
END:VEVENT
BEGIN:VEVENT
DTSTART;TZID=Europe/Berlin:20230716T100000
DTEND;TZID=Europe/Berlin:20230716T110000
DTSTAMP:20260424T185648
CREATED:20230621T103351Z
LAST-MODIFIED:20230621T111300Z
UID:8447-1689501600-1689505200@weimar-evangelisch.de
SUMMARY:Gottesdienst
DESCRIPTION:Pfarrein Dr. Teressa Tenbergen
URL:https://weimar-evangelisch.de/veranstaltung/gottesdienst-61-2023-07-16/
LOCATION:Kreuzkirche\, Böhlaustraße 2\, Weimar\, Thüringen\, 99423\, Deutschland
CATEGORIES:Gottesdienste
ATTACH;FMTTYPE=image/jpeg:https://weimar-evangelisch.de/wp-content/uploads/2021/05/1090366.jpg
END:VEVENT
BEGIN:VEVENT
DTSTART;TZID=Europe/Berlin:20230709T100000
DTEND;TZID=Europe/Berlin:20230709T110000
DTSTAMP:20260424T185648
CREATED:20230621T103351Z
LAST-MODIFIED:20230621T110807Z
UID:8446-1688896800-1688900400@weimar-evangelisch.de
SUMMARY:Gottesdienst
DESCRIPTION:Pfarrerin Dr. Teresa Tenbergen
URL:https://weimar-evangelisch.de/veranstaltung/gottesdienst-61-2023-07-09/
LOCATION:Kreuzkirche\, Böhlaustraße 2\, Weimar\, Thüringen\, 99423\, Deutschland
CATEGORIES:Gottesdienste
ATTACH;FMTTYPE=image/jpeg:https://weimar-evangelisch.de/wp-content/uploads/2021/05/1090366.jpg
END:VEVENT
END:VCALENDAR