BEGIN:VCALENDAR
VERSION:2.0
PRODID:-//Weimar Evangelisch - ECPv6.6.1//NONSGML v1.0//EN
CALSCALE:GREGORIAN
METHOD:PUBLISH
X-WR-CALNAME:Weimar Evangelisch
X-ORIGINAL-URL:https://weimar-evangelisch.de
X-WR-CALDESC:Veranstaltungen für Weimar Evangelisch
REFRESH-INTERVAL;VALUE=DURATION:PT1H
X-Robots-Tag:noindex
X-PUBLISHED-TTL:PT1H
BEGIN:VTIMEZONE
TZID:Europe/Berlin
BEGIN:DAYLIGHT
TZOFFSETFROM:+0100
TZOFFSETTO:+0200
TZNAME:CEST
DTSTART:20240331T010000
END:DAYLIGHT
BEGIN:STANDARD
TZOFFSETFROM:+0200
TZOFFSETTO:+0100
TZNAME:CET
DTSTART:20241027T010000
END:STANDARD
BEGIN:DAYLIGHT
TZOFFSETFROM:+0100
TZOFFSETTO:+0200
TZNAME:CEST
DTSTART:20250330T010000
END:DAYLIGHT
BEGIN:STANDARD
TZOFFSETFROM:+0200
TZOFFSETTO:+0100
TZNAME:CET
DTSTART:20251026T010000
END:STANDARD
END:VTIMEZONE
BEGIN:VEVENT
DTSTART;TZID=Europe/Berlin:20250609T100000
DTEND;TZID=Europe/Berlin:20250609T110000
DTSTAMP:20260424T155353
CREATED:20250122T142733Z
LAST-MODIFIED:20250122T142733Z
UID:15019-1749463200-1749466800@weimar-evangelisch.de
SUMMARY:Gottesdienst zu Pfingstmontag
DESCRIPTION:Pfarrerin Anne Puhr
URL:https://weimar-evangelisch.de/veranstaltung/gottesdienst-zu-pfingstmontag-3/
LOCATION:Kreuzkirche\, Böhlaustraße 2\, Weimar\, Thüringen\, 99423\, Deutschland
CATEGORIES:Gottesdienste
ATTACH;FMTTYPE=image/jpeg:https://weimar-evangelisch.de/wp-content/uploads/2022/01/Kreuzkirche_Weimar_s2528_0023.jpg
END:VEVENT
BEGIN:VEVENT
DTSTART;TZID=Europe/Berlin:20250608T100000
DTEND;TZID=Europe/Berlin:20250608T110000
DTSTAMP:20260424T155353
CREATED:20250331T092851Z
LAST-MODIFIED:20250603T123653Z
UID:17320-1749376800-1749380400@weimar-evangelisch.de
SUMMARY:Familiengottesdienst
DESCRIPTION:Pfarrerin Anne Puhr
URL:https://weimar-evangelisch.de/veranstaltung/gottesdienst-155-2025-06-08/
LOCATION:Kreuzkirche\, Böhlaustraße 2\, Weimar\, Thüringen\, 99423\, Deutschland
CATEGORIES:Gottesdienste
ATTACH;FMTTYPE=image/jpeg:https://weimar-evangelisch.de/wp-content/uploads/2021/05/1090366.jpg
END:VEVENT
BEGIN:VEVENT
DTSTART;TZID=Europe/Berlin:20250601T100000
DTEND;TZID=Europe/Berlin:20250601T110000
DTSTAMP:20260424T155353
CREATED:20250331T092851Z
LAST-MODIFIED:20250331T093507Z
UID:17318-1748772000-1748775600@weimar-evangelisch.de
SUMMARY:Gottesdienst
DESCRIPTION:Pfarrerin Anne Puhr
URL:https://weimar-evangelisch.de/veranstaltung/gottesdienst-155/2025-06-01/
LOCATION:Kreuzkirche\, Böhlaustraße 2\, Weimar\, Thüringen\, 99423\, Deutschland
CATEGORIES:Gottesdienste
ATTACH;FMTTYPE=image/jpeg:https://weimar-evangelisch.de/wp-content/uploads/2021/05/1090366.jpg
END:VEVENT
BEGIN:VEVENT
DTSTART;TZID=Europe/Berlin:20250525T113000
DTEND;TZID=Europe/Berlin:20250525T120000
DTSTAMP:20260424T155353
CREATED:20221229T133843Z
LAST-MODIFIED:20221229T133843Z
UID:14098-1748172600-1748174400@weimar-evangelisch.de
SUMMARY:Familienkirche
DESCRIPTION:
URL:https://weimar-evangelisch.de/veranstaltung/familienkirche-4/2025-05-25/
LOCATION:Kreuzkirche\, Böhlaustraße 2\, Weimar\, Thüringen\, 99423\, Deutschland
CATEGORIES:Gottesdienste
ATTACH;FMTTYPE=image/jpeg:https://weimar-evangelisch.de/wp-content/uploads/2022/03/Angebote_Kinder_und_Familie_jelleke-vanooteghem-uNWuSF4WwXc-unsplash.jpg
END:VEVENT
BEGIN:VEVENT
DTSTART;TZID=Europe/Berlin:20250525T100000
DTEND;TZID=Europe/Berlin:20250525T110000
DTSTAMP:20260424T155353
CREATED:20250331T092851Z
LAST-MODIFIED:20250331T093507Z
UID:17311-1748167200-1748170800@weimar-evangelisch.de
SUMMARY:Gottesdienst
DESCRIPTION:Pfarrerin Anne Puhr
URL:https://weimar-evangelisch.de/veranstaltung/gottesdienst-155/2025-05-25/
LOCATION:Kreuzkirche\, Böhlaustraße 2\, Weimar\, Thüringen\, 99423\, Deutschland
CATEGORIES:Gottesdienste
ATTACH;FMTTYPE=image/jpeg:https://weimar-evangelisch.de/wp-content/uploads/2021/05/1090366.jpg
END:VEVENT
BEGIN:VEVENT
DTSTART;TZID=Europe/Berlin:20250518T100000
DTEND;TZID=Europe/Berlin:20250518T110000
DTSTAMP:20260424T155353
CREATED:20250331T092851Z
LAST-MODIFIED:20250331T093507Z
UID:17309-1747562400-1747566000@weimar-evangelisch.de
SUMMARY:Gottesdienst
DESCRIPTION:Pfarrerin Anne Puhr
URL:https://weimar-evangelisch.de/veranstaltung/gottesdienst-155/2025-05-18/
LOCATION:Kreuzkirche\, Böhlaustraße 2\, Weimar\, Thüringen\, 99423\, Deutschland
CATEGORIES:Gottesdienste
ATTACH;FMTTYPE=image/jpeg:https://weimar-evangelisch.de/wp-content/uploads/2021/05/1090366.jpg
END:VEVENT
BEGIN:VEVENT
DTSTART;TZID=Europe/Berlin:20250511T100000
DTEND;TZID=Europe/Berlin:20250511T110000
DTSTAMP:20260424T155353
CREATED:20250331T092851Z
LAST-MODIFIED:20250509T114650Z
UID:17308-1746957600-1746961200@weimar-evangelisch.de
SUMMARY:Gottesdienst
DESCRIPTION:Pfarrerin Anne Puhr
URL:https://weimar-evangelisch.de/veranstaltung/gottesdienst-155-2025-05-11/
LOCATION:Kreuzkirche\, Böhlaustraße 2\, Weimar\, Thüringen\, 99423\, Deutschland
CATEGORIES:Gottesdienste
ATTACH;FMTTYPE=image/jpeg:https://weimar-evangelisch.de/wp-content/uploads/2021/05/1090366.jpg
END:VEVENT
BEGIN:VEVENT
DTSTART;TZID=Europe/Berlin:20250504T100000
DTEND;TZID=Europe/Berlin:20250504T110000
DTSTAMP:20260424T155353
CREATED:20250331T092851Z
LAST-MODIFIED:20250331T093502Z
UID:17307-1746352800-1746356400@weimar-evangelisch.de
SUMMARY:Gottesdienst
DESCRIPTION:Pfarrerin Anne Puhr
URL:https://weimar-evangelisch.de/veranstaltung/gottesdienst-155/2025-05-04/
LOCATION:Kreuzkirche\, Böhlaustraße 2\, Weimar\, Thüringen\, 99423\, Deutschland
CATEGORIES:Gottesdienste
ATTACH;FMTTYPE=image/jpeg:https://weimar-evangelisch.de/wp-content/uploads/2021/05/1090366.jpg
END:VEVENT
BEGIN:VEVENT
DTSTART;TZID=Europe/Berlin:20250427T113000
DTEND;TZID=Europe/Berlin:20250427T120000
DTSTAMP:20260424T155353
CREATED:20221229T133843Z
LAST-MODIFIED:20221229T133843Z
UID:14097-1745753400-1745755200@weimar-evangelisch.de
SUMMARY:Familienkirche
DESCRIPTION:
URL:https://weimar-evangelisch.de/veranstaltung/familienkirche-4/2025-04-27/
LOCATION:Kreuzkirche\, Böhlaustraße 2\, Weimar\, Thüringen\, 99423\, Deutschland
CATEGORIES:Gottesdienste
ATTACH;FMTTYPE=image/jpeg:https://weimar-evangelisch.de/wp-content/uploads/2022/03/Angebote_Kinder_und_Familie_jelleke-vanooteghem-uNWuSF4WwXc-unsplash.jpg
END:VEVENT
BEGIN:VEVENT
DTSTART;TZID=Europe/Berlin:20250427T100000
DTEND;TZID=Europe/Berlin:20250427T110000
DTSTAMP:20260424T155353
CREATED:20250331T092851Z
LAST-MODIFIED:20250331T093501Z
UID:17306-1745748000-1745751600@weimar-evangelisch.de
SUMMARY:Gottesdienst
DESCRIPTION:Pfarrerin Anne Puhr
URL:https://weimar-evangelisch.de/veranstaltung/gottesdienst-155/2025-04-27/
LOCATION:Kreuzkirche\, Böhlaustraße 2\, Weimar\, Thüringen\, 99423\, Deutschland
CATEGORIES:Gottesdienste
ATTACH;FMTTYPE=image/jpeg:https://weimar-evangelisch.de/wp-content/uploads/2021/05/1090366.jpg
END:VEVENT
BEGIN:VEVENT
DTSTART;TZID=Europe/Berlin:20250421T100000
DTEND;TZID=Europe/Berlin:20250421T110000
DTSTAMP:20260424T155353
CREATED:20250122T133830Z
LAST-MODIFIED:20250122T133830Z
UID:14999-1745229600-1745233200@weimar-evangelisch.de
SUMMARY:Gottesdienst
DESCRIPTION:Pfarrerin Anne Puhr
URL:https://weimar-evangelisch.de/veranstaltung/gottesdienst-144/
LOCATION:Kreuzkirche\, Böhlaustraße 2\, Weimar\, Thüringen\, 99423\, Deutschland
CATEGORIES:Gottesdienste
ATTACH;FMTTYPE=image/jpeg:https://weimar-evangelisch.de/wp-content/uploads/2021/05/1090366.jpg
END:VEVENT
BEGIN:VEVENT
DTSTART;TZID=Europe/Berlin:20250420T100000
DTEND;TZID=Europe/Berlin:20250420T110000
DTSTAMP:20260424T155353
CREATED:20250331T092851Z
LAST-MODIFIED:20250331T094918Z
UID:17305-1745143200-1745146800@weimar-evangelisch.de
SUMMARY:Familiengottesdienst
DESCRIPTION:Pfarrerin Anne Puhr \n  \nmit Posaunenchor
URL:https://weimar-evangelisch.de/veranstaltung/gottesdienst-155-2025-04-20/
LOCATION:Kreuzkirche\, Böhlaustraße 2\, Weimar\, Thüringen\, 99423\, Deutschland
CATEGORIES:Gottesdienste
ATTACH;FMTTYPE=image/jpeg:https://weimar-evangelisch.de/wp-content/uploads/2021/05/1090366.jpg
END:VEVENT
BEGIN:VEVENT
DTSTART;TZID=Europe/Berlin:20250420T054500
DTEND;TZID=Europe/Berlin:20250420T064500
DTSTAMP:20260424T155353
CREATED:20250331T095034Z
LAST-MODIFIED:20250331T095034Z
UID:17330-1745127900-1745131500@weimar-evangelisch.de
SUMMARY:Osternacht
DESCRIPTION:Pfarrerin Anne Puhr
URL:https://weimar-evangelisch.de/veranstaltung/osternacht-4/
LOCATION:Kreuzkirche\, Böhlaustraße 2\, Weimar\, Thüringen\, 99423\, Deutschland
CATEGORIES:Gottesdienste
ATTACH;FMTTYPE=image/jpeg:https://weimar-evangelisch.de/wp-content/uploads/2021/05/1090366.jpg
END:VEVENT
BEGIN:VEVENT
DTSTART;TZID=Europe/Berlin:20250418T150000
DTEND;TZID=Europe/Berlin:20250418T160000
DTSTAMP:20260424T155353
CREATED:20250122T131129Z
LAST-MODIFIED:20250325T145913Z
UID:14989-1744988400-1744992000@weimar-evangelisch.de
SUMMARY:Musikalische Andacht zur Sterbestunde Jesu
DESCRIPTION:Johannes-Passion von Heinrich Schütz\nAusführende sind:\nEvangelist – Ludvig Sjöstedt\nJesus-Worte – Maximilian Thom\nChorsolisten und die Kantorei der Kreuzkirche unter der Leitung von Brigitte Kliegel. Liturgin ist Pfarrerin Anne Puhr. \nEintritt frei
URL:https://weimar-evangelisch.de/veranstaltung/musikalische-andacht-zur-sterbestunde-jesu-5/
LOCATION:Kreuzkirche\, Böhlaustraße 2\, Weimar\, Thüringen\, 99423\, Deutschland
CATEGORIES:Gottesdienste,Veranstaltungen
ATTACH;FMTTYPE=image/jpeg:https://weimar-evangelisch.de/wp-content/uploads/2022/01/Kreuzkirche_Weimar_s2528_0023.jpg
END:VEVENT
BEGIN:VEVENT
DTSTART;TZID=Europe/Berlin:20250418T100000
DTEND;TZID=Europe/Berlin:20250418T110000
DTSTAMP:20260424T155353
CREATED:20240202T130326Z
LAST-MODIFIED:20250325T145308Z
UID:11574-1744970400-1744974000@weimar-evangelisch.de
SUMMARY:Gottesdienst mit Abendmahl
DESCRIPTION:Pfarrerin Anne Puhr
URL:https://weimar-evangelisch.de/veranstaltung/gottesdienst-94-2024-12-29/
LOCATION:Kreuzkirche\, Böhlaustraße 2\, Weimar\, Thüringen\, 99423\, Deutschland
CATEGORIES:Gottesdienste
ATTACH;FMTTYPE=image/jpeg:https://weimar-evangelisch.de/wp-content/uploads/2021/05/1090366.jpg
END:VEVENT
BEGIN:VEVENT
DTSTART;TZID=Europe/Berlin:20250413T100000
DTEND;TZID=Europe/Berlin:20250413T110000
DTSTAMP:20260424T155353
CREATED:20250331T092851Z
LAST-MODIFIED:20250331T093500Z
UID:17304-1744538400-1744542000@weimar-evangelisch.de
SUMMARY:Gottesdienst
DESCRIPTION:Pfarrerin Anne Puhr
URL:https://weimar-evangelisch.de/veranstaltung/gottesdienst-155/2025-04-13/
LOCATION:Kreuzkirche\, Böhlaustraße 2\, Weimar\, Thüringen\, 99423\, Deutschland
CATEGORIES:Gottesdienste
ATTACH;FMTTYPE=image/jpeg:https://weimar-evangelisch.de/wp-content/uploads/2021/05/1090366.jpg
END:VEVENT
BEGIN:VEVENT
DTSTART;TZID=Europe/Berlin:20250409T150000
DTEND;TZID=Europe/Berlin:20250409T210000
DTSTAMP:20260424T155353
CREATED:20250331T102717Z
LAST-MODIFIED:20250331T102717Z
UID:17453-1744210800-1744232400@weimar-evangelisch.de
SUMMARY:Dietrich Bonhoeffer – 80. Todestag am 9. April
DESCRIPTION:15 Uhr Einweihung der Bonhoeffer Gedenkstele in der Bonhoefferstraße\nzwischen Sparkasse Weimar-Nord und dem Café MP 48 (ehemals\nTAP)\, Marcel-Paul-Str. 48 \n16.30 Uhr Gedenkstätte Buchenwald kurzes Gedenken mit Lesung von zwei Texten \n  \n19.30 Uhr Gemeindeabend in der Kreuzkirche\n► Spielfilm „Die letzte Stufe“ – in der Hauptrolle Ulrich Tukur als Dietrich Bonhoeffer\n► Stücke aus dem „Bonhoeffer-Liedoratorium“ (M. Nagel\, D. Stork)\, gesungen von der Kantorei\n► Kleine Leihbücherei mit Literatur von und über Dietrich Bonhoeffer
URL:https://weimar-evangelisch.de/veranstaltung/dietrich-bonhoeffer-80-todestag-am-9-april/
LOCATION:Gedenkstätte Buchenwald\, Gedenkstätte Buchenwald\, Weimar
CATEGORIES:Veranstaltungen
ATTACH;FMTTYPE=image/jpeg:https://weimar-evangelisch.de/wp-content/uploads/2022/01/Kreuzkirche_Weimar_s2528_0023.jpg
END:VEVENT
BEGIN:VEVENT
DTSTART;TZID=Europe/Berlin:20250406T100000
DTEND;TZID=Europe/Berlin:20250406T110000
DTSTAMP:20260424T155353
CREATED:20250331T092851Z
LAST-MODIFIED:20250331T093459Z
UID:17303-1743933600-1743937200@weimar-evangelisch.de
SUMMARY:Gottesdienst
DESCRIPTION:Pfarrerin Anne Puhr
URL:https://weimar-evangelisch.de/veranstaltung/gottesdienst-155/2025-04-06/
LOCATION:Kreuzkirche\, Böhlaustraße 2\, Weimar\, Thüringen\, 99423\, Deutschland
CATEGORIES:Gottesdienste
ATTACH;FMTTYPE=image/jpeg:https://weimar-evangelisch.de/wp-content/uploads/2021/05/1090366.jpg
END:VEVENT
BEGIN:VEVENT
DTSTART;TZID=Europe/Berlin:20250330T100000
DTEND;TZID=Europe/Berlin:20250330T110000
DTSTAMP:20260424T155353
CREATED:20240202T130326Z
LAST-MODIFIED:20250226T131636Z
UID:13649-1743328800-1743332400@weimar-evangelisch.de
SUMMARY:Gottesdienst
DESCRIPTION:Pfarrerin Anne Puhr und den Konfirmand*innen
URL:https://weimar-evangelisch.de/veranstaltung/gottesdienst-94-2024-12-29-2025-03-30/
LOCATION:Kreuzkirche\, Böhlaustraße 2\, Weimar\, Thüringen\, 99423\, Deutschland
CATEGORIES:Gottesdienste
ATTACH;FMTTYPE=image/jpeg:https://weimar-evangelisch.de/wp-content/uploads/2021/05/1090366.jpg
END:VEVENT
BEGIN:VEVENT
DTSTART;TZID=Europe/Berlin:20250323T113000
DTEND;TZID=Europe/Berlin:20250323T120000
DTSTAMP:20260424T155353
CREATED:20221229T133843Z
LAST-MODIFIED:20221229T133843Z
UID:14096-1742729400-1742731200@weimar-evangelisch.de
SUMMARY:Familienkirche
DESCRIPTION:
URL:https://weimar-evangelisch.de/veranstaltung/familienkirche-4/2025-03-23/
LOCATION:Kreuzkirche\, Böhlaustraße 2\, Weimar\, Thüringen\, 99423\, Deutschland
CATEGORIES:Gottesdienste
ATTACH;FMTTYPE=image/jpeg:https://weimar-evangelisch.de/wp-content/uploads/2022/03/Angebote_Kinder_und_Familie_jelleke-vanooteghem-uNWuSF4WwXc-unsplash.jpg
END:VEVENT
BEGIN:VEVENT
DTSTART;TZID=Europe/Berlin:20250309T100000
DTEND;TZID=Europe/Berlin:20250309T110000
DTSTAMP:20260424T155353
CREATED:20240202T130326Z
LAST-MODIFIED:20250226T124928Z
UID:13646-1741514400-1741518000@weimar-evangelisch.de
SUMMARY:Gottesdienst mit Abendmahl
DESCRIPTION:Pfarrerin Anne Puhr
URL:https://weimar-evangelisch.de/veranstaltung/gottesdienst-94-2024-12-29-2025-03-09/
LOCATION:Kreuzkirche\, Böhlaustraße 2\, Weimar\, Thüringen\, 99423\, Deutschland
CATEGORIES:Gottesdienste
ATTACH;FMTTYPE=image/jpeg:https://weimar-evangelisch.de/wp-content/uploads/2021/05/1090366.jpg
END:VEVENT
BEGIN:VEVENT
DTSTART;TZID=Europe/Berlin:20250302T100000
DTEND;TZID=Europe/Berlin:20250302T110000
DTSTAMP:20260424T155353
CREATED:20240202T130326Z
LAST-MODIFIED:20250122T125333Z
UID:13645-1740909600-1740913200@weimar-evangelisch.de
SUMMARY:Gottesdienst
DESCRIPTION:Liturgie: Pfarrerin Anne Puhr \nPredigt zu einem Bild von Salvador Dalí: Pfarrer i.R. Dr. Herbert Specht
URL:https://weimar-evangelisch.de/veranstaltung/gottesdienst-94-2024-12-29-2025-03-02/
LOCATION:Kreuzkirche\, Böhlaustraße 2\, Weimar\, Thüringen\, 99423\, Deutschland
CATEGORIES:Gottesdienste
ATTACH;FMTTYPE=image/jpeg:https://weimar-evangelisch.de/wp-content/uploads/2021/05/1090366.jpg
END:VEVENT
BEGIN:VEVENT
DTSTART;TZID=Europe/Berlin:20250223T113000
DTEND;TZID=Europe/Berlin:20250223T120000
DTSTAMP:20260424T155353
CREATED:20221229T133843Z
LAST-MODIFIED:20221229T133843Z
UID:14095-1740310200-1740312000@weimar-evangelisch.de
SUMMARY:Familienkirche
DESCRIPTION:
URL:https://weimar-evangelisch.de/veranstaltung/familienkirche-4/2025-02-23/
LOCATION:Kreuzkirche\, Böhlaustraße 2\, Weimar\, Thüringen\, 99423\, Deutschland
CATEGORIES:Gottesdienste
ATTACH;FMTTYPE=image/jpeg:https://weimar-evangelisch.de/wp-content/uploads/2022/03/Angebote_Kinder_und_Familie_jelleke-vanooteghem-uNWuSF4WwXc-unsplash.jpg
END:VEVENT
BEGIN:VEVENT
DTSTART;TZID=Europe/Berlin:20250216T100000
DTEND;TZID=Europe/Berlin:20250216T110000
DTSTAMP:20260424T155353
CREATED:20240202T130326Z
LAST-MODIFIED:20250122T122701Z
UID:13643-1739700000-1739703600@weimar-evangelisch.de
SUMMARY:Gottesdienst
DESCRIPTION:Prädikantin Dietlind Steinhöfel
URL:https://weimar-evangelisch.de/veranstaltung/gottesdienst-94-2024-12-29-2025-02-16/
LOCATION:Kreuzkirche\, Böhlaustraße 2\, Weimar\, Thüringen\, 99423\, Deutschland
CATEGORIES:Gottesdienste
ATTACH;FMTTYPE=image/jpeg:https://weimar-evangelisch.de/wp-content/uploads/2021/05/1090366.jpg
END:VEVENT
BEGIN:VEVENT
DTSTART;TZID=Europe/Berlin:20250202T100000
DTEND;TZID=Europe/Berlin:20250202T110000
DTSTAMP:20260424T155353
CREATED:20240202T130326Z
LAST-MODIFIED:20250122T115219Z
UID:13641-1738490400-1738494000@weimar-evangelisch.de
SUMMARY:Gottesdienst mit Abendmahl
DESCRIPTION:Pfarrerin Anne Puhr
URL:https://weimar-evangelisch.de/veranstaltung/gottesdienst-94-2024-12-29-2025-02-02/
LOCATION:Kreuzkirche\, Böhlaustraße 2\, Weimar\, Thüringen\, 99423\, Deutschland
CATEGORIES:Gottesdienste
ATTACH;FMTTYPE=image/jpeg:https://weimar-evangelisch.de/wp-content/uploads/2021/05/1090366.jpg
END:VEVENT
BEGIN:VEVENT
DTSTART;TZID=Europe/Berlin:20250126T113000
DTEND;TZID=Europe/Berlin:20250126T120000
DTSTAMP:20260424T155353
CREATED:20221229T133843Z
LAST-MODIFIED:20250108T093112Z
UID:6983-1737891000-1737892800@weimar-evangelisch.de
SUMMARY:Familienkirche
DESCRIPTION:
URL:https://weimar-evangelisch.de/veranstaltung/familienkirche-4/2025-01-26/
LOCATION:Kreuzkirche\, Böhlaustraße 2\, Weimar\, Thüringen\, 99423\, Deutschland
CATEGORIES:Gottesdienste
ATTACH;FMTTYPE=image/jpeg:https://weimar-evangelisch.de/wp-content/uploads/2022/03/Angebote_Kinder_und_Familie_jelleke-vanooteghem-uNWuSF4WwXc-unsplash.jpg
END:VEVENT
BEGIN:VEVENT
DTSTART;TZID=Europe/Berlin:20250125T170000
DTEND;TZID=Europe/Berlin:20250125T180000
DTSTAMP:20260424T155353
CREATED:20250108T094002Z
LAST-MODIFIED:20250108T095728Z
UID:14105-1737824400-1737828000@weimar-evangelisch.de
SUMMARY:Abendmahlsgottesdienst in englischer Sprache
DESCRIPTION:Bischof\, the Right Rev. Mark D.W. Edington \n  \nInformationen zur St. Michael’s Church: https://www.stmichaelschurch.de/
URL:https://weimar-evangelisch.de/veranstaltung/abendmahlsgotetsdienst-in-englischer-sprache/
LOCATION:Kreuzkirche\, Böhlaustraße 2\, Weimar\, Thüringen\, 99423\, Deutschland
CATEGORIES:Gottesdienste
ATTACH;FMTTYPE=image/jpeg:https://weimar-evangelisch.de/wp-content/uploads/2022/01/Kreuzkirche_Weimar_s2528_0023.jpg
END:VEVENT
BEGIN:VEVENT
DTSTART;TZID=Europe/Berlin:20250119T100000
DTEND;TZID=Europe/Berlin:20250119T110000
DTSTAMP:20260424T155353
CREATED:20240202T130326Z
LAST-MODIFIED:20250108T091806Z
UID:13639-1737280800-1737284400@weimar-evangelisch.de
SUMMARY:Gottesdienst
DESCRIPTION:Lektorin Diana Fiedler
URL:https://weimar-evangelisch.de/veranstaltung/gottesdienst-94-2024-12-29-2025-01-19/
LOCATION:Kreuzkirche\, Böhlaustraße 2\, Weimar\, Thüringen\, 99423\, Deutschland
CATEGORIES:Gottesdienste
ATTACH;FMTTYPE=image/jpeg:https://weimar-evangelisch.de/wp-content/uploads/2021/05/1090366.jpg
END:VEVENT
BEGIN:VEVENT
DTSTART;TZID=Europe/Berlin:20250112T100000
DTEND;TZID=Europe/Berlin:20250112T110000
DTSTAMP:20260424T155353
CREATED:20240202T130326Z
LAST-MODIFIED:20250109T104206Z
UID:13638-1736676000-1736679600@weimar-evangelisch.de
SUMMARY:Gottesdienst
DESCRIPTION:Lektor Paul-Andreas Freyer
URL:https://weimar-evangelisch.de/veranstaltung/gottesdienst-94-2024-12-29-2025-01-12/
LOCATION:Kreuzkirche\, Böhlaustraße 2\, Weimar\, Thüringen\, 99423\, Deutschland
CATEGORIES:Gottesdienste
ATTACH;FMTTYPE=image/jpeg:https://weimar-evangelisch.de/wp-content/uploads/2021/05/1090366.jpg
END:VEVENT
BEGIN:VEVENT
DTSTART;TZID=Europe/Berlin:20241231T170000
DTEND;TZID=Europe/Berlin:20241231T180000
DTSTAMP:20260424T155353
CREATED:20241129T112415Z
LAST-MODIFIED:20241129T112415Z
UID:13513-1735664400-1735668000@weimar-evangelisch.de
SUMMARY:Gottesdienst zum Jahresausklang
DESCRIPTION:Pfarrerin Anne Puhr \n 
URL:https://weimar-evangelisch.de/veranstaltung/gottesdienst-zum-jahresausklang-4/
LOCATION:Kreuzkirche\, Böhlaustraße 2\, Weimar\, Thüringen\, 99423\, Deutschland
CATEGORIES:Gottesdienste
ATTACH;FMTTYPE=image/jpeg:https://weimar-evangelisch.de/wp-content/uploads/2021/05/1090366.jpg
END:VEVENT
END:VCALENDAR