BEGIN:VCALENDAR
VERSION:2.0
PRODID:-//Weimar Evangelisch - ECPv6.6.1//NONSGML v1.0//EN
CALSCALE:GREGORIAN
METHOD:PUBLISH
X-WR-CALNAME:Weimar Evangelisch
X-ORIGINAL-URL:https://weimar-evangelisch.de
X-WR-CALDESC:Veranstaltungen für Weimar Evangelisch
REFRESH-INTERVAL;VALUE=DURATION:PT1H
X-Robots-Tag:noindex
X-PUBLISHED-TTL:PT1H
BEGIN:VTIMEZONE
TZID:Europe/Berlin
BEGIN:DAYLIGHT
TZOFFSETFROM:+0100
TZOFFSETTO:+0200
TZNAME:CEST
DTSTART:20250330T010000
END:DAYLIGHT
BEGIN:STANDARD
TZOFFSETFROM:+0200
TZOFFSETTO:+0100
TZNAME:CET
DTSTART:20251026T010000
END:STANDARD
END:VTIMEZONE
BEGIN:VEVENT
DTSTART;TZID=Europe/Berlin:20251214T100000
DTEND;TZID=Europe/Berlin:20251214T110000
DTSTAMP:20260422T155942
CREATED:20251016T094644Z
LAST-MODIFIED:20251024T111113Z
UID:18654-1765706400-1765710000@weimar-evangelisch.de
SUMMARY:Gottesdienst
DESCRIPTION:Pfarrerin Anne Puhr
URL:https://weimar-evangelisch.de/veranstaltung/gottesdienst-169-2025-12-07/2025-12-14/
LOCATION:Kreuzkirche\, Böhlaustraße 2\, Weimar\, Thüringen\, 99423\, Deutschland
CATEGORIES:Gottesdienste
ATTACH;FMTTYPE=image/jpeg:https://weimar-evangelisch.de/wp-content/uploads/2021/05/1090366.jpg
END:VEVENT
BEGIN:VEVENT
DTSTART;TZID=Europe/Berlin:20251207T170000
DTEND;TZID=Europe/Berlin:20251207T180000
DTSTAMP:20260422T155942
CREATED:20251124T122441Z
LAST-MODIFIED:20251203T112339Z
UID:19759-1765126800-1765130400@weimar-evangelisch.de
SUMMARY:Adventskonzert „Mache dich auf\, werde Licht“
DESCRIPTION:Adventsmusik in der Kreuzkirche  \nChor- und Instrumentalmusik u.a. von Wolfgang Carl Briegel und Johann Sebastian Bach und dem Concerto F-Dur von Giuseppe Sammartini \nJosefine Hersel / Barock-Flöte\nInstrumentalensemble\nKantorei der Kreuzkirche\nLeitung – Brigitte Kliegel
URL:https://weimar-evangelisch.de/veranstaltung/adventskonzert-4/
LOCATION:Kreuzkirche\, Böhlaustraße 2\, Weimar\, Thüringen\, 99423\, Deutschland
CATEGORIES:Veranstaltungen
ATTACH;FMTTYPE=image/jpeg:https://weimar-evangelisch.de/wp-content/uploads/2022/01/Kreuzkirche_Weimar_s2528_0023.jpg
END:VEVENT
BEGIN:VEVENT
DTSTART;TZID=Europe/Berlin:20251207T113000
DTEND;TZID=Europe/Berlin:20251207T120000
DTSTAMP:20260422T155942
CREATED:20221229T133843Z
LAST-MODIFIED:20221229T133843Z
UID:14104-1765107000-1765108800@weimar-evangelisch.de
SUMMARY:Familienkirche
DESCRIPTION:
URL:https://weimar-evangelisch.de/veranstaltung/familienkirche-4/2025-12-07/
LOCATION:Kreuzkirche\, Böhlaustraße 2\, Weimar\, Thüringen\, 99423\, Deutschland
CATEGORIES:Gottesdienste
ATTACH;FMTTYPE=image/jpeg:https://weimar-evangelisch.de/wp-content/uploads/2022/03/Angebote_Kinder_und_Familie_jelleke-vanooteghem-uNWuSF4WwXc-unsplash.jpg
END:VEVENT
BEGIN:VEVENT
DTSTART;TZID=Europe/Berlin:20251207T100000
DTEND;TZID=Europe/Berlin:20251207T110000
DTSTAMP:20260422T155942
CREATED:20251016T094644Z
LAST-MODIFIED:20251024T111113Z
UID:18653-1765101600-1765105200@weimar-evangelisch.de
SUMMARY:Gottesdienst
DESCRIPTION:Pfarrerin Anne Puhr
URL:https://weimar-evangelisch.de/veranstaltung/gottesdienst-169-2025-12-07/2025-12-07/
LOCATION:Kreuzkirche\, Böhlaustraße 2\, Weimar\, Thüringen\, 99423\, Deutschland
CATEGORIES:Gottesdienste
ATTACH;FMTTYPE=image/jpeg:https://weimar-evangelisch.de/wp-content/uploads/2021/05/1090366.jpg
END:VEVENT
BEGIN:VEVENT
DTSTART;TZID=Europe/Berlin:20251130T100000
DTEND;TZID=Europe/Berlin:20251130T110000
DTSTAMP:20260422T155942
CREATED:20251016T094644Z
LAST-MODIFIED:20251024T111139Z
UID:18652-1764496800-1764500400@weimar-evangelisch.de
SUMMARY:Familiengottesdienst zum 1. Advent
DESCRIPTION:Pfarrerin Anne Puhr
URL:https://weimar-evangelisch.de/veranstaltung/gottesdienst-169-2025-11-30/
LOCATION:Kreuzkirche\, Böhlaustraße 2\, Weimar\, Thüringen\, 99423\, Deutschland
CATEGORIES:Gottesdienste
ATTACH;FMTTYPE=image/jpeg:https://weimar-evangelisch.de/wp-content/uploads/2021/05/1090366.jpg
END:VEVENT
BEGIN:VEVENT
DTSTART;TZID=Europe/Berlin:20251123T193000
DTEND;TZID=Europe/Berlin:20251123T210000
DTSTAMP:20260422T155942
CREATED:20251024T115428Z
LAST-MODIFIED:20251024T115428Z
UID:19546-1763926200-1763931600@weimar-evangelisch.de
SUMMARY:„Totentanz“
DESCRIPTION:Hugo Distler – Motette zum Ewigkeitssonntag\nMotetten von Heinrich Schütz\nWerkstattkonzert mit dem Studiochor der\nHochschule für Musik Weimar\nLeitung – Nathanael Vorwerck
URL:https://weimar-evangelisch.de/veranstaltung/totentanz/
LOCATION:Kreuzkirche\, Böhlaustraße 2\, Weimar\, Thüringen\, 99423\, Deutschland
CATEGORIES:Veranstaltungen
ATTACH;FMTTYPE=image/jpeg:https://weimar-evangelisch.de/wp-content/uploads/2022/01/Kreuzkirche_Weimar_s2528_0023.jpg
END:VEVENT
BEGIN:VEVENT
DTSTART;TZID=Europe/Berlin:20251123T100000
DTEND;TZID=Europe/Berlin:20251123T110000
DTSTAMP:20260422T155942
CREATED:20251016T094644Z
LAST-MODIFIED:20251024T110249Z
UID:18651-1763892000-1763895600@weimar-evangelisch.de
SUMMARY:Abendmahlsgottesdienst mit Chormusik
DESCRIPTION:Pfarrerin Anne Puhr
URL:https://weimar-evangelisch.de/veranstaltung/gottesdienst-169-2025-11-23/
LOCATION:Kreuzkirche\, Böhlaustraße 2\, Weimar\, Thüringen\, 99423\, Deutschland
CATEGORIES:Gottesdienste
ATTACH;FMTTYPE=image/jpeg:https://weimar-evangelisch.de/wp-content/uploads/2021/05/1090366.jpg
END:VEVENT
BEGIN:VEVENT
DTSTART;TZID=Europe/Berlin:20251116T113000
DTEND;TZID=Europe/Berlin:20251116T120000
DTSTAMP:20260422T155942
CREATED:20221229T133843Z
LAST-MODIFIED:20221229T133843Z
UID:14103-1763292600-1763294400@weimar-evangelisch.de
SUMMARY:Familienkirche
DESCRIPTION:
URL:https://weimar-evangelisch.de/veranstaltung/familienkirche-4/2025-11-16/
LOCATION:Kreuzkirche\, Böhlaustraße 2\, Weimar\, Thüringen\, 99423\, Deutschland
CATEGORIES:Gottesdienste
ATTACH;FMTTYPE=image/jpeg:https://weimar-evangelisch.de/wp-content/uploads/2022/03/Angebote_Kinder_und_Familie_jelleke-vanooteghem-uNWuSF4WwXc-unsplash.jpg
END:VEVENT
BEGIN:VEVENT
DTSTART;TZID=Europe/Berlin:20251116T100000
DTEND;TZID=Europe/Berlin:20251116T110000
DTSTAMP:20260422T155942
CREATED:20251016T094644Z
LAST-MODIFIED:20251024T094050Z
UID:18650-1763287200-1763290800@weimar-evangelisch.de
SUMMARY:Gottesdienst
DESCRIPTION:Pfarrerin Anne Puhr
URL:https://weimar-evangelisch.de/veranstaltung/gottesdienst-169-2025-11-16/
LOCATION:Kreuzkirche\, Böhlaustraße 2\, Weimar\, Thüringen\, 99423\, Deutschland
CATEGORIES:Gottesdienste
ATTACH;FMTTYPE=image/jpeg:https://weimar-evangelisch.de/wp-content/uploads/2021/05/1090366.jpg
END:VEVENT
BEGIN:VEVENT
DTSTART;TZID=Europe/Berlin:20251109T100000
DTEND;TZID=Europe/Berlin:20251109T110000
DTSTAMP:20260422T155942
CREATED:20251016T094644Z
LAST-MODIFIED:20251024T093434Z
UID:18649-1762682400-1762686000@weimar-evangelisch.de
SUMMARY:Gottesdienst mit festlicher Musik
DESCRIPTION:Pfarrerin Anne Puhr
URL:https://weimar-evangelisch.de/veranstaltung/gottesdienst-169-2025-11-09/
LOCATION:Kreuzkirche\, Böhlaustraße 2\, Weimar\, Thüringen\, 99423\, Deutschland
CATEGORIES:Gottesdienste
ATTACH;FMTTYPE=image/jpeg:https://weimar-evangelisch.de/wp-content/uploads/2021/05/1090366.jpg
END:VEVENT
BEGIN:VEVENT
DTSTART;TZID=Europe/Berlin:20251102T100000
DTEND;TZID=Europe/Berlin:20251102T110000
DTSTAMP:20260422T155942
CREATED:20251016T094644Z
LAST-MODIFIED:20251024T092811Z
UID:18648-1762077600-1762081200@weimar-evangelisch.de
SUMMARY:Gottesdienst
DESCRIPTION:Pfarrerin Anne Puhr
URL:https://weimar-evangelisch.de/veranstaltung/gottesdienst-169/
LOCATION:Kreuzkirche\, Böhlaustraße 2\, Weimar\, Thüringen\, 99423\, Deutschland
CATEGORIES:Gottesdienste
ATTACH;FMTTYPE=image/jpeg:https://weimar-evangelisch.de/wp-content/uploads/2021/05/1090366.jpg
END:VEVENT
BEGIN:VEVENT
DTSTART;TZID=Europe/Berlin:20251031T160000
DTEND;TZID=Europe/Berlin:20251031T170000
DTSTAMP:20260422T155942
CREATED:20250926T091343Z
LAST-MODIFIED:20250926T091343Z
UID:18269-1761926400-1761930000@weimar-evangelisch.de
SUMMARY:Konzertandacht zum Jubiläum „50 Jahre Posaunenchor“
DESCRIPTION:Pfarrerin Anne Puhr \nLandesposaunenwart Frank Plewka und Brigitte Kliegel
URL:https://weimar-evangelisch.de/veranstaltung/konzertandacht-zum-jubilaeum-50-jahre-posaunenchor/
LOCATION:Kreuzkirche\, Böhlaustraße 2\, Weimar\, Thüringen\, 99423\, Deutschland
CATEGORIES:Gottesdienste
ATTACH;FMTTYPE=image/jpeg:https://weimar-evangelisch.de/wp-content/uploads/2022/01/Kreuzkirche_Weimar_s2528_0023.jpg
END:VEVENT
BEGIN:VEVENT
DTSTART;TZID=Europe/Berlin:20251026T113000
DTEND;TZID=Europe/Berlin:20251026T120000
DTSTAMP:20260422T155942
CREATED:20221229T133843Z
LAST-MODIFIED:20221229T133843Z
UID:14102-1761478200-1761480000@weimar-evangelisch.de
SUMMARY:Familienkirche
DESCRIPTION:
URL:https://weimar-evangelisch.de/veranstaltung/familienkirche-4/2025-10-26/
LOCATION:Kreuzkirche\, Böhlaustraße 2\, Weimar\, Thüringen\, 99423\, Deutschland
CATEGORIES:Gottesdienste
ATTACH;FMTTYPE=image/jpeg:https://weimar-evangelisch.de/wp-content/uploads/2022/03/Angebote_Kinder_und_Familie_jelleke-vanooteghem-uNWuSF4WwXc-unsplash.jpg
END:VEVENT
BEGIN:VEVENT
DTSTART;TZID=Europe/Berlin:20251026T100000
DTEND;TZID=Europe/Berlin:20251026T110000
DTSTAMP:20260422T155942
CREATED:20250603T135629Z
LAST-MODIFIED:20250926T085201Z
UID:17919-1761472800-1761476400@weimar-evangelisch.de
SUMMARY:Gottesdienst
DESCRIPTION:Pfarrerin Anne Puhr
URL:https://weimar-evangelisch.de/veranstaltung/gottesdienst-162-2025-10-26/
LOCATION:Kreuzkirche\, Böhlaustraße 2\, Weimar\, Thüringen\, 99423\, Deutschland
CATEGORIES:Gottesdienste
ATTACH;FMTTYPE=image/jpeg:https://weimar-evangelisch.de/wp-content/uploads/2021/05/1090366.jpg
END:VEVENT
BEGIN:VEVENT
DTSTART;TZID=Europe/Berlin:20251019T100000
DTEND;TZID=Europe/Berlin:20251019T110000
DTSTAMP:20260422T155942
CREATED:20250603T135629Z
LAST-MODIFIED:20250926T083616Z
UID:17918-1760868000-1760871600@weimar-evangelisch.de
SUMMARY:Gottesdienst mit Abendmahl und Chormusik
DESCRIPTION:Pfarrerin Anne Puhr \nKreuzkirchenkantorei
URL:https://weimar-evangelisch.de/veranstaltung/gottesdienst-162-2025-10-19/
LOCATION:Kreuzkirche\, Böhlaustraße 2\, Weimar\, Thüringen\, 99423\, Deutschland
CATEGORIES:Gottesdienste
ATTACH;FMTTYPE=image/jpeg:https://weimar-evangelisch.de/wp-content/uploads/2021/05/1090366.jpg
END:VEVENT
BEGIN:VEVENT
DTSTART;TZID=Europe/Berlin:20251005T100000
DTEND;TZID=Europe/Berlin:20251005T110000
DTSTAMP:20260422T155942
CREATED:20250603T135629Z
LAST-MODIFIED:20250926T082038Z
UID:17916-1759658400-1759662000@weimar-evangelisch.de
SUMMARY:Familiengottesdienst zur Erntedank
DESCRIPTION:Pfarrerin Anne Puhr und Mascha Schneider
URL:https://weimar-evangelisch.de/veranstaltung/gottesdienst-162-2025-10-05/
LOCATION:Kreuzkirche\, Böhlaustraße 2\, Weimar\, Thüringen\, 99423\, Deutschland
CATEGORIES:Gottesdienste
ATTACH;FMTTYPE=image/jpeg:https://weimar-evangelisch.de/wp-content/uploads/2021/05/1090366.jpg
END:VEVENT
BEGIN:VEVENT
DTSTART;TZID=Europe/Berlin:20250928T113000
DTEND;TZID=Europe/Berlin:20250928T120000
DTSTAMP:20260422T155942
CREATED:20221229T133843Z
LAST-MODIFIED:20221229T133843Z
UID:14101-1759059000-1759060800@weimar-evangelisch.de
SUMMARY:Familienkirche
DESCRIPTION:
URL:https://weimar-evangelisch.de/veranstaltung/familienkirche-4/2025-09-28/
LOCATION:Kreuzkirche\, Böhlaustraße 2\, Weimar\, Thüringen\, 99423\, Deutschland
CATEGORIES:Gottesdienste
ATTACH;FMTTYPE=image/jpeg:https://weimar-evangelisch.de/wp-content/uploads/2022/03/Angebote_Kinder_und_Familie_jelleke-vanooteghem-uNWuSF4WwXc-unsplash.jpg
END:VEVENT
BEGIN:VEVENT
DTSTART;TZID=Europe/Berlin:20250914T100000
DTEND;TZID=Europe/Berlin:20250914T110000
DTSTAMP:20260422T155942
CREATED:20250603T135629Z
LAST-MODIFIED:20250827T114840Z
UID:17912-1757844000-1757847600@weimar-evangelisch.de
SUMMARY:Gottesdienst
DESCRIPTION:Pfarrerin Anne Puhr
URL:https://weimar-evangelisch.de/veranstaltung/gottesdienst-162-2025-09-14/
LOCATION:Kreuzkirche\, Böhlaustraße 2\, Weimar\, Thüringen\, 99423\, Deutschland
CATEGORIES:Gottesdienste
ATTACH;FMTTYPE=image/jpeg:https://weimar-evangelisch.de/wp-content/uploads/2021/05/1090366.jpg
END:VEVENT
BEGIN:VEVENT
DTSTART;TZID=Europe/Berlin:20250907T100000
DTEND;TZID=Europe/Berlin:20250907T110000
DTSTAMP:20260422T155942
CREATED:20250603T135629Z
LAST-MODIFIED:20250827T114240Z
UID:17911-1757239200-1757242800@weimar-evangelisch.de
SUMMARY:Gottesdienst mit Abendmahl
DESCRIPTION:Pfarrerin Anne Puhr
URL:https://weimar-evangelisch.de/veranstaltung/gottesdienst-162-2025-09-07/
LOCATION:Kreuzkirche\, Böhlaustraße 2\, Weimar\, Thüringen\, 99423\, Deutschland
CATEGORIES:Gottesdienste
ATTACH;FMTTYPE=image/jpeg:https://weimar-evangelisch.de/wp-content/uploads/2021/05/1090366.jpg
END:VEVENT
BEGIN:VEVENT
DTSTART;TZID=Europe/Berlin:20250831T113000
DTEND;TZID=Europe/Berlin:20250831T120000
DTSTAMP:20260422T155942
CREATED:20221229T133843Z
LAST-MODIFIED:20221229T133843Z
UID:14100-1756639800-1756641600@weimar-evangelisch.de
SUMMARY:Familienkirche
DESCRIPTION:
URL:https://weimar-evangelisch.de/veranstaltung/familienkirche-4/2025-08-31/
LOCATION:Kreuzkirche\, Böhlaustraße 2\, Weimar\, Thüringen\, 99423\, Deutschland
CATEGORIES:Gottesdienste
ATTACH;FMTTYPE=image/jpeg:https://weimar-evangelisch.de/wp-content/uploads/2022/03/Angebote_Kinder_und_Familie_jelleke-vanooteghem-uNWuSF4WwXc-unsplash.jpg
END:VEVENT
BEGIN:VEVENT
DTSTART;TZID=Europe/Berlin:20250810T100000
DTEND;TZID=Europe/Berlin:20250810T110000
DTSTAMP:20260422T155942
CREATED:20250603T135629Z
LAST-MODIFIED:20250710T101334Z
UID:17907-1754820000-1754823600@weimar-evangelisch.de
SUMMARY:Gottesdienst
DESCRIPTION:Lektor Dieter Erler
URL:https://weimar-evangelisch.de/veranstaltung/gottesdienst-162-2025-08-10/
LOCATION:Kreuzkirche\, Böhlaustraße 2\, Weimar\, Thüringen\, 99423\, Deutschland
CATEGORIES:Gottesdienste
ATTACH;FMTTYPE=image/jpeg:https://weimar-evangelisch.de/wp-content/uploads/2021/05/1090366.jpg
END:VEVENT
BEGIN:VEVENT
DTSTART;TZID=Europe/Berlin:20250803T100000
DTEND;TZID=Europe/Berlin:20250803T110000
DTSTAMP:20260422T155942
CREATED:20250603T135629Z
LAST-MODIFIED:20250710T100405Z
UID:17906-1754215200-1754218800@weimar-evangelisch.de
SUMMARY:Gottesdienst
DESCRIPTION:Lektorin Diana Fiedler
URL:https://weimar-evangelisch.de/veranstaltung/gottesdienst-162-2025-08-03/
LOCATION:Kreuzkirche\, Böhlaustraße 2\, Weimar\, Thüringen\, 99423\, Deutschland
CATEGORIES:Gottesdienste
ATTACH;FMTTYPE=image/jpeg:https://weimar-evangelisch.de/wp-content/uploads/2021/05/1090366.jpg
END:VEVENT
BEGIN:VEVENT
DTSTART;TZID=Europe/Berlin:20250727T100000
DTEND;TZID=Europe/Berlin:20250727T110000
DTSTAMP:20260422T155942
CREATED:20250603T135629Z
LAST-MODIFIED:20250603T135913Z
UID:17905-1753610400-1753614000@weimar-evangelisch.de
SUMMARY:Gottesdienst
DESCRIPTION:Lektorin Diana Fiedler
URL:https://weimar-evangelisch.de/veranstaltung/gottesdienst-162-2025-07-27/
LOCATION:Kreuzkirche\, Böhlaustraße 2\, Weimar\, Thüringen\, 99423\, Deutschland
CATEGORIES:Gottesdienste
ATTACH;FMTTYPE=image/jpeg:https://weimar-evangelisch.de/wp-content/uploads/2021/05/1090366.jpg
END:VEVENT
BEGIN:VEVENT
DTSTART;TZID=Europe/Berlin:20250720T100000
DTEND;TZID=Europe/Berlin:20250720T110000
DTSTAMP:20260422T155942
CREATED:20250603T135629Z
LAST-MODIFIED:20250603T135737Z
UID:17904-1753005600-1753009200@weimar-evangelisch.de
SUMMARY:Gottesdienst
DESCRIPTION:Pfarrer i.R. Reinhard Werneburg
URL:https://weimar-evangelisch.de/veranstaltung/gottesdienst-162-2025-07-20/
LOCATION:Kreuzkirche\, Böhlaustraße 2\, Weimar\, Thüringen\, 99423\, Deutschland
CATEGORIES:Gottesdienste
ATTACH;FMTTYPE=image/jpeg:https://weimar-evangelisch.de/wp-content/uploads/2021/05/1090366.jpg
END:VEVENT
BEGIN:VEVENT
DTSTART;TZID=Europe/Berlin:20250706T100000
DTEND;TZID=Europe/Berlin:20250706T110000
DTSTAMP:20260422T155942
CREATED:20250331T092851Z
LAST-MODIFIED:20250603T131741Z
UID:17327-1751796000-1751799600@weimar-evangelisch.de
SUMMARY:Gottesdienst
DESCRIPTION:Pfarrerin Anne Puhr
URL:https://weimar-evangelisch.de/veranstaltung/gottesdienst-155-2025-07-06/
LOCATION:Kreuzkirche\, Böhlaustraße 2\, Weimar\, Thüringen\, 99423\, Deutschland
CATEGORIES:Gottesdienste
ATTACH;FMTTYPE=image/jpeg:https://weimar-evangelisch.de/wp-content/uploads/2021/05/1090366.jpg
END:VEVENT
BEGIN:VEVENT
DTSTART;TZID=Europe/Berlin:20250629T100000
DTEND;TZID=Europe/Berlin:20250629T110000
DTSTAMP:20260422T155942
CREATED:20250331T092851Z
LAST-MODIFIED:20250603T130546Z
UID:17326-1751191200-1751194800@weimar-evangelisch.de
SUMMARY:Gottesdienst mit Abendmahl
DESCRIPTION:Pfarrerin Anne Puhr
URL:https://weimar-evangelisch.de/veranstaltung/gottesdienst-155-2025-06-29/
LOCATION:Kreuzkirche\, Böhlaustraße 2\, Weimar\, Thüringen\, 99423\, Deutschland
CATEGORIES:Gottesdienste
ATTACH;FMTTYPE=image/jpeg:https://weimar-evangelisch.de/wp-content/uploads/2021/05/1090366.jpg
END:VEVENT
BEGIN:VEVENT
DTSTART;TZID=Europe/Berlin:20250622T100000
DTEND;TZID=Europe/Berlin:20250622T140000
DTSTAMP:20260422T155942
CREATED:20250604T075447Z
LAST-MODIFIED:20250604T075447Z
UID:17945-1750586400-1750600800@weimar-evangelisch.de
SUMMARY:Gemeindefest der Kreuzkirche
DESCRIPTION:
URL:https://weimar-evangelisch.de/veranstaltung/gemeindefest-der-kreuzkirche/
LOCATION:Kreuzkirche\, Böhlaustraße 2\, Weimar\, Thüringen\, 99423\, Deutschland
CATEGORIES:Veranstaltungen
ATTACH;FMTTYPE=image/jpeg:https://weimar-evangelisch.de/wp-content/uploads/2022/01/Kreuzkirche_Weimar_s2528_0023.jpg
END:VEVENT
BEGIN:VEVENT
DTSTART;TZID=Europe/Berlin:20250622T100000
DTEND;TZID=Europe/Berlin:20250622T110000
DTSTAMP:20260422T155942
CREATED:20250331T092851Z
LAST-MODIFIED:20250603T125014Z
UID:17325-1750586400-1750590000@weimar-evangelisch.de
SUMMARY:Familiengottesdienst
DESCRIPTION:mit Gemeindefest \nPfarrerin Anne Puhr \n  \n 
URL:https://weimar-evangelisch.de/veranstaltung/gottesdienst-155-2025-06-22/
LOCATION:Kreuzkirche\, Böhlaustraße 2\, Weimar\, Thüringen\, 99423\, Deutschland
CATEGORIES:Gottesdienste
ATTACH;FMTTYPE=image/jpeg:https://weimar-evangelisch.de/wp-content/uploads/2021/05/1090366.jpg
END:VEVENT
BEGIN:VEVENT
DTSTART;TZID=Europe/Berlin:20250615T113000
DTEND;TZID=Europe/Berlin:20250615T120000
DTSTAMP:20260422T155942
CREATED:20221229T133843Z
LAST-MODIFIED:20221229T133843Z
UID:14099-1749987000-1749988800@weimar-evangelisch.de
SUMMARY:Familienkirche
DESCRIPTION:
URL:https://weimar-evangelisch.de/veranstaltung/familienkirche-4/2025-06-15/
LOCATION:Kreuzkirche\, Böhlaustraße 2\, Weimar\, Thüringen\, 99423\, Deutschland
CATEGORIES:Gottesdienste
ATTACH;FMTTYPE=image/jpeg:https://weimar-evangelisch.de/wp-content/uploads/2022/03/Angebote_Kinder_und_Familie_jelleke-vanooteghem-uNWuSF4WwXc-unsplash.jpg
END:VEVENT
BEGIN:VEVENT
DTSTART;TZID=Europe/Berlin:20250615T100000
DTEND;TZID=Europe/Berlin:20250615T110000
DTSTAMP:20260422T155942
CREATED:20250331T092851Z
LAST-MODIFIED:20250331T092851Z
UID:17324-1749981600-1749985200@weimar-evangelisch.de
SUMMARY:Gottesdienst
DESCRIPTION:Pfarrerin Anne Puhr
URL:https://weimar-evangelisch.de/veranstaltung/gottesdienst-155/2025-06-15/
LOCATION:Kreuzkirche\, Böhlaustraße 2\, Weimar\, Thüringen\, 99423\, Deutschland
CATEGORIES:Gottesdienste
ATTACH;FMTTYPE=image/jpeg:https://weimar-evangelisch.de/wp-content/uploads/2021/05/1090366.jpg
END:VEVENT
END:VCALENDAR