BEGIN:VCALENDAR
VERSION:2.0
PRODID:-//Weimar Evangelisch - ECPv6.6.1//NONSGML v1.0//EN
CALSCALE:GREGORIAN
METHOD:PUBLISH
X-ORIGINAL-URL:https://weimar-evangelisch.de
X-WR-CALDESC:Veranstaltungen für Weimar Evangelisch
REFRESH-INTERVAL;VALUE=DURATION:PT1H
X-Robots-Tag:noindex
X-PUBLISHED-TTL:PT1H
BEGIN:VTIMEZONE
TZID:Europe/Berlin
BEGIN:DAYLIGHT
TZOFFSETFROM:+0100
TZOFFSETTO:+0200
TZNAME:CEST
DTSTART:20230326T010000
END:DAYLIGHT
BEGIN:STANDARD
TZOFFSETFROM:+0200
TZOFFSETTO:+0100
TZNAME:CET
DTSTART:20231029T010000
END:STANDARD
END:VTIMEZONE
BEGIN:VEVENT
DTSTART;TZID=Europe/Berlin:20231119T100000
DTEND;TZID=Europe/Berlin:20231119T110000
DTSTAMP:20260425T194749
CREATED:20230621T105447Z
LAST-MODIFIED:20231027T120624Z
UID:8618-1700388000-1700391600@weimar-evangelisch.de
SUMMARY:Gottesdienst
DESCRIPTION:Pfarrerin Dorothea Heller
URL:https://weimar-evangelisch.de/veranstaltung/gottesdienst-65-2023-11-19-2/
LOCATION:Klinikum\, Weimar\, Thüringen\, 99423\, Deutschland
CATEGORIES:Gottesdienste
ATTACH;FMTTYPE=image/jpeg:https://weimar-evangelisch.de/wp-content/uploads/2023/05/Klinikum_co_Neuwirt.jpg
END:VEVENT
BEGIN:VEVENT
DTSTART;TZID=Europe/Berlin:20231112T100000
DTEND;TZID=Europe/Berlin:20231112T110000
DTSTAMP:20260425T194749
CREATED:20230621T105447Z
LAST-MODIFIED:20231027T120337Z
UID:8617-1699783200-1699786800@weimar-evangelisch.de
SUMMARY:Gottesdienst
DESCRIPTION:Pfarrer Axel Kramme
URL:https://weimar-evangelisch.de/veranstaltung/gottesdienst-65-2023-11-12-2/
LOCATION:Klinikum\, Weimar\, Thüringen\, 99423\, Deutschland
CATEGORIES:Gottesdienste
ATTACH;FMTTYPE=image/jpeg:https://weimar-evangelisch.de/wp-content/uploads/2023/05/Klinikum_co_Neuwirt.jpg
END:VEVENT
BEGIN:VEVENT
DTSTART;TZID=Europe/Berlin:20231105T100000
DTEND;TZID=Europe/Berlin:20231105T110000
DTSTAMP:20260425T194749
CREATED:20230621T105447Z
LAST-MODIFIED:20231027T114900Z
UID:8616-1699178400-1699182000@weimar-evangelisch.de
SUMMARY:Gottesdienst
DESCRIPTION:Rektor Ramón Seliger
URL:https://weimar-evangelisch.de/veranstaltung/gottesdienst-65-2023-11-05-2/
LOCATION:Klinikum\, Weimar\, Thüringen\, 99423\, Deutschland
CATEGORIES:Gottesdienste
ATTACH;FMTTYPE=image/jpeg:https://weimar-evangelisch.de/wp-content/uploads/2023/05/Klinikum_co_Neuwirt.jpg
END:VEVENT
BEGIN:VEVENT
DTSTART;TZID=Europe/Berlin:20231029T100000
DTEND;TZID=Europe/Berlin:20231029T110000
DTSTAMP:20260425T194749
CREATED:20230621T105447Z
LAST-MODIFIED:20230928T092320Z
UID:8615-1698573600-1698577200@weimar-evangelisch.de
SUMMARY:Gottesdienst
DESCRIPTION:Pfarrerin Dorothea Heller
URL:https://weimar-evangelisch.de/veranstaltung/gottesdienst-65-2023-10-29-2/
LOCATION:Klinikum\, Weimar\, Thüringen\, 99423\, Deutschland
CATEGORIES:Gottesdienste
ATTACH;FMTTYPE=image/jpeg:https://weimar-evangelisch.de/wp-content/uploads/2023/05/Klinikum_co_Neuwirt.jpg
END:VEVENT
BEGIN:VEVENT
DTSTART;TZID=Europe/Berlin:20231022T100000
DTEND;TZID=Europe/Berlin:20231022T110000
DTSTAMP:20260425T194749
CREATED:20230621T105447Z
LAST-MODIFIED:20230928T090835Z
UID:8614-1697968800-1697972400@weimar-evangelisch.de
SUMMARY:Gottesdienst
DESCRIPTION:Rektor in Ruhe Axel Kramme
URL:https://weimar-evangelisch.de/veranstaltung/gottesdienst-65-2023-10-22-2/
LOCATION:Klinikum\, Weimar\, Thüringen\, 99423\, Deutschland
CATEGORIES:Gottesdienste
ATTACH;FMTTYPE=image/jpeg:https://weimar-evangelisch.de/wp-content/uploads/2023/05/Klinikum_co_Neuwirt.jpg
END:VEVENT
BEGIN:VEVENT
DTSTART;TZID=Europe/Berlin:20231015T100000
DTEND;TZID=Europe/Berlin:20231015T110000
DTSTAMP:20260425T194749
CREATED:20230621T105447Z
LAST-MODIFIED:20230927T082436Z
UID:8613-1697364000-1697367600@weimar-evangelisch.de
SUMMARY:Gottesdienst
DESCRIPTION:Pfarrerin Dorothea Heller
URL:https://weimar-evangelisch.de/veranstaltung/gottesdienst-65-2023-10-15-2/
LOCATION:Klinikum\, Weimar\, Thüringen\, 99423\, Deutschland
CATEGORIES:Gottesdienste
ATTACH;FMTTYPE=image/jpeg:https://weimar-evangelisch.de/wp-content/uploads/2023/05/Klinikum_co_Neuwirt.jpg
END:VEVENT
BEGIN:VEVENT
DTSTART;TZID=Europe/Berlin:20231008T100000
DTEND;TZID=Europe/Berlin:20231008T110000
DTSTAMP:20260425T194749
CREATED:20230621T105447Z
LAST-MODIFIED:20230927T081816Z
UID:8612-1696759200-1696762800@weimar-evangelisch.de
SUMMARY:Gottesdienst
DESCRIPTION:Lektor Dieter Erler
URL:https://weimar-evangelisch.de/veranstaltung/gottesdienst-65-2023-10-08-2/
LOCATION:Klinikum\, Weimar\, Thüringen\, 99423\, Deutschland
CATEGORIES:Gottesdienste
ATTACH;FMTTYPE=image/jpeg:https://weimar-evangelisch.de/wp-content/uploads/2023/05/Klinikum_co_Neuwirt.jpg
END:VEVENT
BEGIN:VEVENT
DTSTART;TZID=Europe/Berlin:20231001T100000
DTEND;TZID=Europe/Berlin:20231001T110000
DTSTAMP:20260425T194749
CREATED:20230621T105447Z
LAST-MODIFIED:20230817T110258Z
UID:8611-1696154400-1696158000@weimar-evangelisch.de
SUMMARY:Gottesdienst
DESCRIPTION:Pfarrerin Dorothea Heller
URL:https://weimar-evangelisch.de/veranstaltung/gottesdienst-65-2023-10-01-2/
LOCATION:Klinikum\, Weimar\, Thüringen\, 99423\, Deutschland
CATEGORIES:Gottesdienste
ATTACH;FMTTYPE=image/jpeg:https://weimar-evangelisch.de/wp-content/uploads/2023/05/Klinikum_co_Neuwirt.jpg
END:VEVENT
BEGIN:VEVENT
DTSTART;TZID=Europe/Berlin:20230924T100000
DTEND;TZID=Europe/Berlin:20230924T110000
DTSTAMP:20260425T194749
CREATED:20230621T105447Z
LAST-MODIFIED:20230817T105541Z
UID:8610-1695549600-1695553200@weimar-evangelisch.de
SUMMARY:Gottesdienst
DESCRIPTION:Pfarrer Axel Kramme
URL:https://weimar-evangelisch.de/veranstaltung/gottesdienst-65-2023-09-24-2/
LOCATION:Klinikum\, Weimar\, Thüringen\, 99423\, Deutschland
CATEGORIES:Gottesdienste
ATTACH;FMTTYPE=image/jpeg:https://weimar-evangelisch.de/wp-content/uploads/2023/05/Klinikum_co_Neuwirt.jpg
END:VEVENT
BEGIN:VEVENT
DTSTART;TZID=Europe/Berlin:20230917T100000
DTEND;TZID=Europe/Berlin:20230917T110000
DTSTAMP:20260425T194749
CREATED:20230621T105447Z
LAST-MODIFIED:20230816T115322Z
UID:8609-1694944800-1694948400@weimar-evangelisch.de
SUMMARY:Gottesdienst
DESCRIPTION:Pfarrerin Dorothea Heller
URL:https://weimar-evangelisch.de/veranstaltung/gottesdienst-65-2023-09-17-2/
LOCATION:Klinikum\, Weimar\, Thüringen\, 99423\, Deutschland
CATEGORIES:Gottesdienste
ATTACH;FMTTYPE=image/jpeg:https://weimar-evangelisch.de/wp-content/uploads/2023/05/Klinikum_co_Neuwirt.jpg
END:VEVENT
BEGIN:VEVENT
DTSTART;TZID=Europe/Berlin:20230910T100000
DTEND;TZID=Europe/Berlin:20230910T110000
DTSTAMP:20260425T194749
CREATED:20230621T105447Z
LAST-MODIFIED:20230816T114742Z
UID:8608-1694340000-1694343600@weimar-evangelisch.de
SUMMARY:Gottesdienst
DESCRIPTION:Pfarrerin Dorothea Heller
URL:https://weimar-evangelisch.de/veranstaltung/gottesdienst-65-2023-09-10-2/
LOCATION:Klinikum\, Weimar\, Thüringen\, 99423\, Deutschland
CATEGORIES:Gottesdienste
ATTACH;FMTTYPE=image/jpeg:https://weimar-evangelisch.de/wp-content/uploads/2023/05/Klinikum_co_Neuwirt.jpg
END:VEVENT
BEGIN:VEVENT
DTSTART;TZID=Europe/Berlin:20230903T100000
DTEND;TZID=Europe/Berlin:20230903T110000
DTSTAMP:20260425T194749
CREATED:20230621T105447Z
LAST-MODIFIED:20230816T113046Z
UID:8607-1693735200-1693738800@weimar-evangelisch.de
SUMMARY:Gottesdienst
DESCRIPTION:Rektor Ramón Seliger
URL:https://weimar-evangelisch.de/veranstaltung/gottesdienst-65-2023-09-03-2/
LOCATION:Klinikum\, Weimar\, Thüringen\, 99423\, Deutschland
CATEGORIES:Gottesdienste
ATTACH;FMTTYPE=image/jpeg:https://weimar-evangelisch.de/wp-content/uploads/2023/05/Klinikum_co_Neuwirt.jpg
END:VEVENT
BEGIN:VEVENT
DTSTART;TZID=Europe/Berlin:20230827T100000
DTEND;TZID=Europe/Berlin:20230827T110000
DTSTAMP:20260425T194749
CREATED:20230621T105447Z
LAST-MODIFIED:20230719T080019Z
UID:8606-1693130400-1693134000@weimar-evangelisch.de
SUMMARY:Gottesdienst
DESCRIPTION:Rektor Ramón Seliger
URL:https://weimar-evangelisch.de/veranstaltung/gottesdienst-65-2023-08-27-2/
LOCATION:Klinikum\, Weimar\, Thüringen\, 99423\, Deutschland
CATEGORIES:Gottesdienste
ATTACH;FMTTYPE=image/jpeg:https://weimar-evangelisch.de/wp-content/uploads/2023/05/Klinikum_co_Neuwirt.jpg
END:VEVENT
BEGIN:VEVENT
DTSTART;TZID=Europe/Berlin:20230820T100000
DTEND;TZID=Europe/Berlin:20230820T110000
DTSTAMP:20260425T194749
CREATED:20230621T105447Z
LAST-MODIFIED:20230719T074626Z
UID:8605-1692525600-1692529200@weimar-evangelisch.de
SUMMARY:Gottesdienst
DESCRIPTION:Pfarrerin Dorothea Heller
URL:https://weimar-evangelisch.de/veranstaltung/gottesdienst-65-2023-08-20-2/
LOCATION:Klinikum\, Weimar\, Thüringen\, 99423\, Deutschland
CATEGORIES:Gottesdienste
ATTACH;FMTTYPE=image/jpeg:https://weimar-evangelisch.de/wp-content/uploads/2023/05/Klinikum_co_Neuwirt.jpg
END:VEVENT
BEGIN:VEVENT
DTSTART;TZID=Europe/Berlin:20230813T100000
DTEND;TZID=Europe/Berlin:20230813T110000
DTSTAMP:20260425T194749
CREATED:20230621T105447Z
LAST-MODIFIED:20230719T074212Z
UID:8604-1691920800-1691924400@weimar-evangelisch.de
SUMMARY:Gottesdienst
DESCRIPTION:Pfarrerin Dorothea Heller
URL:https://weimar-evangelisch.de/veranstaltung/gottesdienst-65-2023-08-13-2/
LOCATION:Klinikum\, Weimar\, Thüringen\, 99423\, Deutschland
CATEGORIES:Gottesdienste
ATTACH;FMTTYPE=image/jpeg:https://weimar-evangelisch.de/wp-content/uploads/2023/05/Klinikum_co_Neuwirt.jpg
END:VEVENT
BEGIN:VEVENT
DTSTART;TZID=Europe/Berlin:20230806T100000
DTEND;TZID=Europe/Berlin:20230806T110000
DTSTAMP:20260425T194749
CREATED:20230621T105447Z
LAST-MODIFIED:20230719T072643Z
UID:8603-1691316000-1691319600@weimar-evangelisch.de
SUMMARY:Gottesdienst
DESCRIPTION:Pfarrerin Dorothea Heller
URL:https://weimar-evangelisch.de/veranstaltung/gottesdienst-65-2023-08-06-2/
LOCATION:Klinikum\, Weimar\, Thüringen\, 99423\, Deutschland
CATEGORIES:Gottesdienste
ATTACH;FMTTYPE=image/jpeg:https://weimar-evangelisch.de/wp-content/uploads/2023/05/Klinikum_co_Neuwirt.jpg
END:VEVENT
BEGIN:VEVENT
DTSTART;TZID=Europe/Berlin:20230730T100000
DTEND;TZID=Europe/Berlin:20230730T110000
DTSTAMP:20260425T194749
CREATED:20230621T105447Z
LAST-MODIFIED:20230721T082923Z
UID:8602-1690711200-1690714800@weimar-evangelisch.de
SUMMARY:Gottesdienst
DESCRIPTION:Pfarrerin Dorothea Heller
URL:https://weimar-evangelisch.de/veranstaltung/gottesdienst-65-2023-07-30-2/
LOCATION:Klinikum\, Weimar\, Thüringen\, 99423\, Deutschland
CATEGORIES:Gottesdienste
ATTACH;FMTTYPE=image/jpeg:https://weimar-evangelisch.de/wp-content/uploads/2023/05/Klinikum_co_Neuwirt.jpg
END:VEVENT
BEGIN:VEVENT
DTSTART;TZID=Europe/Berlin:20230723T100000
DTEND;TZID=Europe/Berlin:20230723T110000
DTSTAMP:20260425T194749
CREATED:20230621T105447Z
LAST-MODIFIED:20230622T085831Z
UID:8601-1690106400-1690110000@weimar-evangelisch.de
SUMMARY:Gottesdienst
DESCRIPTION:Pfarrer Axel Kramme
URL:https://weimar-evangelisch.de/veranstaltung/gottesdienst-65-2023-07-23-2/
LOCATION:Klinikum\, Weimar\, Thüringen\, 99423\, Deutschland
CATEGORIES:Gottesdienste
ATTACH;FMTTYPE=image/jpeg:https://weimar-evangelisch.de/wp-content/uploads/2023/05/Klinikum_co_Neuwirt.jpg
END:VEVENT
BEGIN:VEVENT
DTSTART;TZID=Europe/Berlin:20230716T100000
DTEND;TZID=Europe/Berlin:20230716T110000
DTSTAMP:20260425T194749
CREATED:20230621T105447Z
LAST-MODIFIED:20230621T111218Z
UID:8600-1689501600-1689505200@weimar-evangelisch.de
SUMMARY:Gottesdienst
DESCRIPTION:Rektor Ramón Seliger
URL:https://weimar-evangelisch.de/veranstaltung/gottesdienst-65-2023-07-16-2/
LOCATION:Klinikum\, Weimar\, Thüringen\, 99423\, Deutschland
CATEGORIES:Gottesdienste
ATTACH;FMTTYPE=image/jpeg:https://weimar-evangelisch.de/wp-content/uploads/2023/05/Klinikum_co_Neuwirt.jpg
END:VEVENT
BEGIN:VEVENT
DTSTART;TZID=Europe/Berlin:20230709T100000
DTEND;TZID=Europe/Berlin:20230709T110000
DTSTAMP:20260425T194749
CREATED:20230621T105447Z
LAST-MODIFIED:20230621T110612Z
UID:8599-1688896800-1688900400@weimar-evangelisch.de
SUMMARY:Gottesdienst
DESCRIPTION:Pfarrerin Dorothea Knetsch
URL:https://weimar-evangelisch.de/veranstaltung/gottesdienst-65-2023-07-09-2/
LOCATION:Klinikum\, Weimar\, Thüringen\, 99423\, Deutschland
CATEGORIES:Gottesdienste
ATTACH;FMTTYPE=image/jpeg:https://weimar-evangelisch.de/wp-content/uploads/2023/05/Klinikum_co_Neuwirt.jpg
END:VEVENT
BEGIN:VEVENT
DTSTART;TZID=Europe/Berlin:20230702T100000
DTEND;TZID=Europe/Berlin:20230702T110000
DTSTAMP:20260425T194749
CREATED:20230621T105447Z
LAST-MODIFIED:20230621T105623Z
UID:8597-1688292000-1688295600@weimar-evangelisch.de
SUMMARY:Gottesdienst
DESCRIPTION:Pfarrerin Dorothea Knetsch
URL:https://weimar-evangelisch.de/veranstaltung/gottesdienst-65/
LOCATION:Klinikum\, Weimar\, Thüringen\, 99423\, Deutschland
CATEGORIES:Gottesdienste
ATTACH;FMTTYPE=image/jpeg:https://weimar-evangelisch.de/wp-content/uploads/2023/05/Klinikum_co_Neuwirt.jpg
END:VEVENT
BEGIN:VEVENT
DTSTART;TZID=Europe/Berlin:20230625T100000
DTEND;TZID=Europe/Berlin:20230625T110000
DTSTAMP:20260425T194749
CREATED:20230524T115344Z
LAST-MODIFIED:20230524T115344Z
UID:8302-1687687200-1687690800@weimar-evangelisch.de
SUMMARY:Gottesdienst
DESCRIPTION:Pfarrerin Dorothea Knetsch
URL:https://weimar-evangelisch.de/veranstaltung/gottesdienst-58/
LOCATION:Klinikum\, Weimar\, Thüringen\, 99423\, Deutschland
CATEGORIES:Gottesdienste
ATTACH;FMTTYPE=image/jpeg:https://weimar-evangelisch.de/wp-content/uploads/2023/05/Klinikum_co_Neuwirt.jpg
END:VEVENT
BEGIN:VEVENT
DTSTART;TZID=Europe/Berlin:20230618T100000
DTEND;TZID=Europe/Berlin:20230618T110000
DTSTAMP:20260425T194749
CREATED:20230524T103504Z
LAST-MODIFIED:20230524T105413Z
UID:8258-1687082400-1687086000@weimar-evangelisch.de
SUMMARY:Gottesdienst
DESCRIPTION:Pfarrer Axel Kramme
URL:https://weimar-evangelisch.de/veranstaltung/gottesdienst-54-2023-06-18/
LOCATION:Klinikum\, Weimar\, Thüringen\, 99423\, Deutschland
CATEGORIES:Gottesdienste
ATTACH;FMTTYPE=image/jpeg:https://weimar-evangelisch.de/wp-content/uploads/2023/05/Klinikum_co_Neuwirt.jpg
END:VEVENT
BEGIN:VEVENT
DTSTART;TZID=Europe/Berlin:20230611T100000
DTEND;TZID=Europe/Berlin:20230611T110000
DTSTAMP:20260425T194749
CREATED:20230524T103504Z
LAST-MODIFIED:20230524T105334Z
UID:8244-1686477600-1686481200@weimar-evangelisch.de
SUMMARY:Gottesdienst
DESCRIPTION:Pfarrerin Dorothea Knetsch
URL:https://weimar-evangelisch.de/veranstaltung/gottesdienst-54/
LOCATION:Klinikum\, Weimar\, Thüringen\, 99423\, Deutschland
CATEGORIES:Gottesdienste
ATTACH;FMTTYPE=image/jpeg:https://weimar-evangelisch.de/wp-content/uploads/2023/05/Klinikum_co_Neuwirt.jpg
END:VEVENT
BEGIN:VEVENT
DTSTART;TZID=Europe/Berlin:20230604T100000
DTEND;TZID=Europe/Berlin:20230604T110000
DTSTAMP:20260425T194749
CREATED:20230524T105607Z
LAST-MODIFIED:20230524T105607Z
UID:8261-1685872800-1685876400@weimar-evangelisch.de
SUMMARY:Gottesdienst
DESCRIPTION:Rektor Ramón Seliger
URL:https://weimar-evangelisch.de/veranstaltung/gottesdienst-56/
LOCATION:Klinikum\, Weimar\, Thüringen\, 99423\, Deutschland
CATEGORIES:Gottesdienste
ATTACH;FMTTYPE=image/jpeg:https://weimar-evangelisch.de/wp-content/uploads/2023/05/Klinikum_co_Neuwirt.jpg
END:VEVENT
END:VCALENDAR