BEGIN:VCALENDAR
VERSION:2.0
PRODID:-//Weimar Evangelisch - ECPv6.6.1//NONSGML v1.0//EN
CALSCALE:GREGORIAN
METHOD:PUBLISH
X-WR-CALNAME:Weimar Evangelisch
X-ORIGINAL-URL:https://weimar-evangelisch.de
X-WR-CALDESC:Veranstaltungen für Weimar Evangelisch
REFRESH-INTERVAL;VALUE=DURATION:PT1H
X-Robots-Tag:noindex
X-PUBLISHED-TTL:PT1H
BEGIN:VTIMEZONE
TZID:Europe/Berlin
BEGIN:DAYLIGHT
TZOFFSETFROM:+0100
TZOFFSETTO:+0200
TZNAME:CEST
DTSTART:20240331T010000
END:DAYLIGHT
BEGIN:STANDARD
TZOFFSETFROM:+0200
TZOFFSETTO:+0100
TZNAME:CET
DTSTART:20241027T010000
END:STANDARD
BEGIN:DAYLIGHT
TZOFFSETFROM:+0100
TZOFFSETTO:+0200
TZNAME:CEST
DTSTART:20250330T010000
END:DAYLIGHT
BEGIN:STANDARD
TZOFFSETFROM:+0200
TZOFFSETTO:+0100
TZNAME:CET
DTSTART:20251026T010000
END:STANDARD
END:VTIMEZONE
BEGIN:VEVENT
DTSTART;TZID=Europe/Berlin:20250112T100000
DTEND;TZID=Europe/Berlin:20250112T110000
DTSTAMP:20260425T170233
CREATED:20250108T083741Z
LAST-MODIFIED:20250307T094920Z
UID:13723-1736676000-1736679600@weimar-evangelisch.de
SUMMARY:Gottesdienst
DESCRIPTION:
URL:https://weimar-evangelisch.de/veranstaltung/gottesdienst-134-2025-01-12/
LOCATION:Klinikum\, Weimar\, Thüringen\, 99423\, Deutschland
CATEGORIES:Gottesdienste
ATTACH;FMTTYPE=image/jpeg:https://weimar-evangelisch.de/wp-content/uploads/2023/05/Klinikum_co_Neuwirt.jpg
END:VEVENT
BEGIN:VEVENT
DTSTART;TZID=Europe/Berlin:20250105T100000
DTEND;TZID=Europe/Berlin:20250105T110000
DTSTAMP:20260425T170233
CREATED:20250108T083741Z
LAST-MODIFIED:20250108T083741Z
UID:13721-1736071200-1736074800@weimar-evangelisch.de
SUMMARY:Gottesdienst
DESCRIPTION:
URL:https://weimar-evangelisch.de/veranstaltung/gottesdienst-134/2025-01-05/
LOCATION:Klinikum\, Weimar\, Thüringen\, 99423\, Deutschland
CATEGORIES:Gottesdienste
ATTACH;FMTTYPE=image/jpeg:https://weimar-evangelisch.de/wp-content/uploads/2023/05/Klinikum_co_Neuwirt.jpg
END:VEVENT
BEGIN:VEVENT
DTSTART;TZID=Europe/Berlin:20241229T100000
DTEND;TZID=Europe/Berlin:20241229T110000
DTSTAMP:20260425T170233
CREATED:20231221T105257Z
LAST-MODIFIED:20241129T105843Z
UID:11083-1735466400-1735470000@weimar-evangelisch.de
SUMMARY:Gottesdienst
DESCRIPTION:Pfarrerin Dorothea Heller
URL:https://weimar-evangelisch.de/veranstaltung/gottesdienst-84-2024-12-29/
LOCATION:Klinikum\, Weimar\, Thüringen\, 99423\, Deutschland
CATEGORIES:Gottesdienste
ATTACH;FMTTYPE=image/jpeg:https://weimar-evangelisch.de/wp-content/uploads/2023/05/Klinikum_co_Neuwirt.jpg
END:VEVENT
BEGIN:VEVENT
DTSTART;TZID=Europe/Berlin:20241224T140000
DTEND;TZID=Europe/Berlin:20241224T150000
DTSTAMP:20260425T170233
CREATED:20241129T101908Z
LAST-MODIFIED:20241129T101908Z
UID:13471-1735048800-1735052400@weimar-evangelisch.de
SUMMARY:Gottesdienst
DESCRIPTION:Pfarrerin Dorothea Heller
URL:https://weimar-evangelisch.de/veranstaltung/gottesdienst-128/
LOCATION:Klinikum\, Weimar\, Thüringen\, 99423\, Deutschland
CATEGORIES:Gottesdienste
ATTACH;FMTTYPE=image/jpeg:https://weimar-evangelisch.de/wp-content/uploads/2023/05/Klinikum_co_Neuwirt.jpg
END:VEVENT
BEGIN:VEVENT
DTSTART;TZID=Europe/Berlin:20241222T100000
DTEND;TZID=Europe/Berlin:20241222T110000
DTSTAMP:20260425T170233
CREATED:20231221T105257Z
LAST-MODIFIED:20241129T095813Z
UID:11082-1734861600-1734865200@weimar-evangelisch.de
SUMMARY:Gottesdienst
DESCRIPTION:Pfr. i.R. Axel Kramme
URL:https://weimar-evangelisch.de/veranstaltung/gottesdienst-84-2024-12-22/
LOCATION:Klinikum\, Weimar\, Thüringen\, 99423\, Deutschland
CATEGORIES:Gottesdienste
ATTACH;FMTTYPE=image/jpeg:https://weimar-evangelisch.de/wp-content/uploads/2023/05/Klinikum_co_Neuwirt.jpg
END:VEVENT
BEGIN:VEVENT
DTSTART;TZID=Europe/Berlin:20241215T100000
DTEND;TZID=Europe/Berlin:20241215T110000
DTSTAMP:20260425T170233
CREATED:20231221T105257Z
LAST-MODIFIED:20241129T094747Z
UID:11081-1734256800-1734260400@weimar-evangelisch.de
SUMMARY:Gottesdienst
DESCRIPTION:Rektor Ramón Seliger \nStadtstreicher Weimar
URL:https://weimar-evangelisch.de/veranstaltung/gottesdienst-84-2024-12-15/
LOCATION:Klinikum\, Weimar\, Thüringen\, 99423\, Deutschland
CATEGORIES:Gottesdienste
ATTACH;FMTTYPE=image/jpeg:https://weimar-evangelisch.de/wp-content/uploads/2023/05/Klinikum_co_Neuwirt.jpg
END:VEVENT
BEGIN:VEVENT
DTSTART;TZID=Europe/Berlin:20241208T100000
DTEND;TZID=Europe/Berlin:20241208T110000
DTSTAMP:20260425T170233
CREATED:20231221T105257Z
LAST-MODIFIED:20241129T094416Z
UID:11080-1733652000-1733655600@weimar-evangelisch.de
SUMMARY:Gottesdienst zum Candle-Lightning-Day
DESCRIPTION:Pfarrerin Dorothea Heller \nEin Licht der Erinnerung für dich! Am weltweiten Gedenktag für verstorbene Kinder\, sind alle trauernden Eltern und Familien herzliche eingeladen.
URL:https://weimar-evangelisch.de/veranstaltung/gottesdienst-84-2024-12-08/
LOCATION:Klinikum\, Weimar\, Thüringen\, 99423\, Deutschland
CATEGORIES:Gottesdienste
ATTACH;FMTTYPE=image/jpeg:https://weimar-evangelisch.de/wp-content/uploads/2023/05/Klinikum_co_Neuwirt.jpg
END:VEVENT
BEGIN:VEVENT
DTSTART;TZID=Europe/Berlin:20241201T100000
DTEND;TZID=Europe/Berlin:20241201T110000
DTSTAMP:20260425T170233
CREATED:20231221T105257Z
LAST-MODIFIED:20241129T091640Z
UID:11079-1733047200-1733050800@weimar-evangelisch.de
SUMMARY:Gottesdienst
DESCRIPTION:Pfr. i.R. Axel Kramme
URL:https://weimar-evangelisch.de/veranstaltung/gottesdienst-84-2024-12-01/
LOCATION:Klinikum\, Weimar\, Thüringen\, 99423\, Deutschland
CATEGORIES:Gottesdienste
ATTACH;FMTTYPE=image/jpeg:https://weimar-evangelisch.de/wp-content/uploads/2023/05/Klinikum_co_Neuwirt.jpg
END:VEVENT
BEGIN:VEVENT
DTSTART;TZID=Europe/Berlin:20241124T100000
DTEND;TZID=Europe/Berlin:20241124T110000
DTSTAMP:20260425T170233
CREATED:20231221T105257Z
LAST-MODIFIED:20241022T094058Z
UID:11078-1732442400-1732446000@weimar-evangelisch.de
SUMMARY:Gottesdienst
DESCRIPTION:Rektor Ramón Seliger
URL:https://weimar-evangelisch.de/veranstaltung/gottesdienst-84-2024-11-24/
LOCATION:Klinikum\, Weimar\, Thüringen\, 99423\, Deutschland
CATEGORIES:Gottesdienste
ATTACH;FMTTYPE=image/jpeg:https://weimar-evangelisch.de/wp-content/uploads/2023/05/Klinikum_co_Neuwirt.jpg
END:VEVENT
BEGIN:VEVENT
DTSTART;TZID=Europe/Berlin:20241117T100000
DTEND;TZID=Europe/Berlin:20241117T110000
DTSTAMP:20260425T170233
CREATED:20231221T105257Z
LAST-MODIFIED:20241022T093640Z
UID:11077-1731837600-1731841200@weimar-evangelisch.de
SUMMARY:Gottesdienst
DESCRIPTION:Pfarrerin Bettina Reinefeld-Wiegel
URL:https://weimar-evangelisch.de/veranstaltung/gottesdienst-84-2024-11-17/
LOCATION:Klinikum\, Weimar\, Thüringen\, 99423\, Deutschland
CATEGORIES:Gottesdienste
ATTACH;FMTTYPE=image/jpeg:https://weimar-evangelisch.de/wp-content/uploads/2023/05/Klinikum_co_Neuwirt.jpg
END:VEVENT
BEGIN:VEVENT
DTSTART;TZID=Europe/Berlin:20241110T100000
DTEND;TZID=Europe/Berlin:20241110T110000
DTSTAMP:20260425T170233
CREATED:20231221T105257Z
LAST-MODIFIED:20241022T092124Z
UID:11076-1731232800-1731236400@weimar-evangelisch.de
SUMMARY:Gottesdienst
DESCRIPTION:Pfarrerin Dorothea Heller
URL:https://weimar-evangelisch.de/veranstaltung/gottesdienst-84-2024-11-10/
LOCATION:Klinikum\, Weimar\, Thüringen\, 99423\, Deutschland
CATEGORIES:Gottesdienste
ATTACH;FMTTYPE=image/jpeg:https://weimar-evangelisch.de/wp-content/uploads/2023/05/Klinikum_co_Neuwirt.jpg
END:VEVENT
BEGIN:VEVENT
DTSTART;TZID=Europe/Berlin:20241103T100000
DTEND;TZID=Europe/Berlin:20241103T110000
DTSTAMP:20260425T170233
CREATED:20231221T105257Z
LAST-MODIFIED:20241022T090540Z
UID:11075-1730628000-1730631600@weimar-evangelisch.de
SUMMARY:Gottesdienst
DESCRIPTION:Rektor Ramón Seliger
URL:https://weimar-evangelisch.de/veranstaltung/gottesdienst-84-2024-11-03/
LOCATION:Klinikum\, Weimar\, Thüringen\, 99423\, Deutschland
CATEGORIES:Gottesdienste
ATTACH;FMTTYPE=image/jpeg:https://weimar-evangelisch.de/wp-content/uploads/2023/05/Klinikum_co_Neuwirt.jpg
END:VEVENT
BEGIN:VEVENT
DTSTART;TZID=Europe/Berlin:20241027T100000
DTEND;TZID=Europe/Berlin:20241027T110000
DTSTAMP:20260425T170233
CREATED:20231221T105257Z
LAST-MODIFIED:20241009T064634Z
UID:11074-1730023200-1730026800@weimar-evangelisch.de
SUMMARY:Gottesdienst
DESCRIPTION:Pfarrerin Dorothea Heller
URL:https://weimar-evangelisch.de/veranstaltung/gottesdienst-84-2024-10-27/
LOCATION:Klinikum\, Weimar\, Thüringen\, 99423\, Deutschland
CATEGORIES:Gottesdienste
ATTACH;FMTTYPE=image/jpeg:https://weimar-evangelisch.de/wp-content/uploads/2023/05/Klinikum_co_Neuwirt.jpg
END:VEVENT
BEGIN:VEVENT
DTSTART;TZID=Europe/Berlin:20241020T100000
DTEND;TZID=Europe/Berlin:20241020T110000
DTSTAMP:20260425T170233
CREATED:20231221T105257Z
LAST-MODIFIED:20241008T134509Z
UID:11073-1729418400-1729422000@weimar-evangelisch.de
SUMMARY:Gottesdienst
DESCRIPTION:Pfr. i. Ruhe Axel Kamme
URL:https://weimar-evangelisch.de/veranstaltung/gottesdienst-84-2024-10-20/
LOCATION:Klinikum\, Weimar\, Thüringen\, 99423\, Deutschland
CATEGORIES:Gottesdienste
ATTACH;FMTTYPE=image/jpeg:https://weimar-evangelisch.de/wp-content/uploads/2023/05/Klinikum_co_Neuwirt.jpg
END:VEVENT
BEGIN:VEVENT
DTSTART;TZID=Europe/Berlin:20241013T100000
DTEND;TZID=Europe/Berlin:20241013T110000
DTSTAMP:20260425T170233
CREATED:20231221T105257Z
LAST-MODIFIED:20241008T133359Z
UID:11072-1728813600-1728817200@weimar-evangelisch.de
SUMMARY:Gottesdienst
DESCRIPTION:Rektor Ramón Seliger
URL:https://weimar-evangelisch.de/veranstaltung/gottesdienst-84-2024-10-13/
LOCATION:Klinikum\, Weimar\, Thüringen\, 99423\, Deutschland
CATEGORIES:Gottesdienste
ATTACH;FMTTYPE=image/jpeg:https://weimar-evangelisch.de/wp-content/uploads/2023/05/Klinikum_co_Neuwirt.jpg
END:VEVENT
BEGIN:VEVENT
DTSTART;TZID=Europe/Berlin:20241006T100000
DTEND;TZID=Europe/Berlin:20241006T110000
DTSTAMP:20260425T170233
CREATED:20231221T105257Z
LAST-MODIFIED:20241002T122814Z
UID:11071-1728208800-1728212400@weimar-evangelisch.de
SUMMARY:Gottesdienst
DESCRIPTION:Pfarrerin Dorothea Heller
URL:https://weimar-evangelisch.de/veranstaltung/gottesdienst-84-2024-10-06/
LOCATION:Klinikum\, Weimar\, Thüringen\, 99423\, Deutschland
CATEGORIES:Gottesdienste
ATTACH;FMTTYPE=image/jpeg:https://weimar-evangelisch.de/wp-content/uploads/2023/05/Klinikum_co_Neuwirt.jpg
END:VEVENT
BEGIN:VEVENT
DTSTART;TZID=Europe/Berlin:20240929T100000
DTEND;TZID=Europe/Berlin:20240929T110000
DTSTAMP:20260425T170233
CREATED:20231221T105257Z
LAST-MODIFIED:20240823T115415Z
UID:11070-1727604000-1727607600@weimar-evangelisch.de
SUMMARY:Gottesdienst
DESCRIPTION:Pfarrerin Dorothea Heller
URL:https://weimar-evangelisch.de/veranstaltung/gottesdienst-84-2024-09-29/
LOCATION:Klinikum\, Weimar\, Thüringen\, 99423\, Deutschland
CATEGORIES:Gottesdienste
ATTACH;FMTTYPE=image/jpeg:https://weimar-evangelisch.de/wp-content/uploads/2023/05/Klinikum_co_Neuwirt.jpg
END:VEVENT
BEGIN:VEVENT
DTSTART;TZID=Europe/Berlin:20240922T100000
DTEND;TZID=Europe/Berlin:20240922T110000
DTSTAMP:20260425T170233
CREATED:20231221T105257Z
LAST-MODIFIED:20240823T114515Z
UID:11069-1726999200-1727002800@weimar-evangelisch.de
SUMMARY:Gottesdienst
DESCRIPTION:Pfr..R. Axel Kramme
URL:https://weimar-evangelisch.de/veranstaltung/gottesdienst-84-2024-09-22/
LOCATION:Klinikum\, Weimar\, Thüringen\, 99423\, Deutschland
CATEGORIES:Gottesdienste
ATTACH;FMTTYPE=image/jpeg:https://weimar-evangelisch.de/wp-content/uploads/2023/05/Klinikum_co_Neuwirt.jpg
END:VEVENT
BEGIN:VEVENT
DTSTART;TZID=Europe/Berlin:20240915T100000
DTEND;TZID=Europe/Berlin:20240915T110000
DTSTAMP:20260425T170233
CREATED:20231221T105257Z
LAST-MODIFIED:20240823T112822Z
UID:11068-1726394400-1726398000@weimar-evangelisch.de
SUMMARY:Gottesdienst
DESCRIPTION:Pfarrerin Dorothea Heller
URL:https://weimar-evangelisch.de/veranstaltung/gottesdienst-84-2024-09-15/
LOCATION:Klinikum\, Weimar\, Thüringen\, 99423\, Deutschland
CATEGORIES:Gottesdienste
ATTACH;FMTTYPE=image/jpeg:https://weimar-evangelisch.de/wp-content/uploads/2023/05/Klinikum_co_Neuwirt.jpg
END:VEVENT
BEGIN:VEVENT
DTSTART;TZID=Europe/Berlin:20240908T100000
DTEND;TZID=Europe/Berlin:20240908T110000
DTSTAMP:20260425T170233
CREATED:20231221T105257Z
LAST-MODIFIED:20240823T112405Z
UID:11067-1725789600-1725793200@weimar-evangelisch.de
SUMMARY:Gottesdienst
DESCRIPTION:Pfarrerin Dorothea Heller
URL:https://weimar-evangelisch.de/veranstaltung/gottesdienst-84-2024-09-08/
LOCATION:Klinikum\, Weimar\, Thüringen\, 99423\, Deutschland
CATEGORIES:Gottesdienste
ATTACH;FMTTYPE=image/jpeg:https://weimar-evangelisch.de/wp-content/uploads/2023/05/Klinikum_co_Neuwirt.jpg
END:VEVENT
BEGIN:VEVENT
DTSTART;TZID=Europe/Berlin:20240901T100000
DTEND;TZID=Europe/Berlin:20240901T110000
DTSTAMP:20260425T170233
CREATED:20231221T105257Z
LAST-MODIFIED:20240823T105622Z
UID:11066-1725184800-1725188400@weimar-evangelisch.de
SUMMARY:Gottesdienst
DESCRIPTION:Pfarrerin Dorothea Heller
URL:https://weimar-evangelisch.de/veranstaltung/gottesdienst-84-2024-09-01/
LOCATION:Klinikum\, Weimar\, Thüringen\, 99423\, Deutschland
CATEGORIES:Gottesdienste
ATTACH;FMTTYPE=image/jpeg:https://weimar-evangelisch.de/wp-content/uploads/2023/05/Klinikum_co_Neuwirt.jpg
END:VEVENT
BEGIN:VEVENT
DTSTART;TZID=Europe/Berlin:20240825T100000
DTEND;TZID=Europe/Berlin:20240825T110000
DTSTAMP:20260425T170233
CREATED:20231221T105257Z
LAST-MODIFIED:20240628T110452Z
UID:11065-1724580000-1724583600@weimar-evangelisch.de
SUMMARY:Gottesdienst
DESCRIPTION:Pfarrerin Dorothea Heller
URL:https://weimar-evangelisch.de/veranstaltung/gottesdienst-84-2024-08-25/
LOCATION:Klinikum\, Weimar\, Thüringen\, 99423\, Deutschland
CATEGORIES:Gottesdienste
ATTACH;FMTTYPE=image/jpeg:https://weimar-evangelisch.de/wp-content/uploads/2023/05/Klinikum_co_Neuwirt.jpg
END:VEVENT
BEGIN:VEVENT
DTSTART;TZID=Europe/Berlin:20240818T100000
DTEND;TZID=Europe/Berlin:20240818T110000
DTSTAMP:20260425T170233
CREATED:20231221T105257Z
LAST-MODIFIED:20240628T110018Z
UID:11064-1723975200-1723978800@weimar-evangelisch.de
SUMMARY:Gottesdienst
DESCRIPTION:Rektor Ramón Seliger
URL:https://weimar-evangelisch.de/veranstaltung/gottesdienst-84-2024-08-18/
LOCATION:Klinikum\, Weimar\, Thüringen\, 99423\, Deutschland
CATEGORIES:Gottesdienste
ATTACH;FMTTYPE=image/jpeg:https://weimar-evangelisch.de/wp-content/uploads/2023/05/Klinikum_co_Neuwirt.jpg
END:VEVENT
BEGIN:VEVENT
DTSTART;TZID=Europe/Berlin:20240811T100000
DTEND;TZID=Europe/Berlin:20240811T110000
DTSTAMP:20260425T170233
CREATED:20231221T105257Z
LAST-MODIFIED:20240628T105549Z
UID:11063-1723370400-1723374000@weimar-evangelisch.de
SUMMARY:Gottesdienst
DESCRIPTION:Pfarrer i.R. Axel Kramme
URL:https://weimar-evangelisch.de/veranstaltung/gottesdienst-84-2024-08-11/
LOCATION:Klinikum\, Weimar\, Thüringen\, 99423\, Deutschland
CATEGORIES:Gottesdienste
ATTACH;FMTTYPE=image/jpeg:https://weimar-evangelisch.de/wp-content/uploads/2023/05/Klinikum_co_Neuwirt.jpg
END:VEVENT
BEGIN:VEVENT
DTSTART;TZID=Europe/Berlin:20240804T100000
DTEND;TZID=Europe/Berlin:20240804T110000
DTSTAMP:20260425T170233
CREATED:20231221T105257Z
LAST-MODIFIED:20240628T103533Z
UID:11062-1722765600-1722769200@weimar-evangelisch.de
SUMMARY:Gottesdienst
DESCRIPTION:Rektor Ramón Seliger
URL:https://weimar-evangelisch.de/veranstaltung/gottesdienst-84-2024-08-04/
LOCATION:Klinikum\, Weimar\, Thüringen\, 99423\, Deutschland
CATEGORIES:Gottesdienste
ATTACH;FMTTYPE=image/jpeg:https://weimar-evangelisch.de/wp-content/uploads/2023/05/Klinikum_co_Neuwirt.jpg
END:VEVENT
BEGIN:VEVENT
DTSTART;TZID=Europe/Berlin:20240728T100000
DTEND;TZID=Europe/Berlin:20240728T110000
DTSTAMP:20260425T170233
CREATED:20231221T105257Z
LAST-MODIFIED:20240531T104757Z
UID:11061-1722160800-1722164400@weimar-evangelisch.de
SUMMARY:Gottesdienst
DESCRIPTION:Pfarrerin Dorothea Heller
URL:https://weimar-evangelisch.de/veranstaltung/gottesdienst-84-2024-07-28/
LOCATION:Klinikum\, Weimar\, Thüringen\, 99423\, Deutschland
CATEGORIES:Gottesdienste
ATTACH;FMTTYPE=image/jpeg:https://weimar-evangelisch.de/wp-content/uploads/2023/05/Klinikum_co_Neuwirt.jpg
END:VEVENT
BEGIN:VEVENT
DTSTART;TZID=Europe/Berlin:20240721T100000
DTEND;TZID=Europe/Berlin:20240721T110000
DTSTAMP:20260425T170233
CREATED:20231221T105257Z
LAST-MODIFIED:20240531T104509Z
UID:11060-1721556000-1721559600@weimar-evangelisch.de
SUMMARY:Gottesdienst
DESCRIPTION:Pfarrerin Dorothea Heller
URL:https://weimar-evangelisch.de/veranstaltung/gottesdienst-84-2024-07-21/
LOCATION:Klinikum\, Weimar\, Thüringen\, 99423\, Deutschland
CATEGORIES:Gottesdienste
ATTACH;FMTTYPE=image/jpeg:https://weimar-evangelisch.de/wp-content/uploads/2023/05/Klinikum_co_Neuwirt.jpg
END:VEVENT
BEGIN:VEVENT
DTSTART;TZID=Europe/Berlin:20240714T100000
DTEND;TZID=Europe/Berlin:20240714T110000
DTSTAMP:20260425T170233
CREATED:20231221T105257Z
LAST-MODIFIED:20240531T103832Z
UID:11059-1720951200-1720954800@weimar-evangelisch.de
SUMMARY:Gottesdienst
DESCRIPTION:Pfarrerin Bettina Reinefeld-Wiegel
URL:https://weimar-evangelisch.de/veranstaltung/gottesdienst-84-2024-07-14/
LOCATION:Klinikum\, Weimar\, Thüringen\, 99423\, Deutschland
CATEGORIES:Gottesdienste
ATTACH;FMTTYPE=image/jpeg:https://weimar-evangelisch.de/wp-content/uploads/2023/05/Klinikum_co_Neuwirt.jpg
END:VEVENT
BEGIN:VEVENT
DTSTART;TZID=Europe/Berlin:20240707T100000
DTEND;TZID=Europe/Berlin:20240707T110000
DTSTAMP:20260425T170233
CREATED:20231221T105257Z
LAST-MODIFIED:20240531T102731Z
UID:11058-1720346400-1720350000@weimar-evangelisch.de
SUMMARY:Gottesdienst
DESCRIPTION:Pfarrer i.R. Axel Kramme
URL:https://weimar-evangelisch.de/veranstaltung/gottesdienst-84-2024-07-07/
LOCATION:Klinikum\, Weimar\, Thüringen\, 99423\, Deutschland
CATEGORIES:Gottesdienste
ATTACH;FMTTYPE=image/jpeg:https://weimar-evangelisch.de/wp-content/uploads/2023/05/Klinikum_co_Neuwirt.jpg
END:VEVENT
BEGIN:VEVENT
DTSTART;TZID=Europe/Berlin:20240630T100000
DTEND;TZID=Europe/Berlin:20240630T110000
DTSTAMP:20260425T170233
CREATED:20231221T105257Z
LAST-MODIFIED:20240531T082556Z
UID:11057-1719741600-1719745200@weimar-evangelisch.de
SUMMARY:Gottesdienst
DESCRIPTION:Rektor Ramón Seliger
URL:https://weimar-evangelisch.de/veranstaltung/gottesdienst-84-2024-06-30/
LOCATION:Klinikum\, Weimar\, Thüringen\, 99423\, Deutschland
CATEGORIES:Gottesdienste
ATTACH;FMTTYPE=image/jpeg:https://weimar-evangelisch.de/wp-content/uploads/2023/05/Klinikum_co_Neuwirt.jpg
END:VEVENT
END:VCALENDAR