BEGIN:VCALENDAR
VERSION:2.0
PRODID:-//Weimar Evangelisch - ECPv6.6.1//NONSGML v1.0//EN
CALSCALE:GREGORIAN
METHOD:PUBLISH
X-WR-CALNAME:Weimar Evangelisch
X-ORIGINAL-URL:https://weimar-evangelisch.de
X-WR-CALDESC:Veranstaltungen für Weimar Evangelisch
REFRESH-INTERVAL;VALUE=DURATION:PT1H
X-Robots-Tag:noindex
X-PUBLISHED-TTL:PT1H
BEGIN:VTIMEZONE
TZID:Europe/Berlin
BEGIN:DAYLIGHT
TZOFFSETFROM:+0100
TZOFFSETTO:+0200
TZNAME:CEST
DTSTART:20250330T010000
END:DAYLIGHT
BEGIN:STANDARD
TZOFFSETFROM:+0200
TZOFFSETTO:+0100
TZNAME:CET
DTSTART:20251026T010000
END:STANDARD
END:VTIMEZONE
BEGIN:VEVENT
DTSTART;TZID=Europe/Berlin:20251019T100000
DTEND;TZID=Europe/Berlin:20251019T110000
DTSTAMP:20260425T153230
CREATED:20250108T083741Z
LAST-MODIFIED:20250926T084045Z
UID:17356-1760868000-1760871600@weimar-evangelisch.de
SUMMARY:Gottesdienst
DESCRIPTION:Pfarrer i.R. Axel Kramme
URL:https://weimar-evangelisch.de/veranstaltung/gottesdienst-134-2025-04-20-2025-10-19/
LOCATION:Klinikum\, Weimar\, Thüringen\, 99423\, Deutschland
CATEGORIES:Gottesdienste
ATTACH;FMTTYPE=image/jpeg:https://weimar-evangelisch.de/wp-content/uploads/2023/05/Klinikum_co_Neuwirt.jpg
END:VEVENT
BEGIN:VEVENT
DTSTART;TZID=Europe/Berlin:20250921T100000
DTEND;TZID=Europe/Berlin:20250921T110000
DTSTAMP:20260425T153230
CREATED:20250108T083741Z
LAST-MODIFIED:20250828T114818Z
UID:17352-1758448800-1758452400@weimar-evangelisch.de
SUMMARY:Gottesdienst
DESCRIPTION:Pfarrer i.R. Axel Kramme
URL:https://weimar-evangelisch.de/veranstaltung/gottesdienst-134-2025-04-20-2025-09-21/
LOCATION:Klinikum\, Weimar\, Thüringen\, 99423\, Deutschland
CATEGORIES:Gottesdienste
ATTACH;FMTTYPE=image/jpeg:https://weimar-evangelisch.de/wp-content/uploads/2023/05/Klinikum_co_Neuwirt.jpg
END:VEVENT
BEGIN:VEVENT
DTSTART;TZID=Europe/Berlin:20250914T100000
DTEND;TZID=Europe/Berlin:20250914T110000
DTSTAMP:20260425T153230
CREATED:20250108T083741Z
LAST-MODIFIED:20250827T115732Z
UID:17533-1757844000-1757847600@weimar-evangelisch.de
SUMMARY:Gottesdienst
DESCRIPTION:Pfarrerin Dorothea Heller
URL:https://weimar-evangelisch.de/veranstaltung/gottesdienst-134-2025-05-11-2025-09-14/
LOCATION:Klinikum\, Weimar\, Thüringen\, 99423\, Deutschland
CATEGORIES:Gottesdienste
ATTACH;FMTTYPE=image/jpeg:https://weimar-evangelisch.de/wp-content/uploads/2023/05/Klinikum_co_Neuwirt.jpg
END:VEVENT
BEGIN:VEVENT
DTSTART;TZID=Europe/Berlin:20250907T100000
DTEND;TZID=Europe/Berlin:20250907T110000
DTSTAMP:20260425T153230
CREATED:20250108T083741Z
LAST-MODIFIED:20250827T114342Z
UID:17532-1757239200-1757242800@weimar-evangelisch.de
SUMMARY:Gottesdienst
DESCRIPTION:Pfarrerin Dorothea Heller
URL:https://weimar-evangelisch.de/veranstaltung/gottesdienst-134-2025-05-11-2025-09-07/
LOCATION:Klinikum\, Weimar\, Thüringen\, 99423\, Deutschland
CATEGORIES:Gottesdienste
ATTACH;FMTTYPE=image/jpeg:https://weimar-evangelisch.de/wp-content/uploads/2023/05/Klinikum_co_Neuwirt.jpg
END:VEVENT
BEGIN:VEVENT
DTSTART;TZID=Europe/Berlin:20250831T100000
DTEND;TZID=Europe/Berlin:20250831T110000
DTSTAMP:20260425T153230
CREATED:20250108T083741Z
LAST-MODIFIED:20250710T103457Z
UID:17588-1756634400-1756638000@weimar-evangelisch.de
SUMMARY:Gottesdienst
DESCRIPTION:Pfarrerin Dorothea Heller
URL:https://weimar-evangelisch.de/veranstaltung/gottesdienst-134-2025-05-18-2025-08-31/
LOCATION:Klinikum\, Weimar\, Thüringen\, 99423\, Deutschland
CATEGORIES:Gottesdienste
ATTACH;FMTTYPE=image/jpeg:https://weimar-evangelisch.de/wp-content/uploads/2023/05/Klinikum_co_Neuwirt.jpg
END:VEVENT
BEGIN:VEVENT
DTSTART;TZID=Europe/Berlin:20250824T100000
DTEND;TZID=Europe/Berlin:20250824T110000
DTSTAMP:20260425T153231
CREATED:20250108T083741Z
LAST-MODIFIED:20250710T102758Z
UID:17347-1756029600-1756033200@weimar-evangelisch.de
SUMMARY:Gottesdienst
DESCRIPTION:Rektor Ramón Seliger
URL:https://weimar-evangelisch.de/veranstaltung/gottesdienst-134-2025-04-20-2025-08-24/
LOCATION:Klinikum\, Weimar\, Thüringen\, 99423\, Deutschland
CATEGORIES:Gottesdienste
ATTACH;FMTTYPE=image/jpeg:https://weimar-evangelisch.de/wp-content/uploads/2023/05/Klinikum_co_Neuwirt.jpg
END:VEVENT
BEGIN:VEVENT
DTSTART;TZID=Europe/Berlin:20250817T100000
DTEND;TZID=Europe/Berlin:20250817T110000
DTSTAMP:20260425T153231
CREATED:20250108T083741Z
LAST-MODIFIED:20250710T102213Z
UID:17346-1755424800-1755428400@weimar-evangelisch.de
SUMMARY:Gottesdienst
DESCRIPTION:Pfarrer i.R. Axel Kramme
URL:https://weimar-evangelisch.de/veranstaltung/gottesdienst-134-2025-04-20-2025-08-17/
LOCATION:Klinikum\, Weimar\, Thüringen\, 99423\, Deutschland
CATEGORIES:Gottesdienste
ATTACH;FMTTYPE=image/jpeg:https://weimar-evangelisch.de/wp-content/uploads/2023/05/Klinikum_co_Neuwirt.jpg
END:VEVENT
BEGIN:VEVENT
DTSTART;TZID=Europe/Berlin:20250810T100000
DTEND;TZID=Europe/Berlin:20250810T110000
DTSTAMP:20260425T153231
CREATED:20250108T083741Z
LAST-MODIFIED:20250710T101450Z
UID:17345-1754820000-1754823600@weimar-evangelisch.de
SUMMARY:Gottesdienst
DESCRIPTION:Pfarrerin Dorothea Heller
URL:https://weimar-evangelisch.de/veranstaltung/gottesdienst-134-2025-04-20-2025-08-10/
LOCATION:Klinikum\, Weimar\, Thüringen\, 99423\, Deutschland
CATEGORIES:Gottesdienste
ATTACH;FMTTYPE=image/jpeg:https://weimar-evangelisch.de/wp-content/uploads/2023/05/Klinikum_co_Neuwirt.jpg
END:VEVENT
BEGIN:VEVENT
DTSTART;TZID=Europe/Berlin:20250713T100000
DTEND;TZID=Europe/Berlin:20250713T110000
DTSTAMP:20260425T153231
CREATED:20250108T083741Z
LAST-MODIFIED:20250603T132810Z
UID:17341-1752400800-1752404400@weimar-evangelisch.de
SUMMARY:Gottesdienst
DESCRIPTION:Pfarrer i.R. Axel Kramme
URL:https://weimar-evangelisch.de/veranstaltung/gottesdienst-134-2025-04-20-2025-07-13/
LOCATION:Klinikum\, Weimar\, Thüringen\, 99423\, Deutschland
CATEGORIES:Gottesdienste
ATTACH;FMTTYPE=image/jpeg:https://weimar-evangelisch.de/wp-content/uploads/2023/05/Klinikum_co_Neuwirt.jpg
END:VEVENT
BEGIN:VEVENT
DTSTART;TZID=Europe/Berlin:20250706T100000
DTEND;TZID=Europe/Berlin:20250706T110000
DTSTAMP:20260425T153231
CREATED:20250108T083741Z
LAST-MODIFIED:20250603T131948Z
UID:17340-1751796000-1751799600@weimar-evangelisch.de
SUMMARY:Gottesdienst
DESCRIPTION:Pfarrer i.R. Axle Kramme
URL:https://weimar-evangelisch.de/veranstaltung/gottesdienst-134-2025-04-20-2025-07-06/
LOCATION:Klinikum\, Weimar\, Thüringen\, 99423\, Deutschland
CATEGORIES:Gottesdienste
ATTACH;FMTTYPE=image/jpeg:https://weimar-evangelisch.de/wp-content/uploads/2023/05/Klinikum_co_Neuwirt.jpg
END:VEVENT
BEGIN:VEVENT
DTSTART;TZID=Europe/Berlin:20250629T100000
DTEND;TZID=Europe/Berlin:20250629T110000
DTSTAMP:20260425T153231
CREATED:20250108T083741Z
LAST-MODIFIED:20250603T131305Z
UID:17339-1751191200-1751194800@weimar-evangelisch.de
SUMMARY:Gottesdienst
DESCRIPTION:Pfarrerin Dorothea Heller
URL:https://weimar-evangelisch.de/veranstaltung/gottesdienst-134-2025-04-20-2025-06-29/
LOCATION:Klinikum\, Weimar\, Thüringen\, 99423\, Deutschland
CATEGORIES:Gottesdienste
ATTACH;FMTTYPE=image/jpeg:https://weimar-evangelisch.de/wp-content/uploads/2023/05/Klinikum_co_Neuwirt.jpg
END:VEVENT
BEGIN:VEVENT
DTSTART;TZID=Europe/Berlin:20250622T100000
DTEND;TZID=Europe/Berlin:20250622T110000
DTSTAMP:20260425T153231
CREATED:20250108T083741Z
LAST-MODIFIED:20250603T125618Z
UID:17338-1750586400-1750590000@weimar-evangelisch.de
SUMMARY:Gottesdienst
DESCRIPTION:Lektorin Diana Fiedler
URL:https://weimar-evangelisch.de/veranstaltung/gottesdienst-134-2025-04-20-2025-06-22/
LOCATION:Klinikum\, Weimar\, Thüringen\, 99423\, Deutschland
CATEGORIES:Gottesdienste
ATTACH;FMTTYPE=image/jpeg:https://weimar-evangelisch.de/wp-content/uploads/2023/05/Klinikum_co_Neuwirt.jpg
END:VEVENT
BEGIN:VEVENT
DTSTART;TZID=Europe/Berlin:20250615T100000
DTEND;TZID=Europe/Berlin:20250615T110000
DTSTAMP:20260425T153231
CREATED:20250108T083741Z
LAST-MODIFIED:20250603T124523Z
UID:17337-1749981600-1749985200@weimar-evangelisch.de
SUMMARY:Gottesdienst
DESCRIPTION:Pfarrerin Dorothea Heller
URL:https://weimar-evangelisch.de/veranstaltung/gottesdienst-134-2025-04-20-2025-06-15/
LOCATION:Klinikum\, Weimar\, Thüringen\, 99423\, Deutschland
CATEGORIES:Gottesdienste
ATTACH;FMTTYPE=image/jpeg:https://weimar-evangelisch.de/wp-content/uploads/2023/05/Klinikum_co_Neuwirt.jpg
END:VEVENT
BEGIN:VEVENT
DTSTART;TZID=Europe/Berlin:20250608T100000
DTEND;TZID=Europe/Berlin:20250608T110000
DTSTAMP:20260425T153231
CREATED:20250108T083741Z
LAST-MODIFIED:20250603T123930Z
UID:17336-1749376800-1749380400@weimar-evangelisch.de
SUMMARY:Gottesdienst
DESCRIPTION:Rektor Ramón Seliger
URL:https://weimar-evangelisch.de/veranstaltung/gottesdienst-134-2025-04-20-2025-06-08/
LOCATION:Klinikum\, Weimar\, Thüringen\, 99423\, Deutschland
CATEGORIES:Gottesdienste
ATTACH;FMTTYPE=image/jpeg:https://weimar-evangelisch.de/wp-content/uploads/2023/05/Klinikum_co_Neuwirt.jpg
END:VEVENT
BEGIN:VEVENT
DTSTART;TZID=Europe/Berlin:20250601T100000
DTEND;TZID=Europe/Berlin:20250601T110000
DTSTAMP:20260425T153231
CREATED:20250108T083741Z
LAST-MODIFIED:20250228T124924Z
UID:14039-1748772000-1748775600@weimar-evangelisch.de
SUMMARY:Gottesdienst
DESCRIPTION:
URL:https://weimar-evangelisch.de/veranstaltung/gottesdienst-134-2025-01-26-2025-06-01/
LOCATION:Klinikum\, Weimar\, Thüringen\, 99423\, Deutschland
CATEGORIES:Gottesdienste
ATTACH;FMTTYPE=image/jpeg:https://weimar-evangelisch.de/wp-content/uploads/2023/05/Klinikum_co_Neuwirt.jpg
END:VEVENT
BEGIN:VEVENT
DTSTART;TZID=Europe/Berlin:20250525T100000
DTEND;TZID=Europe/Berlin:20250525T110000
DTSTAMP:20260425T153231
CREATED:20250108T083741Z
LAST-MODIFIED:20250509T121149Z
UID:13743-1748167200-1748170800@weimar-evangelisch.de
SUMMARY:Gottesdienst
DESCRIPTION:Pfarrerin Dorothea Heller
URL:https://weimar-evangelisch.de/veranstaltung/gottesdienst-134-2025-05-25/
LOCATION:Klinikum\, Weimar\, Thüringen\, 99423\, Deutschland
CATEGORIES:Gottesdienste
ATTACH;FMTTYPE=image/jpeg:https://weimar-evangelisch.de/wp-content/uploads/2023/05/Klinikum_co_Neuwirt.jpg
END:VEVENT
BEGIN:VEVENT
DTSTART;TZID=Europe/Berlin:20250518T100000
DTEND;TZID=Europe/Berlin:20250518T110000
DTSTAMP:20260425T153231
CREATED:20250108T083741Z
LAST-MODIFIED:20250509T120513Z
UID:13742-1747562400-1747566000@weimar-evangelisch.de
SUMMARY:Gottesdienst
DESCRIPTION:Pfarrer i.R. Axel Kramme
URL:https://weimar-evangelisch.de/veranstaltung/gottesdienst-134-2025-05-18/
LOCATION:Klinikum\, Weimar\, Thüringen\, 99423\, Deutschland
CATEGORIES:Gottesdienste
ATTACH;FMTTYPE=image/jpeg:https://weimar-evangelisch.de/wp-content/uploads/2023/05/Klinikum_co_Neuwirt.jpg
END:VEVENT
BEGIN:VEVENT
DTSTART;TZID=Europe/Berlin:20250511T100000
DTEND;TZID=Europe/Berlin:20250511T110000
DTSTAMP:20260425T153231
CREATED:20250108T083741Z
LAST-MODIFIED:20250509T114857Z
UID:13741-1746957600-1746961200@weimar-evangelisch.de
SUMMARY:Gottesdienst
DESCRIPTION:Pfarrerin Dorothea Heller
URL:https://weimar-evangelisch.de/veranstaltung/gottesdienst-134-2025-05-11/
LOCATION:Klinikum\, Weimar\, Thüringen\, 99423\, Deutschland
CATEGORIES:Gottesdienste
ATTACH;FMTTYPE=image/jpeg:https://weimar-evangelisch.de/wp-content/uploads/2023/05/Klinikum_co_Neuwirt.jpg
END:VEVENT
BEGIN:VEVENT
DTSTART;TZID=Europe/Berlin:20250504T100000
DTEND;TZID=Europe/Berlin:20250504T110000
DTSTAMP:20260425T153231
CREATED:20250108T083741Z
LAST-MODIFIED:20250108T083741Z
UID:13740-1746352800-1746356400@weimar-evangelisch.de
SUMMARY:Gottesdienst
DESCRIPTION:
URL:https://weimar-evangelisch.de/veranstaltung/gottesdienst-134/2025-05-04/
LOCATION:Klinikum\, Weimar\, Thüringen\, 99423\, Deutschland
CATEGORIES:Gottesdienste
ATTACH;FMTTYPE=image/jpeg:https://weimar-evangelisch.de/wp-content/uploads/2023/05/Klinikum_co_Neuwirt.jpg
END:VEVENT
BEGIN:VEVENT
DTSTART;TZID=Europe/Berlin:20250427T100000
DTEND;TZID=Europe/Berlin:20250427T110000
DTSTAMP:20260425T153231
CREATED:20250108T083741Z
LAST-MODIFIED:20250331T100058Z
UID:13739-1745748000-1745751600@weimar-evangelisch.de
SUMMARY:Gottesdienst
DESCRIPTION:Pfarrerin Dorothea Heller
URL:https://weimar-evangelisch.de/veranstaltung/gottesdienst-134-2025-04-27/
LOCATION:Klinikum\, Weimar\, Thüringen\, 99423\, Deutschland
CATEGORIES:Gottesdienste
ATTACH;FMTTYPE=image/jpeg:https://weimar-evangelisch.de/wp-content/uploads/2023/05/Klinikum_co_Neuwirt.jpg
END:VEVENT
BEGIN:VEVENT
DTSTART;TZID=Europe/Berlin:20250323T100000
DTEND;TZID=Europe/Berlin:20250323T110000
DTSTAMP:20260425T153231
CREATED:20250108T083741Z
LAST-MODIFIED:20250226T130116Z
UID:13734-1742724000-1742727600@weimar-evangelisch.de
SUMMARY:Gottesdienst
DESCRIPTION:Rektor Ramón Seliger
URL:https://weimar-evangelisch.de/veranstaltung/gottesdienst-134-2025-03-23/
LOCATION:Klinikum\, Weimar\, Thüringen\, 99423\, Deutschland
CATEGORIES:Gottesdienste
ATTACH;FMTTYPE=image/jpeg:https://weimar-evangelisch.de/wp-content/uploads/2023/05/Klinikum_co_Neuwirt.jpg
END:VEVENT
BEGIN:VEVENT
DTSTART;TZID=Europe/Berlin:20250316T100000
DTEND;TZID=Europe/Berlin:20250316T110000
DTSTAMP:20260425T153231
CREATED:20250108T083741Z
LAST-MODIFIED:20250226T125534Z
UID:13732-1742119200-1742122800@weimar-evangelisch.de
SUMMARY:Gottesdienst
DESCRIPTION:Pfarrer i.R. Axel Kramme
URL:https://weimar-evangelisch.de/veranstaltung/gottesdienst-134-2025-03-16/
LOCATION:Klinikum\, Weimar\, Thüringen\, 99423\, Deutschland
CATEGORIES:Gottesdienste
ATTACH;FMTTYPE=image/jpeg:https://weimar-evangelisch.de/wp-content/uploads/2023/05/Klinikum_co_Neuwirt.jpg
END:VEVENT
BEGIN:VEVENT
DTSTART;TZID=Europe/Berlin:20250309T100000
DTEND;TZID=Europe/Berlin:20250309T110000
DTSTAMP:20260425T153231
CREATED:20250108T083741Z
LAST-MODIFIED:20250226T124755Z
UID:13731-1741514400-1741518000@weimar-evangelisch.de
SUMMARY:Gottesdienst
DESCRIPTION:Pfarrerin Dorothea Heller
URL:https://weimar-evangelisch.de/veranstaltung/gottesdienst-134-2025-03-09/
LOCATION:Klinikum\, Weimar\, Thüringen\, 99423\, Deutschland
CATEGORIES:Gottesdienste
ATTACH;FMTTYPE=image/jpeg:https://weimar-evangelisch.de/wp-content/uploads/2023/05/Klinikum_co_Neuwirt.jpg
END:VEVENT
BEGIN:VEVENT
DTSTART;TZID=Europe/Berlin:20250302T100000
DTEND;TZID=Europe/Berlin:20250302T110000
DTSTAMP:20260425T153231
CREATED:20250108T083741Z
LAST-MODIFIED:20250226T123211Z
UID:13730-1740909600-1740913200@weimar-evangelisch.de
SUMMARY:Gottesdienst
DESCRIPTION:Pfarrer i.R. Axel Kramme
URL:https://weimar-evangelisch.de/veranstaltung/gottesdienst-134-2025-03-02/
LOCATION:Klinikum\, Weimar\, Thüringen\, 99423\, Deutschland
CATEGORIES:Gottesdienste
ATTACH;FMTTYPE=image/jpeg:https://weimar-evangelisch.de/wp-content/uploads/2023/05/Klinikum_co_Neuwirt.jpg
END:VEVENT
BEGIN:VEVENT
DTSTART;TZID=Europe/Berlin:20250223T100000
DTEND;TZID=Europe/Berlin:20250223T110000
DTSTAMP:20260425T153231
CREATED:20250108T083741Z
LAST-MODIFIED:20250122T123237Z
UID:13729-1740304800-1740308400@weimar-evangelisch.de
SUMMARY:Gottesdienst
DESCRIPTION:Rektor Ramón Seliger
URL:https://weimar-evangelisch.de/veranstaltung/gottesdienst-134-2025-02-23/
LOCATION:Klinikum\, Weimar\, Thüringen\, 99423\, Deutschland
CATEGORIES:Gottesdienste
ATTACH;FMTTYPE=image/jpeg:https://weimar-evangelisch.de/wp-content/uploads/2023/05/Klinikum_co_Neuwirt.jpg
END:VEVENT
BEGIN:VEVENT
DTSTART;TZID=Europe/Berlin:20250216T100000
DTEND;TZID=Europe/Berlin:20250216T110000
DTSTAMP:20260425T153231
CREATED:20250108T083741Z
LAST-MODIFIED:20250122T122416Z
UID:13728-1739700000-1739703600@weimar-evangelisch.de
SUMMARY:Gottesdienst
DESCRIPTION:Pfarrerin Dorothea Heller
URL:https://weimar-evangelisch.de/veranstaltung/gottesdienst-134-2025-02-16/
LOCATION:Klinikum\, Weimar\, Thüringen\, 99423\, Deutschland
CATEGORIES:Gottesdienste
ATTACH;FMTTYPE=image/jpeg:https://weimar-evangelisch.de/wp-content/uploads/2023/05/Klinikum_co_Neuwirt.jpg
END:VEVENT
BEGIN:VEVENT
DTSTART;TZID=Europe/Berlin:20250209T100000
DTEND;TZID=Europe/Berlin:20250209T110000
DTSTAMP:20260425T153231
CREATED:20250108T083741Z
LAST-MODIFIED:20250228T124227Z
UID:13727-1739095200-1739098800@weimar-evangelisch.de
SUMMARY:Gottesdienst
DESCRIPTION:Rektor Ramón Seliger
URL:https://weimar-evangelisch.de/veranstaltung/gottesdienst-134-2025-02-09/
LOCATION:Klinikum\, Weimar\, Thüringen\, 99423\, Deutschland
CATEGORIES:Gottesdienste
ATTACH;FMTTYPE=image/jpeg:https://weimar-evangelisch.de/wp-content/uploads/2023/05/Klinikum_co_Neuwirt.jpg
END:VEVENT
BEGIN:VEVENT
DTSTART;TZID=Europe/Berlin:20250202T100000
DTEND;TZID=Europe/Berlin:20250202T110000
DTSTAMP:20260425T153231
CREATED:20250108T083741Z
LAST-MODIFIED:20250122T114926Z
UID:13726-1738490400-1738494000@weimar-evangelisch.de
SUMMARY:Gottesdienst
DESCRIPTION:Pfarrer i.R. Axel Kramme
URL:https://weimar-evangelisch.de/veranstaltung/gottesdienst-134-2025-02-02/
LOCATION:Klinikum\, Weimar\, Thüringen\, 99423\, Deutschland
CATEGORIES:Gottesdienste
ATTACH;FMTTYPE=image/jpeg:https://weimar-evangelisch.de/wp-content/uploads/2023/05/Klinikum_co_Neuwirt.jpg
END:VEVENT
BEGIN:VEVENT
DTSTART;TZID=Europe/Berlin:20250126T100000
DTEND;TZID=Europe/Berlin:20250126T110000
DTSTAMP:20260425T153231
CREATED:20250108T083741Z
LAST-MODIFIED:20250108T092617Z
UID:13725-1737885600-1737889200@weimar-evangelisch.de
SUMMARY:Gottesdienst
DESCRIPTION:Rektor Ramón Seliger
URL:https://weimar-evangelisch.de/veranstaltung/gottesdienst-134-2025-01-26/
LOCATION:Klinikum\, Weimar\, Thüringen\, 99423\, Deutschland
CATEGORIES:Gottesdienste
ATTACH;FMTTYPE=image/jpeg:https://weimar-evangelisch.de/wp-content/uploads/2023/05/Klinikum_co_Neuwirt.jpg
END:VEVENT
BEGIN:VEVENT
DTSTART;TZID=Europe/Berlin:20250119T100000
DTEND;TZID=Europe/Berlin:20250119T110000
DTSTAMP:20260425T153231
CREATED:20250108T083741Z
LAST-MODIFIED:20250108T090609Z
UID:13724-1737280800-1737284400@weimar-evangelisch.de
SUMMARY:Gottesdienst
DESCRIPTION:Pfarrerin Dorothea Heller
URL:https://weimar-evangelisch.de/veranstaltung/gottesdienst-134-2025-01-19/
LOCATION:Klinikum\, Weimar\, Thüringen\, 99423\, Deutschland
CATEGORIES:Gottesdienste
ATTACH;FMTTYPE=image/jpeg:https://weimar-evangelisch.de/wp-content/uploads/2023/05/Klinikum_co_Neuwirt.jpg
END:VEVENT
END:VCALENDAR