BEGIN:VCALENDAR
VERSION:2.0
PRODID:-//Weimar Evangelisch - ECPv6.6.1//NONSGML v1.0//EN
CALSCALE:GREGORIAN
METHOD:PUBLISH
X-ORIGINAL-URL:https://weimar-evangelisch.de
X-WR-CALDESC:Veranstaltungen für Weimar Evangelisch
REFRESH-INTERVAL;VALUE=DURATION:PT1H
X-Robots-Tag:noindex
X-PUBLISHED-TTL:PT1H
BEGIN:VTIMEZONE
TZID:Europe/Berlin
BEGIN:DAYLIGHT
TZOFFSETFROM:+0100
TZOFFSETTO:+0200
TZNAME:CEST
DTSTART:20220327T010000
END:DAYLIGHT
BEGIN:STANDARD
TZOFFSETFROM:+0200
TZOFFSETTO:+0100
TZNAME:CET
DTSTART:20221030T010000
END:STANDARD
BEGIN:DAYLIGHT
TZOFFSETFROM:+0100
TZOFFSETTO:+0200
TZNAME:CEST
DTSTART:20230326T010000
END:DAYLIGHT
BEGIN:STANDARD
TZOFFSETFROM:+0200
TZOFFSETTO:+0100
TZNAME:CET
DTSTART:20231029T010000
END:STANDARD
BEGIN:DAYLIGHT
TZOFFSETFROM:+0100
TZOFFSETTO:+0200
TZNAME:CEST
DTSTART:20240331T010000
END:DAYLIGHT
BEGIN:STANDARD
TZOFFSETFROM:+0200
TZOFFSETTO:+0100
TZNAME:CET
DTSTART:20241027T010000
END:STANDARD
BEGIN:DAYLIGHT
TZOFFSETFROM:+0100
TZOFFSETTO:+0200
TZNAME:CEST
DTSTART:20250330T010000
END:DAYLIGHT
BEGIN:STANDARD
TZOFFSETFROM:+0200
TZOFFSETTO:+0100
TZNAME:CET
DTSTART:20251026T010000
END:STANDARD
END:VTIMEZONE
BEGIN:VEVENT
DTSTART;TZID=Europe/Berlin:20250120T190000
DTEND;TZID=Europe/Berlin:20250120T213000
DTSTAMP:20260425T043323
CREATED:20250108T095625Z
LAST-MODIFIED:20250108T095625Z
UID:14107-1737399600-1737408600@weimar-evangelisch.de
SUMMARY:Kino zum Martin-Luther-King-Day
DESCRIPTION:“Selma” (OmU; USA 2014\, Ava DuVernay)\n \nProf. Dr. Michael Haspel wird in den zeitgeschichtlichen Hintergrund und die Entstehungsgeschichte des Films einführen. \n 
URL:https://weimar-evangelisch.de/veranstaltung/kino-zum-martin-luther-king-day/
LOCATION:Kino Mon Ami\, Goetheplatz 11\, Weimar\, Thüringen\, 99423\, Deutschland
CATEGORIES:Veranstaltungen
END:VEVENT
BEGIN:VEVENT
DTSTART;TZID=Europe/Berlin:20231130T190000
DTEND;TZID=Europe/Berlin:20231130T203000
DTSTAMP:20260425T043323
CREATED:20231103T123357Z
LAST-MODIFIED:20231103T123516Z
UID:9763-1701370800-1701376200@weimar-evangelisch.de
SUMMARY:Run Soldier Run – Szenische Lesung
DESCRIPTION:Das Programm der Szenischen Lesung „Run Soldier Run“ beleuchtet ausgewählte länderspezifische Situationen und einzelne persönliche Beispiele von Kriegsdienstverweigeren und Dessertueren \nWeiter Informationen: \nhttps://www.monami-weimar.de/programm/einzelansicht/run-soldier-run-lauf-soldat-lauf
URL:https://weimar-evangelisch.de/veranstaltung/run-soldier-run-szenische-lesung/
LOCATION:Kino Mon Ami\, Goetheplatz 11\, Weimar\, Thüringen\, 99423\, Deutschland
END:VEVENT
BEGIN:VEVENT
DTSTART;TZID=Europe/Berlin:20221031T190000
DTEND;TZID=Europe/Berlin:20221031T210000
DTSTAMP:20260425T043323
CREATED:20221011T085426Z
LAST-MODIFIED:20221012T091026Z
UID:5820-1667242800-1667250000@weimar-evangelisch.de
SUMMARY:Reformations-Kino im mon ami
DESCRIPTION:Im Rahmen der Veranstaltungsreihe zum Thema “Luther und die Obrigkeit” läuft der Film „Luther“ (USA/D 2003) im Kommunalkino mon Ami. \nEine Kooperation der Evangelisch-Lutherischen Kirchengemeinde Weimar mit dem kommunalen Kino im mon ami und dem Martin-Luther-Institut der Universität Erfurt. \n 
URL:https://weimar-evangelisch.de/veranstaltung/reformations-kino-im-mon-ami/
LOCATION:Kino Mon Ami\, Goetheplatz 11\, Weimar\, Thüringen\, 99423\, Deutschland
CATEGORIES:Veranstaltungen
END:VEVENT
END:VCALENDAR