BEGIN:VCALENDAR
VERSION:2.0
PRODID:-//Weimar Evangelisch - ECPv6.6.1//NONSGML v1.0//EN
CALSCALE:GREGORIAN
METHOD:PUBLISH
X-WR-CALNAME:Weimar Evangelisch
X-ORIGINAL-URL:https://weimar-evangelisch.de
X-WR-CALDESC:Veranstaltungen für Weimar Evangelisch
REFRESH-INTERVAL;VALUE=DURATION:PT1H
X-Robots-Tag:noindex
X-PUBLISHED-TTL:PT1H
BEGIN:VTIMEZONE
TZID:Europe/Berlin
BEGIN:DAYLIGHT
TZOFFSETFROM:+0100
TZOFFSETTO:+0200
TZNAME:CEST
DTSTART:20250330T010000
END:DAYLIGHT
BEGIN:STANDARD
TZOFFSETFROM:+0200
TZOFFSETTO:+0100
TZNAME:CET
DTSTART:20251026T010000
END:STANDARD
END:VTIMEZONE
BEGIN:VEVENT
DTSTART;TZID=Europe/Berlin:20251010T140000
DTEND;TZID=Europe/Berlin:20251010T233000
DTSTAMP:20260424T174159
CREATED:20250926T103507Z
LAST-MODIFIED:20250926T103804Z
UID:18284-1760104800-1760139000@weimar-evangelisch.de
SUMMARY:PaulA Palooza – Jugendfestival zum Zwiebelmarkt
DESCRIPTION:Es spielen verschiedene Bands und Musiker*innen auf der Bühne und dazu hat der Flohmarkt geöffnet. Getränke werden an der Bar serviert. \n14.00 Uhr Sternenregen\n15.15 Uhr Banda Escola Popular\n16.30 Uhr Radium\n17.30 Uhr LADA\n19.00 Uhr Alehlokapi\n20.30 Uhr Otto D’Duck\n21.50 Uhr DUE \n 
URL:https://weimar-evangelisch.de/veranstaltung/paula-palooza-jugendfestival-zum-zwiebelmarkt-3/
LOCATION:Jakobskirche\, Am Jakobskirchhof 9\, Weimar\, Thüringen\, 99423\, Deutschland
CATEGORIES:Veranstaltungen
ATTACH;FMTTYPE=image/jpeg:https://weimar-evangelisch.de/wp-content/uploads/2025/09/s2845_01sg_0745-scaled.jpg
END:VEVENT
BEGIN:VEVENT
DTSTART;TZID=Europe/Berlin:20251005T100000
DTEND;TZID=Europe/Berlin:20251005T110000
DTSTAMP:20260424T174159
CREATED:20250311T095924Z
LAST-MODIFIED:20250926T082216Z
UID:16970-1759658400-1759662000@weimar-evangelisch.de
SUMMARY:Familiengottesdienst zu Erntedank
DESCRIPTION:in der Fairen Woche \n  \nPfarrer Hardy Rylke
URL:https://weimar-evangelisch.de/veranstaltung/gottesdienst-133-2025-10-05-2/
LOCATION:Jakobskirche\, Am Jakobskirchhof 9\, Weimar\, Thüringen\, 99423\, Deutschland
CATEGORIES:Gottesdienste
ATTACH;FMTTYPE=image/jpeg:https://weimar-evangelisch.de/wp-content/uploads/2022/01/Jakobskirche_Weimar_s2528_0048.jpg
END:VEVENT
BEGIN:VEVENT
DTSTART;TZID=Europe/Berlin:20250928T100000
DTEND;TZID=Europe/Berlin:20250928T110000
DTSTAMP:20260424T174159
CREATED:20250311T095924Z
LAST-MODIFIED:20250828T115746Z
UID:16969-1759053600-1759057200@weimar-evangelisch.de
SUMMARY:Gottesdienst
DESCRIPTION:Vikar Dr. Volker Rabens
URL:https://weimar-evangelisch.de/veranstaltung/gottesdienst-133-2025-09-28-2/
LOCATION:Jakobskirche\, Am Jakobskirchhof 9\, Weimar\, Thüringen\, 99423\, Deutschland
CATEGORIES:Gottesdienste
ATTACH;FMTTYPE=image/jpeg:https://weimar-evangelisch.de/wp-content/uploads/2022/01/Jakobskirche_Weimar_s2528_0048.jpg
END:VEVENT
BEGIN:VEVENT
DTSTART;TZID=Europe/Berlin:20250921T100000
DTEND;TZID=Europe/Berlin:20250921T110000
DTSTAMP:20260424T174159
CREATED:20250311T095924Z
LAST-MODIFIED:20250828T114701Z
UID:16968-1758448800-1758452400@weimar-evangelisch.de
SUMMARY:Gottesdienst zur Eröffnung der Interkulturellen Woche
DESCRIPTION:Rektor Ramón Seliger
URL:https://weimar-evangelisch.de/veranstaltung/gottesdienst-133-2025-09-21-2/
LOCATION:Jakobskirche\, Am Jakobskirchhof 9\, Weimar\, Thüringen\, 99423\, Deutschland
CATEGORIES:Gottesdienste
ATTACH;FMTTYPE=image/jpeg:https://weimar-evangelisch.de/wp-content/uploads/2022/01/Jakobskirche_Weimar_s2528_0048.jpg
END:VEVENT
BEGIN:VEVENT
DTSTART;TZID=Europe/Berlin:20250914T100000
DTEND;TZID=Europe/Berlin:20250914T110000
DTSTAMP:20260424T174159
CREATED:20250311T095924Z
LAST-MODIFIED:20250827T115702Z
UID:16967-1757844000-1757847600@weimar-evangelisch.de
SUMMARY:Gottesdienst mit Abendmahl
DESCRIPTION:Pfarrer Hardy Rylke
URL:https://weimar-evangelisch.de/veranstaltung/gottesdienst-133-2025-09-14-2/
LOCATION:Jakobskirche\, Am Jakobskirchhof 9\, Weimar\, Thüringen\, 99423\, Deutschland
CATEGORIES:Gottesdienste
ATTACH;FMTTYPE=image/jpeg:https://weimar-evangelisch.de/wp-content/uploads/2022/01/Jakobskirche_Weimar_s2528_0048.jpg
END:VEVENT
BEGIN:VEVENT
DTSTART;TZID=Europe/Berlin:20250913T080000
DTEND;TZID=Europe/Berlin:20250913T170000
DTSTAMP:20260424T174159
CREATED:20250604T081109Z
LAST-MODIFIED:20250604T081109Z
UID:17958-1757750400-1757782800@weimar-evangelisch.de
SUMMARY:Tauffest
DESCRIPTION:Unsere Gemeinde lädt zu einem Tauffest in die Jakobskirche ein. Eltern mit einem Kind\, Kinder\, die schon älter sind und sich taufen lassen möchten\, Jugendliche\, Erwachsene. Alle sind willkommen. Die Taufe ist auch sonst in den meisten Gottesdiensten oder im Rahmen einer Familientaufe möglich. Sprechen Sie gern die Pfarrerinnen und Pfarrer unserer Gemeinde an.
URL:https://weimar-evangelisch.de/veranstaltung/tauffest-4/
LOCATION:Jakobskirche\, Am Jakobskirchhof 9\, Weimar\, Thüringen\, 99423\, Deutschland
CATEGORIES:Gottesdienste
ATTACH;FMTTYPE=image/jpeg:https://weimar-evangelisch.de/wp-content/uploads/2022/01/Jakobskirche_Weimar_s2555_0037.jpg
END:VEVENT
BEGIN:VEVENT
DTSTART;TZID=Europe/Berlin:20250907T100000
DTEND;TZID=Europe/Berlin:20250907T110000
DTSTAMP:20260424T174159
CREATED:20250311T095924Z
LAST-MODIFIED:20250827T114309Z
UID:16966-1757239200-1757242800@weimar-evangelisch.de
SUMMARY:Gottesdienst
DESCRIPTION:Pfarrer Hardy Rylke
URL:https://weimar-evangelisch.de/veranstaltung/gottesdienst-133-2025-09-07-2/
LOCATION:Jakobskirche\, Am Jakobskirchhof 9\, Weimar\, Thüringen\, 99423\, Deutschland
CATEGORIES:Gottesdienste
ATTACH;FMTTYPE=image/jpeg:https://weimar-evangelisch.de/wp-content/uploads/2022/01/Jakobskirche_Weimar_s2528_0048.jpg
END:VEVENT
BEGIN:VEVENT
DTSTART;TZID=Europe/Berlin:20250831T100000
DTEND;TZID=Europe/Berlin:20250831T110000
DTSTAMP:20260424T174159
CREATED:20250311T095924Z
LAST-MODIFIED:20250710T103919Z
UID:16965-1756634400-1756638000@weimar-evangelisch.de
SUMMARY:Familiengottesdienst
DESCRIPTION:Pfarrer Hardy Rylke
URL:https://weimar-evangelisch.de/veranstaltung/gottesdienst-133-2025-08-31-2/
LOCATION:Jakobskirche\, Am Jakobskirchhof 9\, Weimar\, Thüringen\, 99423\, Deutschland
CATEGORIES:Gottesdienste
ATTACH;FMTTYPE=image/jpeg:https://weimar-evangelisch.de/wp-content/uploads/2022/01/Jakobskirche_Weimar_s2528_0048.jpg
END:VEVENT
BEGIN:VEVENT
DTSTART;TZID=Europe/Berlin:20250817T100000
DTEND;TZID=Europe/Berlin:20250817T110000
DTSTAMP:20260424T174159
CREATED:20250311T095924Z
LAST-MODIFIED:20250710T102019Z
UID:16963-1755424800-1755428400@weimar-evangelisch.de
SUMMARY:Gottesdienst
DESCRIPTION:Vikar Dr. Volker Rabens
URL:https://weimar-evangelisch.de/veranstaltung/gottesdienst-133-2025-08-17-2/
LOCATION:Jakobskirche\, Am Jakobskirchhof 9\, Weimar\, Thüringen\, 99423\, Deutschland
CATEGORIES:Gottesdienste
ATTACH;FMTTYPE=image/jpeg:https://weimar-evangelisch.de/wp-content/uploads/2022/01/Jakobskirche_Weimar_s2528_0048.jpg
END:VEVENT
BEGIN:VEVENT
DTSTART;TZID=Europe/Berlin:20250810T100000
DTEND;TZID=Europe/Berlin:20250810T110000
DTSTAMP:20260424T174159
CREATED:20250311T095924Z
LAST-MODIFIED:20250710T101407Z
UID:16962-1754820000-1754823600@weimar-evangelisch.de
SUMMARY:Gottesdienst
DESCRIPTION:Pfarrer Hardy Rylke
URL:https://weimar-evangelisch.de/veranstaltung/gottesdienst-133-2025-08-10-2/
LOCATION:Jakobskirche\, Am Jakobskirchhof 9\, Weimar\, Thüringen\, 99423\, Deutschland
CATEGORIES:Gottesdienste
ATTACH;FMTTYPE=image/jpeg:https://weimar-evangelisch.de/wp-content/uploads/2022/01/Jakobskirche_Weimar_s2528_0048.jpg
END:VEVENT
BEGIN:VEVENT
DTSTART;TZID=Europe/Berlin:20250803T100000
DTEND;TZID=Europe/Berlin:20250803T110000
DTSTAMP:20260424T174159
CREATED:20250311T095924Z
LAST-MODIFIED:20250710T100448Z
UID:16961-1754215200-1754218800@weimar-evangelisch.de
SUMMARY:Liedergottesdienst
DESCRIPTION:Pfarrer Dr. Michael Haspel und Dirk Marschall
URL:https://weimar-evangelisch.de/veranstaltung/gottesdienst-133-2025-08-03-2/
LOCATION:Jakobskirche\, Am Jakobskirchhof 9\, Weimar\, Thüringen\, 99423\, Deutschland
CATEGORIES:Gottesdienste
ATTACH;FMTTYPE=image/jpeg:https://weimar-evangelisch.de/wp-content/uploads/2022/01/Jakobskirche_Weimar_s2528_0048.jpg
END:VEVENT
BEGIN:VEVENT
DTSTART;TZID=Europe/Berlin:20250727T100000
DTEND;TZID=Europe/Berlin:20250727T110000
DTSTAMP:20260424T174159
CREATED:20250311T095924Z
LAST-MODIFIED:20250603T134113Z
UID:16960-1753610400-1753614000@weimar-evangelisch.de
SUMMARY:Gottesdienst
DESCRIPTION:Pfarrer Hardy Rylke
URL:https://weimar-evangelisch.de/veranstaltung/gottesdienst-133-2025-07-27-2/
LOCATION:Jakobskirche\, Am Jakobskirchhof 9\, Weimar\, Thüringen\, 99423\, Deutschland
CATEGORIES:Gottesdienste
ATTACH;FMTTYPE=image/jpeg:https://weimar-evangelisch.de/wp-content/uploads/2022/01/Jakobskirche_Weimar_s2528_0048.jpg
END:VEVENT
BEGIN:VEVENT
DTSTART;TZID=Europe/Berlin:20250720T100000
DTEND;TZID=Europe/Berlin:20250720T110000
DTSTAMP:20260424T174159
CREATED:20250311T095924Z
LAST-MODIFIED:20250603T135122Z
UID:16959-1753005600-1753009200@weimar-evangelisch.de
SUMMARY:Gottesdienst
DESCRIPTION:Pfarrer Hardy Rylke
URL:https://weimar-evangelisch.de/veranstaltung/gottesdienst-133-2025-07-20-2/
LOCATION:Jakobskirche\, Am Jakobskirchhof 9\, Weimar\, Thüringen\, 99423\, Deutschland
CATEGORIES:Gottesdienste
ATTACH;FMTTYPE=image/jpeg:https://weimar-evangelisch.de/wp-content/uploads/2022/01/Jakobskirche_Weimar_s2528_0048.jpg
END:VEVENT
BEGIN:VEVENT
DTSTART;TZID=Europe/Berlin:20250713T160000
DTEND;TZID=Europe/Berlin:20250713T170000
DTSTAMP:20260424T174159
CREATED:20250512T084122Z
LAST-MODIFIED:20250512T093529Z
UID:17641-1752422400-1752426000@weimar-evangelisch.de
SUMMARY:Abschlusskonzert Bach-Biennale Weimar
DESCRIPTION:Ensemble „Paradizo“\nKarten 15€ (erm. 10€) \n  \nhttps://www.bachbiennaleweimar.de/de/terminuebersicht/termin/consort-music.html
URL:https://weimar-evangelisch.de/veranstaltung/abschlusskonzert-bach-biennale-weimar/
LOCATION:Jakobskirche\, Am Jakobskirchhof 9\, Weimar\, Thüringen\, 99423\, Deutschland
CATEGORIES:Veranstaltungen
ATTACH;FMTTYPE=image/jpeg:https://weimar-evangelisch.de/wp-content/uploads/2022/01/Jakobskirche_Weimar_s2555_0037.jpg
END:VEVENT
BEGIN:VEVENT
DTSTART;TZID=Europe/Berlin:20250713T100000
DTEND;TZID=Europe/Berlin:20250713T110000
DTSTAMP:20260424T174159
CREATED:20250311T095924Z
LAST-MODIFIED:20250603T132730Z
UID:16958-1752400800-1752404400@weimar-evangelisch.de
SUMMARY:Gottesdienst
DESCRIPTION:Vikar Dr. Volker Rabens
URL:https://weimar-evangelisch.de/veranstaltung/gottesdienst-133-2025-07-13-2/
LOCATION:Jakobskirche\, Am Jakobskirchhof 9\, Weimar\, Thüringen\, 99423\, Deutschland
CATEGORIES:Gottesdienste
ATTACH;FMTTYPE=image/jpeg:https://weimar-evangelisch.de/wp-content/uploads/2022/01/Jakobskirche_Weimar_s2528_0048.jpg
END:VEVENT
BEGIN:VEVENT
DTSTART;TZID=Europe/Berlin:20250706T183000
DTEND;TZID=Europe/Berlin:20250706T193000
DTSTAMP:20260424T174159
CREATED:20250603T131909Z
LAST-MODIFIED:20250604T083543Z
UID:17803-1751826600-1751830200@weimar-evangelisch.de
SUMMARY:Abendgottesdienst
DESCRIPTION:Vikar Dr. Volker Rabens \nWas dich erwartet?\nEin Gottesdienst – aber keiner\, wie du ihn vielleicht kennst. Dieser Abend ist für junge und junggebliebene Menschen\, für alle\, die Sehnsucht nach Tiefe\, Begegnung und ein bisschen Aufatmen haben. Wir nehmen unsere Themen und Anliegen mit – egal ob laut oder leise\, fröhlich oder schwer.\nDieser Abend bietet Raum für alles\, was dich bewegt:\n► für Stille und Gebet\,\n► für Musik\, die unter die Haut geht\,\n► für Gedanken\, die inspirieren und Mut machen\,\n► für Gemeinschaft mit netten Menschen \nUnd danach? Snacks\, Drinks und Gespräche im gemütlichen Bistro-Setting.\nMach dir einen schönen Abend – mit uns\, mit Gott\, mit guter Musik und leckerem Essen.\nWir freuen uns auf dich! \n 
URL:https://weimar-evangelisch.de/veranstaltung/abendgottesdienst/
LOCATION:Jakobskirche\, Am Jakobskirchhof 9\, Weimar\, Thüringen\, 99423\, Deutschland
CATEGORIES:Gottesdienste
ATTACH;FMTTYPE=image/jpeg:https://weimar-evangelisch.de/wp-content/uploads/2025/06/1498633-Ausschnitt.jpg
END:VEVENT
BEGIN:VEVENT
DTSTART;TZID=Europe/Berlin:20250706T100000
DTEND;TZID=Europe/Berlin:20250706T110000
DTSTAMP:20260424T174159
CREATED:20250311T095924Z
LAST-MODIFIED:20250603T131822Z
UID:16956-1751796000-1751799600@weimar-evangelisch.de
SUMMARY:Gottesdienst mit Abendmahl
DESCRIPTION:Pfarrer Hardy Rylke
URL:https://weimar-evangelisch.de/veranstaltung/gottesdienst-133-2025-07-06-2/
LOCATION:Jakobskirche\, Am Jakobskirchhof 9\, Weimar\, Thüringen\, 99423\, Deutschland
CATEGORIES:Gottesdienste
ATTACH;FMTTYPE=image/jpeg:https://weimar-evangelisch.de/wp-content/uploads/2022/01/Jakobskirche_Weimar_s2528_0048.jpg
END:VEVENT
BEGIN:VEVENT
DTSTART;TZID=Europe/Berlin:20250629T100000
DTEND;TZID=Europe/Berlin:20250629T110000
DTSTAMP:20260424T174159
CREATED:20250311T095924Z
LAST-MODIFIED:20250603T131112Z
UID:16955-1751191200-1751194800@weimar-evangelisch.de
SUMMARY:Gottesdienst
DESCRIPTION:Pfarrer Hardy Rylke
URL:https://weimar-evangelisch.de/veranstaltung/gottesdienst-133-2025-06-29-2/
LOCATION:Jakobskirche\, Am Jakobskirchhof 9\, Weimar\, Thüringen\, 99423\, Deutschland
CATEGORIES:Gottesdienste
ATTACH;FMTTYPE=image/jpeg:https://weimar-evangelisch.de/wp-content/uploads/2022/01/Jakobskirche_Weimar_s2528_0048.jpg
END:VEVENT
BEGIN:VEVENT
DTSTART;TZID=Europe/Berlin:20250622T100000
DTEND;TZID=Europe/Berlin:20250622T110000
DTSTAMP:20260424T174159
CREATED:20250311T095924Z
LAST-MODIFIED:20250603T125043Z
UID:16954-1750586400-1750590000@weimar-evangelisch.de
SUMMARY:Gottesdienst
DESCRIPTION:Pfarrer i.R. Axel Kramme
URL:https://weimar-evangelisch.de/veranstaltung/gottesdienst-133-2025-06-22-2/
LOCATION:Jakobskirche\, Am Jakobskirchhof 9\, Weimar\, Thüringen\, 99423\, Deutschland
CATEGORIES:Gottesdienste
ATTACH;FMTTYPE=image/jpeg:https://weimar-evangelisch.de/wp-content/uploads/2022/01/Jakobskirche_Weimar_s2528_0048.jpg
END:VEVENT
BEGIN:VEVENT
DTSTART;TZID=Europe/Berlin:20250615T100000
DTEND;TZID=Europe/Berlin:20250615T110000
DTSTAMP:20260424T174159
CREATED:20250311T095924Z
LAST-MODIFIED:20250603T124410Z
UID:16953-1749981600-1749985200@weimar-evangelisch.de
SUMMARY:Gottesdienst
DESCRIPTION:Pfarrer Hardy Rylke
URL:https://weimar-evangelisch.de/veranstaltung/gottesdienst-133-2025-06-15-2/
LOCATION:Jakobskirche\, Am Jakobskirchhof 9\, Weimar\, Thüringen\, 99423\, Deutschland
CATEGORIES:Gottesdienste
ATTACH;FMTTYPE=image/jpeg:https://weimar-evangelisch.de/wp-content/uploads/2022/01/Jakobskirche_Weimar_s2528_0048.jpg
END:VEVENT
BEGIN:VEVENT
DTSTART;TZID=Europe/Berlin:20250614T193000
DTEND;TZID=Europe/Berlin:20250614T210000
DTSTAMP:20260424T174159
CREATED:20250512T082800Z
LAST-MODIFIED:20250512T082800Z
UID:17637-1749929400-1749934800@weimar-evangelisch.de
SUMMARY:Sommerkonzert der Jakob Singers
DESCRIPTION:Leitung Jula Vollmuth und David Neumann
URL:https://weimar-evangelisch.de/veranstaltung/sommerkonzert-der-jakob-singers-2/
LOCATION:Jakobskirche\, Am Jakobskirchhof 9\, Weimar\, Thüringen\, 99423\, Deutschland
CATEGORIES:Veranstaltungen
ATTACH;FMTTYPE=image/jpeg:https://weimar-evangelisch.de/wp-content/uploads/2022/04/Gospelchor.jpg
END:VEVENT
BEGIN:VEVENT
DTSTART;TZID=Europe/Berlin:20250612T193000
DTEND;TZID=Europe/Berlin:20250612T203000
DTSTAMP:20260424T174159
CREATED:20250311T111447Z
LAST-MODIFIED:20250311T111447Z
UID:17047-1749756600-1749760200@weimar-evangelisch.de
SUMMARY:LIED: Lebendig In Erinnerung Denken
DESCRIPTION:Eröffnungskonzert von Liedstadt Weimar\nMusik von Anna Amalia\, Fanny Hensel\,\nHermann Leopoldi\, Franz Schubert u.a.\nCornelius Obonya und Julian Prégardien – Gesang\nBela Korenyi – Klavier\nAnne Haasch – Gitarre\nStudierende der Musikhochschule Weimar\nBachkantatenensemble Weimar\nJohannes Kleinjung – Leitung\nEintritt: 20 € (erm. 12 €)
URL:https://weimar-evangelisch.de/veranstaltung/lied-lebendig-in-erinnerung-denken/
LOCATION:Jakobskirche\, Am Jakobskirchhof 9\, Weimar\, Thüringen\, 99423\, Deutschland
CATEGORIES:Veranstaltungen
ATTACH;FMTTYPE=image/jpeg:https://weimar-evangelisch.de/wp-content/uploads/2022/01/Jakobskirche_Weimar_s2555_0037.jpg
END:VEVENT
BEGIN:VEVENT
DTSTART;TZID=Europe/Berlin:20250609T110000
DTEND;TZID=Europe/Berlin:20250609T120000
DTSTAMP:20260424T174159
CREATED:20250122T142653Z
LAST-MODIFIED:20250122T142653Z
UID:15017-1749466800-1749470400@weimar-evangelisch.de
SUMMARY:Service on Pentecost
DESCRIPTION:englischsprachiger Gottesdienst mit Prof. Dr. Michael Haspel \nJakob Singers
URL:https://weimar-evangelisch.de/veranstaltung/service-on-pentecost-3/
LOCATION:Jakobskirche\, Am Jakobskirchhof 9\, Weimar\, Thüringen\, 99423\, Deutschland
CATEGORIES:Gottesdienste
ATTACH;FMTTYPE=image/jpeg:https://weimar-evangelisch.de/wp-content/uploads/2022/03/jakobskirche_weimar_07.jpg
END:VEVENT
BEGIN:VEVENT
DTSTART;TZID=Europe/Berlin:20250608T100000
DTEND;TZID=Europe/Berlin:20250608T110000
DTSTAMP:20260424T174159
CREATED:20250311T095924Z
LAST-MODIFIED:20250603T123747Z
UID:16952-1749376800-1749380400@weimar-evangelisch.de
SUMMARY:Konfirmationsgottesdienst
DESCRIPTION:Pfarrer Hardy Rylke und Vikar Dr. Volker Rabens
URL:https://weimar-evangelisch.de/veranstaltung/gottesdienst-133-2025-06-08-2/
LOCATION:Jakobskirche\, Am Jakobskirchhof 9\, Weimar\, Thüringen\, 99423\, Deutschland
CATEGORIES:Gottesdienste
ATTACH;FMTTYPE=image/jpeg:https://weimar-evangelisch.de/wp-content/uploads/2022/01/Jakobskirche_Weimar_s2528_0048.jpg
END:VEVENT
BEGIN:VEVENT
DTSTART;TZID=Europe/Berlin:20250606T193000
DTEND;TZID=Europe/Berlin:20250606T210000
DTSTAMP:20260424T174159
CREATED:20250512T082340Z
LAST-MODIFIED:20250512T082340Z
UID:17635-1749238200-1749243600@weimar-evangelisch.de
SUMMARY:Konzert und Finissage
DESCRIPTION:The String Company\nWeltmusik – Gipsy – Klezmer – Chanson
URL:https://weimar-evangelisch.de/veranstaltung/konzert-und-finissage/
LOCATION:Jakobskirche\, Am Jakobskirchhof 9\, Weimar\, Thüringen\, 99423\, Deutschland
CATEGORIES:Veranstaltungen
ATTACH;FMTTYPE=image/jpeg:https://weimar-evangelisch.de/wp-content/uploads/2022/01/Jakobskirche_Weimar_s2555_0037.jpg
END:VEVENT
BEGIN:VEVENT
DTSTART;TZID=Europe/Berlin:20250530T180000
DTEND;TZID=Europe/Berlin:20250530T193000
DTSTAMP:20260424T174159
CREATED:20250512T081946Z
LAST-MODIFIED:20250512T081946Z
UID:17633-1748628000-1748633400@weimar-evangelisch.de
SUMMARY:Chorkonzert
DESCRIPTION:Chorakademie Erfurt e.V. und Chorkids Illertissen
URL:https://weimar-evangelisch.de/veranstaltung/chorkonzert-2/
LOCATION:Jakobskirche\, Am Jakobskirchhof 9\, Weimar\, Thüringen\, 99423\, Deutschland
CATEGORIES:Veranstaltungen
ATTACH;FMTTYPE=image/jpeg:https://weimar-evangelisch.de/wp-content/uploads/2022/01/Jakobskirche_Weimar_s2555_0037.jpg
END:VEVENT
BEGIN:VEVENT
DTSTART;TZID=Europe/Berlin:20250528T193000
DTEND;TZID=Europe/Berlin:20250528T210000
DTSTAMP:20260424T174159
CREATED:20250512T081821Z
LAST-MODIFIED:20250512T081821Z
UID:17631-1748460600-1748466000@weimar-evangelisch.de
SUMMARY:Broken Vows and unbound heart
DESCRIPTION:Ensemble Paradizo & friends
URL:https://weimar-evangelisch.de/veranstaltung/broken-vows-and-unbound-heart/
LOCATION:Jakobskirche\, Am Jakobskirchhof 9\, Weimar\, Thüringen\, 99423\, Deutschland
CATEGORIES:Veranstaltungen
ATTACH;FMTTYPE=image/jpeg:https://weimar-evangelisch.de/wp-content/uploads/2022/01/Jakobskirche_Weimar_s2555_0037.jpg
END:VEVENT
BEGIN:VEVENT
DTSTART;TZID=Europe/Berlin:20250525T180000
DTEND;TZID=Europe/Berlin:20250525T193000
DTSTAMP:20260424T174159
CREATED:20250512T081628Z
LAST-MODIFIED:20250512T081628Z
UID:17629-1748196000-1748201400@weimar-evangelisch.de
SUMMARY:Frühlingskonzert schola cantorum weimar
DESCRIPTION:Vorbereitungschöre\, der Nachwuchschor und Kinderchöre\n \nKarten unter gf@schola-cantorum-weimar.de oder Abendkasse ab 17:00 Uhr \n 
URL:https://weimar-evangelisch.de/veranstaltung/fruehlingskonzert-schola-cantorum-weimar/
LOCATION:Jakobskirche\, Am Jakobskirchhof 9\, Weimar\, Thüringen\, 99423\, Deutschland
CATEGORIES:Veranstaltungen
ATTACH;FMTTYPE=image/jpeg:https://weimar-evangelisch.de/wp-content/uploads/2022/01/Jakobskirche_Weimar_s2528_0048.jpg
END:VEVENT
BEGIN:VEVENT
DTSTART;TZID=Europe/Berlin:20250525T100000
DTEND;TZID=Europe/Berlin:20250525T110000
DTSTAMP:20260424T174159
CREATED:20250311T095924Z
LAST-MODIFIED:20250509T121103Z
UID:16950-1748167200-1748170800@weimar-evangelisch.de
SUMMARY:Gottesdienst mit Abendmahl
DESCRIPTION:Pfarrer Hardy Rylke
URL:https://weimar-evangelisch.de/veranstaltung/gottesdienst-133-2025-05-25-2/
LOCATION:Jakobskirche\, Am Jakobskirchhof 9\, Weimar\, Thüringen\, 99423\, Deutschland
CATEGORIES:Gottesdienste
ATTACH;FMTTYPE=image/jpeg:https://weimar-evangelisch.de/wp-content/uploads/2022/01/Jakobskirche_Weimar_s2528_0048.jpg
END:VEVENT
BEGIN:VEVENT
DTSTART;TZID=Europe/Berlin:20250518T100000
DTEND;TZID=Europe/Berlin:20250518T110000
DTSTAMP:20260424T174159
CREATED:20250311T095924Z
LAST-MODIFIED:20250509T120325Z
UID:16949-1747562400-1747566000@weimar-evangelisch.de
SUMMARY:Vorstellungsgottesdienst der Konfirmand*innen
DESCRIPTION:Pfarrer Hardy Rylke und Vikar Dr. Volker Rabens \nKonfirmand*innen der 8. Klasse
URL:https://weimar-evangelisch.de/veranstaltung/gottesdienst-133-2025-05-18-2/
LOCATION:Jakobskirche\, Am Jakobskirchhof 9\, Weimar\, Thüringen\, 99423\, Deutschland
CATEGORIES:Gottesdienste
ATTACH;FMTTYPE=image/jpeg:https://weimar-evangelisch.de/wp-content/uploads/2022/01/Jakobskirche_Weimar_s2528_0048.jpg
END:VEVENT
END:VCALENDAR