BEGIN:VCALENDAR
VERSION:2.0
PRODID:-//Weimar Evangelisch - ECPv6.6.1//NONSGML v1.0//EN
CALSCALE:GREGORIAN
METHOD:PUBLISH
X-ORIGINAL-URL:https://weimar-evangelisch.de
X-WR-CALDESC:Veranstaltungen für Weimar Evangelisch
REFRESH-INTERVAL;VALUE=DURATION:PT1H
X-Robots-Tag:noindex
X-PUBLISHED-TTL:PT1H
BEGIN:VTIMEZONE
TZID:Europe/Berlin
BEGIN:DAYLIGHT
TZOFFSETFROM:+0100
TZOFFSETTO:+0200
TZNAME:CEST
DTSTART:20250330T010000
END:DAYLIGHT
BEGIN:STANDARD
TZOFFSETFROM:+0200
TZOFFSETTO:+0100
TZNAME:CET
DTSTART:20251026T010000
END:STANDARD
BEGIN:DAYLIGHT
TZOFFSETFROM:+0100
TZOFFSETTO:+0200
TZNAME:CEST
DTSTART:20260329T010000
END:DAYLIGHT
BEGIN:STANDARD
TZOFFSETFROM:+0200
TZOFFSETTO:+0100
TZNAME:CET
DTSTART:20261025T010000
END:STANDARD
END:VTIMEZONE
BEGIN:VEVENT
DTSTART;TZID=Europe/Berlin:20260419T100000
DTEND;TZID=Europe/Berlin:20260419T110000
DTSTAMP:20260422T141304
CREATED:20250311T095924Z
LAST-MODIFIED:20260316T124040Z
UID:18492-1776592800-1776596400@weimar-evangelisch.de
SUMMARY:Gottesdienst
DESCRIPTION:Pfarrer Hardy Rylke
URL:https://weimar-evangelisch.de/veranstaltung/gottesdienst-133-2025-05-04-2-2026-04-19/
LOCATION:Jakobskirche\, Am Jakobskirchhof 9\, Weimar\, Thüringen\, 99423\, Deutschland
CATEGORIES:Gottesdienste
ATTACH;FMTTYPE=image/jpeg:https://weimar-evangelisch.de/wp-content/uploads/2022/01/Jakobskirche_Weimar_s2528_0048.jpg
END:VEVENT
BEGIN:VEVENT
DTSTART;TZID=Europe/Berlin:20260412T100000
DTEND;TZID=Europe/Berlin:20260412T110000
DTSTAMP:20260422T141304
CREATED:20250311T095924Z
LAST-MODIFIED:20260316T123351Z
UID:18491-1775988000-1775991600@weimar-evangelisch.de
SUMMARY:Gottesdienst
DESCRIPTION:Pfarrer Hardy Rylke
URL:https://weimar-evangelisch.de/veranstaltung/gottesdienst-133-2025-05-04-2-2026-04-12/
LOCATION:Jakobskirche\, Am Jakobskirchhof 9\, Weimar\, Thüringen\, 99423\, Deutschland
CATEGORIES:Gottesdienste
ATTACH;FMTTYPE=image/jpeg:https://weimar-evangelisch.de/wp-content/uploads/2022/01/Jakobskirche_Weimar_s2528_0048.jpg
END:VEVENT
BEGIN:VEVENT
DTSTART;TZID=Europe/Berlin:20260410T190000
DTEND;TZID=Europe/Berlin:20260410T203000
DTSTAMP:20260422T141304
CREATED:20260407T100824Z
LAST-MODIFIED:20260407T100824Z
UID:21650-1775847600-1775853000@weimar-evangelisch.de
SUMMARY:La France en visite en Allemagne
DESCRIPTION:Das Ensemble Écho Galant lädt ein zu spätbarocker Musik aus Frankreich und Deutschland.\nEs musizieren\nKatharina Klehr – Blockflöte\nMarc Tetzel – Traversflöte\nKatharina Lampersperger – Viola da Gamba\nZhiang Chen – Cembalo
URL:https://weimar-evangelisch.de/veranstaltung/la-france-en-visite-en-allemagne/
LOCATION:Jakobskirche\, Am Jakobskirchhof 9\, Weimar\, Thüringen\, 99423\, Deutschland
CATEGORIES:Konzerte
ATTACH;FMTTYPE=image/jpeg:https://weimar-evangelisch.de/wp-content/uploads/2022/01/Jakobskirche_Weimar_s2555_0037.jpg
END:VEVENT
BEGIN:VEVENT
DTSTART;TZID=Europe/Berlin:20260406T100000
DTEND;TZID=Europe/Berlin:20260406T110000
DTSTAMP:20260422T141304
CREATED:20260313T131644Z
LAST-MODIFIED:20260313T131644Z
UID:20907-1775469600-1775473200@weimar-evangelisch.de
SUMMARY:Gottesdienst zum Ostermontag
DESCRIPTION:Pfarrer Hardy Rylke
URL:https://weimar-evangelisch.de/veranstaltung/gottesdienst-zum-ostermontag-4/
LOCATION:Jakobskirche\, Am Jakobskirchhof 9\, Weimar\, Thüringen\, 99423\, Deutschland
CATEGORIES:Gottesdienste
ATTACH;FMTTYPE=image/jpeg:https://weimar-evangelisch.de/wp-content/uploads/2022/01/Jakobskirche_Weimar_s2528_0048.jpg
END:VEVENT
BEGIN:VEVENT
DTSTART;TZID=Europe/Berlin:20260405T100000
DTEND;TZID=Europe/Berlin:20260405T110000
DTSTAMP:20260422T141304
CREATED:20250311T095924Z
LAST-MODIFIED:20260313T130838Z
UID:18490-1775383200-1775386800@weimar-evangelisch.de
SUMMARY:Familiengottesdienst mit Osterfrühstück
DESCRIPTION:Pfarrer Hardy Rylke \nVerabschiedung von Dr. Volker Rabens
URL:https://weimar-evangelisch.de/veranstaltung/gottesdienst-133-2025-05-04-2-2026-04-05/
LOCATION:Jakobskirche\, Am Jakobskirchhof 9\, Weimar\, Thüringen\, 99423\, Deutschland
CATEGORIES:Gottesdienste
ATTACH;FMTTYPE=image/jpeg:https://weimar-evangelisch.de/wp-content/uploads/2022/01/Jakobskirche_Weimar_s2528_0048.jpg
END:VEVENT
BEGIN:VEVENT
DTSTART;TZID=Europe/Berlin:20260403T100000
DTEND;TZID=Europe/Berlin:20260403T110000
DTSTAMP:20260422T141304
CREATED:20260113T141506Z
LAST-MODIFIED:20260313T125501Z
UID:20148-1775210400-1775214000@weimar-evangelisch.de
SUMMARY:Abendmahlsgottesdienst
DESCRIPTION:Pfarrer Hardy Rylke
URL:https://weimar-evangelisch.de/veranstaltung/gottesdienst-180/
LOCATION:Jakobskirche\, Am Jakobskirchhof 9\, Weimar\, Thüringen\, 99423\, Deutschland
CATEGORIES:Gottesdienste
ATTACH;FMTTYPE=image/jpeg:https://weimar-evangelisch.de/wp-content/uploads/2022/01/Jakobskirche_Weimar_s2528_0048.jpg
END:VEVENT
BEGIN:VEVENT
DTSTART;TZID=Europe/Berlin:20260402T180000
DTEND;TZID=Europe/Berlin:20260402T190000
DTSTAMP:20260422T141304
CREATED:20260218T084206Z
LAST-MODIFIED:20260218T084206Z
UID:20725-1775152800-1775156400@weimar-evangelisch.de
SUMMARY:Gottesdienst zum Gründonnerstag mit Abendmahl
DESCRIPTION:Pfarrer Hardy Rylke und Pfarrer Sebastian Kircheis
URL:https://weimar-evangelisch.de/veranstaltung/gottesdienst-zum-gruendonnerstag-mit-abendmahl-6/
LOCATION:Jakobskirche\, Am Jakobskirchhof 9\, Weimar\, Thüringen\, 99423\, Deutschland
CATEGORIES:Gottesdienste
ATTACH;FMTTYPE=image/jpeg:https://weimar-evangelisch.de/wp-content/uploads/2022/03/jakobskirche_weimar_07.jpg
END:VEVENT
BEGIN:VEVENT
DTSTART;TZID=Europe/Berlin:20260329T100000
DTEND;TZID=Europe/Berlin:20260329T110000
DTSTAMP:20260422T141304
CREATED:20250311T095924Z
LAST-MODIFIED:20260218T101141Z
UID:18489-1774778400-1774782000@weimar-evangelisch.de
SUMMARY:Gottesdienst
DESCRIPTION:Pfarrer Hardy Rylke
URL:https://weimar-evangelisch.de/veranstaltung/gottesdienst-133-2025-05-04-2-2026-03-29/
LOCATION:Jakobskirche\, Am Jakobskirchhof 9\, Weimar\, Thüringen\, 99423\, Deutschland
CATEGORIES:Gottesdienste
ATTACH;FMTTYPE=image/jpeg:https://weimar-evangelisch.de/wp-content/uploads/2022/01/Jakobskirche_Weimar_s2528_0048.jpg
END:VEVENT
BEGIN:VEVENT
DTSTART;TZID=Europe/Berlin:20260322T100000
DTEND;TZID=Europe/Berlin:20260322T110000
DTSTAMP:20260422T141304
CREATED:20250311T095924Z
LAST-MODIFIED:20260218T095646Z
UID:18488-1774173600-1774177200@weimar-evangelisch.de
SUMMARY:Gottesdienst
DESCRIPTION:Pfarrer Hardy Rylke
URL:https://weimar-evangelisch.de/veranstaltung/gottesdienst-133-2025-05-04-2-2026-03-22/
LOCATION:Jakobskirche\, Am Jakobskirchhof 9\, Weimar\, Thüringen\, 99423\, Deutschland
CATEGORIES:Gottesdienste
ATTACH;FMTTYPE=image/jpeg:https://weimar-evangelisch.de/wp-content/uploads/2022/01/Jakobskirche_Weimar_s2528_0048.jpg
END:VEVENT
BEGIN:VEVENT
DTSTART;TZID=Europe/Berlin:20260315T113000
DTEND;TZID=Europe/Berlin:20260315T120000
DTSTAMP:20260422T141304
CREATED:20241108T102333Z
LAST-MODIFIED:20241108T102333Z
UID:20070-1773574200-1773576000@weimar-evangelisch.de
SUMMARY:Familienkirche
DESCRIPTION:
URL:https://weimar-evangelisch.de/veranstaltung/familienkirche-9/2026-03-15/
LOCATION:Jakobskirche\, Am Jakobskirchhof 9\, Weimar\, Thüringen\, 99423\, Deutschland
CATEGORIES:Gottesdienste
ATTACH;FMTTYPE=image/jpeg:https://weimar-evangelisch.de/wp-content/uploads/2022/03/Angebote_Kinder_und_Familie_jelleke-vanooteghem-uNWuSF4WwXc-unsplash.jpg
END:VEVENT
BEGIN:VEVENT
DTSTART;TZID=Europe/Berlin:20260315T100000
DTEND;TZID=Europe/Berlin:20260315T110000
DTSTAMP:20260422T141304
CREATED:20250311T095924Z
LAST-MODIFIED:20260218T093921Z
UID:18487-1773568800-1773572400@weimar-evangelisch.de
SUMMARY:Gottesdienst
DESCRIPTION:Pfarrer Hardy Rylke
URL:https://weimar-evangelisch.de/veranstaltung/gottesdienst-133-2025-05-04-2-2026-03-15/
LOCATION:Jakobskirche\, Am Jakobskirchhof 9\, Weimar\, Thüringen\, 99423\, Deutschland
CATEGORIES:Gottesdienste
ATTACH;FMTTYPE=image/jpeg:https://weimar-evangelisch.de/wp-content/uploads/2022/01/Jakobskirche_Weimar_s2528_0048.jpg
END:VEVENT
BEGIN:VEVENT
DTSTART;TZID=Europe/Berlin:20260314T180000
DTEND;TZID=Europe/Berlin:20260314T190000
DTSTAMP:20260422T141304
CREATED:20260126T122005Z
LAST-MODIFIED:20260126T122005Z
UID:20591-1773511200-1773514800@weimar-evangelisch.de
SUMMARY:Feel the Spirit!
DESCRIPTION:Gospelkonzert mit den Jakobsingers \nund Buchvorstellung mit Matthias Huff: Feel the Spirit! Sternstunden der Gospelmusik \n 
URL:https://weimar-evangelisch.de/veranstaltung/feel-the-spirit/
LOCATION:Jakobskirche\, Am Jakobskirchhof 9\, Weimar\, Thüringen\, 99423\, Deutschland
CATEGORIES:Konzerte
ATTACH;FMTTYPE=image/jpeg:https://weimar-evangelisch.de/wp-content/uploads/2022/01/Jakobskirche_Weimar_s2555_0037.jpg
END:VEVENT
BEGIN:VEVENT
DTSTART;TZID=Europe/Berlin:20260308T100000
DTEND;TZID=Europe/Berlin:20260308T110000
DTSTAMP:20260422T141304
CREATED:20250311T095924Z
LAST-MODIFIED:20260218T092754Z
UID:18486-1772964000-1772967600@weimar-evangelisch.de
SUMMARY:Gottesdienst mit Abendmahl
DESCRIPTION:Pfarrer Hardy Rylke
URL:https://weimar-evangelisch.de/veranstaltung/gottesdienst-133-2025-05-04-2-2026-03-08/
LOCATION:Jakobskirche\, Am Jakobskirchhof 9\, Weimar\, Thüringen\, 99423\, Deutschland
CATEGORIES:Gottesdienste
ATTACH;FMTTYPE=image/jpeg:https://weimar-evangelisch.de/wp-content/uploads/2022/01/Jakobskirche_Weimar_s2528_0048.jpg
END:VEVENT
BEGIN:VEVENT
DTSTART;TZID=Europe/Berlin:20260304T193000
DTEND;TZID=Europe/Berlin:20260304T203000
DTSTAMP:20260422T141304
CREATED:20260122T122454Z
LAST-MODIFIED:20260122T122543Z
UID:20568-1772652600-1772656200@weimar-evangelisch.de
SUMMARY:„Fünf Wochen mit der Passionserzählung des Matthäus-Evangeliums"
DESCRIPTION:Bibelkurs in der Passionszeit mit Pfarrer i. R. Karl-Siegfried Melzer \nAlle\, die sich für dieses Vorhaben interessieren\, sind herzlich eingeladen. \nKontakt: Mobil 0176 31 42 62 44 oder \nMail: ksmelzer@yahoo.de
URL:https://weimar-evangelisch.de/veranstaltung/fuenf-wochen-mit-der-passionserzaehlung-des-matthaeus-evangeliums/
LOCATION:Jakobskirche\, Am Jakobskirchhof 9\, Weimar\, Thüringen\, 99423\, Deutschland
CATEGORIES:Veranstaltungen
ATTACH;FMTTYPE=image/jpeg:https://weimar-evangelisch.de/wp-content/uploads/2022/01/Jakobskirche_Weimar_s2528_0048.jpg
END:VEVENT
BEGIN:VEVENT
DTSTART;TZID=Europe/Berlin:20260301T113000
DTEND;TZID=Europe/Berlin:20260301T120000
DTSTAMP:20260422T141304
CREATED:20241108T102333Z
LAST-MODIFIED:20241108T102333Z
UID:20069-1772364600-1772366400@weimar-evangelisch.de
SUMMARY:Familienkirche
DESCRIPTION:
URL:https://weimar-evangelisch.de/veranstaltung/familienkirche-9/2026-03-01/
LOCATION:Jakobskirche\, Am Jakobskirchhof 9\, Weimar\, Thüringen\, 99423\, Deutschland
CATEGORIES:Gottesdienste
ATTACH;FMTTYPE=image/jpeg:https://weimar-evangelisch.de/wp-content/uploads/2022/03/Angebote_Kinder_und_Familie_jelleke-vanooteghem-uNWuSF4WwXc-unsplash.jpg
END:VEVENT
BEGIN:VEVENT
DTSTART;TZID=Europe/Berlin:20260301T100000
DTEND;TZID=Europe/Berlin:20260301T110000
DTSTAMP:20260422T141304
CREATED:20250311T095924Z
LAST-MODIFIED:20260218T090849Z
UID:18485-1772359200-1772362800@weimar-evangelisch.de
SUMMARY:Gottesdienst
DESCRIPTION:Pfarrer Hardy Rylke
URL:https://weimar-evangelisch.de/veranstaltung/gottesdienst-133-2025-05-04-2-2026-03-01/
LOCATION:Jakobskirche\, Am Jakobskirchhof 9\, Weimar\, Thüringen\, 99423\, Deutschland
CATEGORIES:Gottesdienste
ATTACH;FMTTYPE=image/jpeg:https://weimar-evangelisch.de/wp-content/uploads/2022/01/Jakobskirche_Weimar_s2528_0048.jpg
END:VEVENT
BEGIN:VEVENT
DTSTART;TZID=Europe/Berlin:20260228T160000
DTEND;TZID=Europe/Berlin:20260228T170000
DTSTAMP:20260422T141304
CREATED:20260130T084407Z
LAST-MODIFIED:20260130T084407Z
UID:20654-1772294400-1772298000@weimar-evangelisch.de
SUMMARY:Konzert "Jesu meine Freude"
DESCRIPTION:Cantus thuringia
URL:https://weimar-evangelisch.de/veranstaltung/konzert-jesu-meine-freude/
LOCATION:Jakobskirche\, Am Jakobskirchhof 9\, Weimar\, Thüringen\, 99423\, Deutschland
CATEGORIES:Konzerte
ATTACH;FMTTYPE=image/jpeg:https://weimar-evangelisch.de/wp-content/uploads/2022/01/Jakobskirche_Weimar_s2555_0037.jpg
END:VEVENT
BEGIN:VEVENT
DTSTART;TZID=Europe/Berlin:20260222T100000
DTEND;TZID=Europe/Berlin:20260222T110000
DTSTAMP:20260422T141304
CREATED:20250311T095924Z
LAST-MODIFIED:20260122T121415Z
UID:18484-1771754400-1771758000@weimar-evangelisch.de
SUMMARY:Gottesdienst
DESCRIPTION:Pfarrer i.R. Karl-Siegfried Melzer
URL:https://weimar-evangelisch.de/veranstaltung/gottesdienst-133-2025-05-04-2-2026-02-22/
LOCATION:Jakobskirche\, Am Jakobskirchhof 9\, Weimar\, Thüringen\, 99423\, Deutschland
CATEGORIES:Gottesdienste
ATTACH;FMTTYPE=image/jpeg:https://weimar-evangelisch.de/wp-content/uploads/2022/01/Jakobskirche_Weimar_s2528_0048.jpg
END:VEVENT
BEGIN:VEVENT
DTSTART;TZID=Europe/Berlin:20260220T193000
DTEND;TZID=Europe/Berlin:20260220T210000
DTSTAMP:20260422T141304
CREATED:20260218T085020Z
LAST-MODIFIED:20260218T085020Z
UID:20729-1771615800-1771621200@weimar-evangelisch.de
SUMMARY:Chorkonzert
DESCRIPTION:Vela Vokalensemble – Köln \n  \nEs erklingen Werke von Henri Purcell\, Johann Sebastian und Michael Bach\, Johann Pachelbel\, Orlando Gibbons\, Robert Lucas Pearsall\, Karin Rehnqvist und anderen
URL:https://weimar-evangelisch.de/veranstaltung/chorkonzert-4/
LOCATION:Jakobskirche\, Am Jakobskirchhof 9\, Weimar\, Thüringen\, 99423\, Deutschland
CATEGORIES:Konzerte
ATTACH;FMTTYPE=image/jpeg:https://weimar-evangelisch.de/wp-content/uploads/2022/01/Jakobskirche_Weimar_s2555_0037.jpg
END:VEVENT
BEGIN:VEVENT
DTSTART;TZID=Europe/Berlin:20260215T100000
DTEND;TZID=Europe/Berlin:20260215T110000
DTSTAMP:20260422T141304
CREATED:20250311T095924Z
LAST-MODIFIED:20260122T120414Z
UID:18483-1771149600-1771153200@weimar-evangelisch.de
SUMMARY:Gottesdienst
DESCRIPTION:Pfarrer Hardy Rylke
URL:https://weimar-evangelisch.de/veranstaltung/gottesdienst-133-2025-05-04-2-2026-02-15/
LOCATION:Jakobskirche\, Am Jakobskirchhof 9\, Weimar\, Thüringen\, 99423\, Deutschland
CATEGORIES:Gottesdienste
ATTACH;FMTTYPE=image/jpeg:https://weimar-evangelisch.de/wp-content/uploads/2022/01/Jakobskirche_Weimar_s2528_0048.jpg
END:VEVENT
BEGIN:VEVENT
DTSTART;TZID=Europe/Berlin:20260208T100000
DTEND;TZID=Europe/Berlin:20260208T110000
DTSTAMP:20260422T141304
CREATED:20250311T095924Z
LAST-MODIFIED:20260122T115844Z
UID:18482-1770544800-1770548400@weimar-evangelisch.de
SUMMARY:Gottesdienst
DESCRIPTION:Pfarrer Hardy Rylke
URL:https://weimar-evangelisch.de/veranstaltung/gottesdienst-133-2025-05-04-2-2026-02-08/
LOCATION:Jakobskirche\, Am Jakobskirchhof 9\, Weimar\, Thüringen\, 99423\, Deutschland
CATEGORIES:Gottesdienste
ATTACH;FMTTYPE=image/jpeg:https://weimar-evangelisch.de/wp-content/uploads/2022/01/Jakobskirche_Weimar_s2528_0048.jpg
END:VEVENT
BEGIN:VEVENT
DTSTART;TZID=Europe/Berlin:20260201T100000
DTEND;TZID=Europe/Berlin:20260201T110000
DTSTAMP:20260422T141304
CREATED:20250311T095924Z
LAST-MODIFIED:20260122T112734Z
UID:18481-1769940000-1769943600@weimar-evangelisch.de
SUMMARY:Gottesdienst mit Abendmahl
DESCRIPTION:Pfarrer Hardy Rylke
URL:https://weimar-evangelisch.de/veranstaltung/gottesdienst-133-2025-05-04-2-2026-02-01/
LOCATION:Jakobskirche\, Am Jakobskirchhof 9\, Weimar\, Thüringen\, 99423\, Deutschland
CATEGORIES:Gottesdienste
ATTACH;FMTTYPE=image/jpeg:https://weimar-evangelisch.de/wp-content/uploads/2022/01/Jakobskirche_Weimar_s2528_0048.jpg
END:VEVENT
BEGIN:VEVENT
DTSTART;TZID=Europe/Berlin:20260125T113000
DTEND;TZID=Europe/Berlin:20260125T120000
DTSTAMP:20260422T141304
CREATED:20241108T102333Z
LAST-MODIFIED:20260107T111349Z
UID:13372-1769340600-1769342400@weimar-evangelisch.de
SUMMARY:Familienkirche
DESCRIPTION:
URL:https://weimar-evangelisch.de/veranstaltung/familienkirche-9/2026-01-25/
LOCATION:Jakobskirche\, Am Jakobskirchhof 9\, Weimar\, Thüringen\, 99423\, Deutschland
CATEGORIES:Gottesdienste
ATTACH;FMTTYPE=image/jpeg:https://weimar-evangelisch.de/wp-content/uploads/2022/03/Angebote_Kinder_und_Familie_jelleke-vanooteghem-uNWuSF4WwXc-unsplash.jpg
END:VEVENT
BEGIN:VEVENT
DTSTART;TZID=Europe/Berlin:20260125T100000
DTEND;TZID=Europe/Berlin:20260125T110000
DTSTAMP:20260422T141304
CREATED:20250311T095924Z
LAST-MODIFIED:20260107T110858Z
UID:18480-1769335200-1769338800@weimar-evangelisch.de
SUMMARY:Gottesdienst
DESCRIPTION:Vikar Dr. Volker Rabens
URL:https://weimar-evangelisch.de/veranstaltung/gottesdienst-133-2025-05-04-2-2026-01-25/
LOCATION:Jakobskirche\, Am Jakobskirchhof 9\, Weimar\, Thüringen\, 99423\, Deutschland
CATEGORIES:Gottesdienste
ATTACH;FMTTYPE=image/jpeg:https://weimar-evangelisch.de/wp-content/uploads/2022/01/Jakobskirche_Weimar_s2528_0048.jpg
END:VEVENT
BEGIN:VEVENT
DTSTART;TZID=Europe/Berlin:20260118T100000
DTEND;TZID=Europe/Berlin:20260118T110000
DTSTAMP:20260422T141304
CREATED:20250311T095924Z
LAST-MODIFIED:20260113T134610Z
UID:18479-1768730400-1768734000@weimar-evangelisch.de
SUMMARY:Martin-Luther-King-Gottesdienst
DESCRIPTION:Pfarrer Dr. Michael Haspel und Pfarrer i.R. Andreas Schiel (Martin-Luther-King-Kirche\, Berlin-Gropiusstadt) \nGospelchor Magdala
URL:https://weimar-evangelisch.de/veranstaltung/gottesdienst-133-2025-05-04-2-2026-01-18/
LOCATION:Jakobskirche\, Am Jakobskirchhof 9\, Weimar\, Thüringen\, 99423\, Deutschland
CATEGORIES:Gottesdienste
ATTACH;FMTTYPE=image/jpeg:https://weimar-evangelisch.de/wp-content/uploads/2022/01/Jakobskirche_Weimar_s2528_0048.jpg
END:VEVENT
BEGIN:VEVENT
DTSTART;TZID=Europe/Berlin:20260111T100000
DTEND;TZID=Europe/Berlin:20260111T110000
DTSTAMP:20260422T141304
CREATED:20250311T095924Z
LAST-MODIFIED:20260107T104905Z
UID:18478-1768125600-1768129200@weimar-evangelisch.de
SUMMARY:Gottesdienst
DESCRIPTION:Pfarrer Ulrich Hayner
URL:https://weimar-evangelisch.de/veranstaltung/gottesdienst-133-2025-05-04-2-2026-01-11/
LOCATION:Jakobskirche\, Am Jakobskirchhof 9\, Weimar\, Thüringen\, 99423\, Deutschland
CATEGORIES:Gottesdienste
ATTACH;FMTTYPE=image/jpeg:https://weimar-evangelisch.de/wp-content/uploads/2022/01/Jakobskirche_Weimar_s2528_0048.jpg
END:VEVENT
BEGIN:VEVENT
DTSTART;TZID=Europe/Berlin:20260104T100000
DTEND;TZID=Europe/Berlin:20260104T110000
DTSTAMP:20260422T141304
CREATED:20250311T095924Z
LAST-MODIFIED:20251016T085514Z
UID:16947-1767520800-1767524400@weimar-evangelisch.de
SUMMARY:Gottesdienst
DESCRIPTION:
URL:https://weimar-evangelisch.de/veranstaltung/gottesdienst-133-2025-05-04-2/2026-01-04/
LOCATION:Jakobskirche\, Am Jakobskirchhof 9\, Weimar\, Thüringen\, 99423\, Deutschland
CATEGORIES:Gottesdienste
ATTACH;FMTTYPE=image/jpeg:https://weimar-evangelisch.de/wp-content/uploads/2022/01/Jakobskirche_Weimar_s2528_0048.jpg
END:VEVENT
BEGIN:VEVENT
DTSTART;TZID=Europe/Berlin:20260101T170000
DTEND;TZID=Europe/Berlin:20260101T180000
DTSTAMP:20260422T141304
CREATED:20251203T120534Z
LAST-MODIFIED:20251222T095422Z
UID:19787-1767286800-1767290400@weimar-evangelisch.de
SUMMARY:Chorkonzert Johann Sebastian Kammerchor Yokohama (JSKCY)
DESCRIPTION:Japanische Lieder und Kantaten und Gesänge von Johann Sebastian Bach \nLeitung: Herr Yasushi Abe \nSoprano: Frau Yuko Abe \nBass: Herr Hinata Hasegawa \nOrgel: Frau Mari Fujii \nChor: Johann Sebastian Kammer Chor Yokohama (JSKCY) \n 
URL:https://weimar-evangelisch.de/veranstaltung/chorkonzert-3/
LOCATION:Jakobskirche\, Am Jakobskirchhof 9\, Weimar\, Thüringen\, 99423\, Deutschland
CATEGORIES:Konzerte
ATTACH;FMTTYPE=image/jpeg:https://weimar-evangelisch.de/wp-content/uploads/2022/01/Jakobskirche_Weimar_s2555_0037.jpg
END:VEVENT
BEGIN:VEVENT
DTSTART;TZID=Europe/Berlin:20251231T231500
DTEND;TZID=Europe/Berlin:20251231T235500
DTSTAMP:20260422T141304
CREATED:20241129T112317Z
LAST-MODIFIED:20251222T095308Z
UID:13510-1767222900-1767225300@weimar-evangelisch.de
SUMMARY:Musik zum Jahresausklang
DESCRIPTION:Amrei Liebold – Fagott\nAnne Hoff – Orgel \nDer Eintritt ist frei.
URL:https://weimar-evangelisch.de/veranstaltung/musik-zum-jahresausklang/
LOCATION:Jakobskirche\, Am Jakobskirchhof 9\, Weimar\, Thüringen\, 99423\, Deutschland
CATEGORIES:Konzerte
ATTACH;FMTTYPE=image/jpeg:https://weimar-evangelisch.de/wp-content/uploads/2022/01/Jakobskirche_Weimar_s2528_0048.jpg
END:VEVENT
BEGIN:VEVENT
DTSTART;TZID=Europe/Berlin:20251231T170000
DTEND;TZID=Europe/Berlin:20251231T180000
DTSTAMP:20260422T141304
CREATED:20251124T120447Z
LAST-MODIFIED:20251124T120447Z
UID:19740-1767200400-1767204000@weimar-evangelisch.de
SUMMARY:Gottesdienst mit Abendmahl
DESCRIPTION:Pfarrer Hardy Rylke \n 
URL:https://weimar-evangelisch.de/veranstaltung/gottesdienst-mit-abendmahl-27/
LOCATION:Jakobskirche\, Am Jakobskirchhof 9\, Weimar\, Thüringen\, 99423\, Deutschland
CATEGORIES:Gottesdienste
ATTACH;FMTTYPE=image/jpeg:https://weimar-evangelisch.de/wp-content/uploads/2022/01/Jakobskirche_Weimar_s2528_0048.jpg
END:VEVENT
END:VCALENDAR