BEGIN:VCALENDAR
VERSION:2.0
PRODID:-//Weimar Evangelisch - ECPv6.6.1//NONSGML v1.0//EN
CALSCALE:GREGORIAN
METHOD:PUBLISH
X-ORIGINAL-URL:https://weimar-evangelisch.de
X-WR-CALDESC:Veranstaltungen für Weimar Evangelisch
REFRESH-INTERVAL;VALUE=DURATION:PT1H
X-Robots-Tag:noindex
X-PUBLISHED-TTL:PT1H
BEGIN:VTIMEZONE
TZID:Europe/Berlin
BEGIN:DAYLIGHT
TZOFFSETFROM:+0100
TZOFFSETTO:+0200
TZNAME:CEST
DTSTART:20260329T010000
END:DAYLIGHT
BEGIN:STANDARD
TZOFFSETFROM:+0200
TZOFFSETTO:+0100
TZNAME:CET
DTSTART:20261025T010000
END:STANDARD
END:VTIMEZONE
BEGIN:VEVENT
DTSTART;TZID=Europe/Berlin:20260423T190000
DTEND;TZID=Europe/Berlin:20260423T200000
DTSTAMP:20260421T112319
CREATED:20260407T101046Z
LAST-MODIFIED:20260407T101046Z
UID:21652-1776970800-1776974400@weimar-evangelisch.de
SUMMARY:Falk feiert Jubiläum
DESCRIPTION:Dr. Johannes Demandt\, Theologe/Autor\, Erkrath\, mit einem musikalisch umrahmten Vortrag\nzu Gast im Herdersaal. \nSein Thema: „Die Bedeutung von Religion und Spiritualität für Falks handlungsorientierte Kulturleistung“.
URL:https://weimar-evangelisch.de/veranstaltung/falk-feiert-jubilaeum-4/
LOCATION:Herdersaal\, Herderplatz 7\, Weimar\, Thüringen\, 99423\, Deutschland
CATEGORIES:Veranstaltungen
ATTACH;FMTTYPE=image/jpeg:https://weimar-evangelisch.de/wp-content/uploads/2022/04/Herderzentrum_Frank-Aussieker_140502_088_72dpi.jpg
END:VEVENT
BEGIN:VEVENT
DTSTART;TZID=Europe/Berlin:20260425T090000
DTEND;TZID=Europe/Berlin:20260425T120000
DTSTAMP:20260421T112319
CREATED:20260407T102007Z
LAST-MODIFIED:20260407T102007Z
UID:21658-1777107600-1777118400@weimar-evangelisch.de
SUMMARY:Kindersamstag „Frag doch mal das Lamm“
DESCRIPTION:Kindervormittag für 5- bis 10-Jährige mit Theaterstück\, Spiel- und Kreativangeboten\, Frühstück und anderen Aktionen und Überraschungen. \n2026 wird es „zoo-logisch“\, denn im Mittelpunkt eines jeden Kindersamstags steht ein Tier – und wir erfahren\, was es uns über Gott\, Jesus Christus\, die Welt\, in der wir leben\, zeigen kann. \n 
URL:https://weimar-evangelisch.de/veranstaltung/kindersamstag-frag-doch-mal-das-lamm/
LOCATION:Herdersaal\, Herderplatz 7\, Weimar\, Thüringen\, 99423\, Deutschland
CATEGORIES:Veranstaltungen
ATTACH;FMTTYPE=image/jpeg:https://weimar-evangelisch.de/wp-content/uploads/2022/04/Herderzentrum_Frank-Aussieker_140502_088_72dpi.jpg
END:VEVENT
END:VCALENDAR