BEGIN:VCALENDAR
VERSION:2.0
PRODID:-//Weimar Evangelisch - ECPv6.6.1//NONSGML v1.0//EN
CALSCALE:GREGORIAN
METHOD:PUBLISH
X-ORIGINAL-URL:https://weimar-evangelisch.de
X-WR-CALDESC:Veranstaltungen für Weimar Evangelisch
REFRESH-INTERVAL;VALUE=DURATION:PT1H
X-Robots-Tag:noindex
X-PUBLISHED-TTL:PT1H
BEGIN:VTIMEZONE
TZID:Europe/Berlin
BEGIN:DAYLIGHT
TZOFFSETFROM:+0100
TZOFFSETTO:+0200
TZNAME:CEST
DTSTART:20230326T010000
END:DAYLIGHT
BEGIN:STANDARD
TZOFFSETFROM:+0200
TZOFFSETTO:+0100
TZNAME:CET
DTSTART:20231029T010000
END:STANDARD
BEGIN:DAYLIGHT
TZOFFSETFROM:+0100
TZOFFSETTO:+0200
TZNAME:CEST
DTSTART:20240331T010000
END:DAYLIGHT
BEGIN:STANDARD
TZOFFSETFROM:+0200
TZOFFSETTO:+0100
TZNAME:CET
DTSTART:20241027T010000
END:STANDARD
END:VTIMEZONE
BEGIN:VEVENT
DTSTART;TZID=Europe/Berlin:20241103T140000
DTEND;TZID=Europe/Berlin:20241103T150000
DTSTAMP:20260424T172227
CREATED:20231221T122102Z
LAST-MODIFIED:20241022T090325Z
UID:12180-1730642400-1730646000@weimar-evangelisch.de
SUMMARY:Gottesdienst
DESCRIPTION:Pfarrer Hardy Rylke
URL:https://weimar-evangelisch.de/veranstaltung/gottesdienst-86-2024-02-18-2024-03-03-2024-11-03/
LOCATION:Gemeinderaum im Evangelischen Kinderhaus „Sonnenhügel“\, Bonhoefferstraße 73a\, Weimar\, Thüringen\, 99427\, Deutschland
CATEGORIES:Gottesdienste
ATTACH;FMTTYPE=image/jpeg:https://weimar-evangelisch.de/wp-content/uploads/2022/03/evangelischen_kinderhaus_sonnenhügel_weimar_adresse.jpg
END:VEVENT
BEGIN:VEVENT
DTSTART;TZID=Europe/Berlin:20241020T093000
DTEND;TZID=Europe/Berlin:20241020T103000
DTSTAMP:20260424T172227
CREATED:20231208T124004Z
LAST-MODIFIED:20241008T134601Z
UID:10783-1729416600-1729420200@weimar-evangelisch.de
SUMMARY:Gottesdienst
DESCRIPTION:Pfarrer i.R. Karl-Siegfried Melzer
URL:https://weimar-evangelisch.de/veranstaltung/gottesdienst-77-2024-10-20/
LOCATION:Gemeinderaum im Evangelischen Kinderhaus „Sonnenhügel“\, Bonhoefferstraße 73a\, Weimar\, Thüringen\, 99427\, Deutschland
CATEGORIES:Gottesdienste
ATTACH;FMTTYPE=image/jpeg:https://weimar-evangelisch.de/wp-content/uploads/2022/03/evangelischen_kinderhaus_sonnenhügel_weimar_adresse.jpg
END:VEVENT
BEGIN:VEVENT
DTSTART;TZID=Europe/Berlin:20241006T140000
DTEND;TZID=Europe/Berlin:20241006T150000
DTSTAMP:20260424T172227
CREATED:20231221T122102Z
LAST-MODIFIED:20241002T122430Z
UID:12179-1728223200-1728226800@weimar-evangelisch.de
SUMMARY:Gottesdienst
DESCRIPTION:Pfarrer Hardy Rylke
URL:https://weimar-evangelisch.de/veranstaltung/gottesdienst-86-2024-02-18-2024-03-03-2024-10-06/
LOCATION:Gemeinderaum im Evangelischen Kinderhaus „Sonnenhügel“\, Bonhoefferstraße 73a\, Weimar\, Thüringen\, 99427\, Deutschland
CATEGORIES:Gottesdienste
ATTACH;FMTTYPE=image/jpeg:https://weimar-evangelisch.de/wp-content/uploads/2022/03/evangelischen_kinderhaus_sonnenhügel_weimar_adresse.jpg
END:VEVENT
BEGIN:VEVENT
DTSTART;TZID=Europe/Berlin:20240915T093000
DTEND;TZID=Europe/Berlin:20240915T103000
DTSTAMP:20260424T172227
CREATED:20231208T124004Z
LAST-MODIFIED:20240221T121915Z
UID:10782-1726392600-1726396200@weimar-evangelisch.de
SUMMARY:Gottesdienst
DESCRIPTION:Pfarrer i.R. Karl-Siegfried Melzer
URL:https://weimar-evangelisch.de/veranstaltung/gottesdienst-77/2024-09-15/
LOCATION:Gemeinderaum im Evangelischen Kinderhaus „Sonnenhügel“\, Bonhoefferstraße 73a\, Weimar\, Thüringen\, 99427\, Deutschland
CATEGORIES:Gottesdienste
ATTACH;FMTTYPE=image/jpeg:https://weimar-evangelisch.de/wp-content/uploads/2022/03/evangelischen_kinderhaus_sonnenhügel_weimar_adresse.jpg
END:VEVENT
BEGIN:VEVENT
DTSTART;TZID=Europe/Berlin:20240901T140000
DTEND;TZID=Europe/Berlin:20240901T150000
DTSTAMP:20260424T172227
CREATED:20231221T122102Z
LAST-MODIFIED:20240823T105815Z
UID:12178-1725199200-1725202800@weimar-evangelisch.de
SUMMARY:Gottesdienst
DESCRIPTION:Lektor Olaf Merzenich
URL:https://weimar-evangelisch.de/veranstaltung/gottesdienst-86-2024-02-18-2024-03-03-2024-09-01/
LOCATION:Gemeinderaum im Evangelischen Kinderhaus „Sonnenhügel“\, Bonhoefferstraße 73a\, Weimar\, Thüringen\, 99427\, Deutschland
CATEGORIES:Gottesdienste
ATTACH;FMTTYPE=image/jpeg:https://weimar-evangelisch.de/wp-content/uploads/2022/03/evangelischen_kinderhaus_sonnenhügel_weimar_adresse.jpg
END:VEVENT
BEGIN:VEVENT
DTSTART;TZID=Europe/Berlin:20240804T093000
DTEND;TZID=Europe/Berlin:20240804T103000
DTSTAMP:20260424T172227
CREATED:20231221T122102Z
LAST-MODIFIED:20231221T122102Z
UID:11489-1722763800-1722767400@weimar-evangelisch.de
SUMMARY:Gottesdienst
DESCRIPTION:Pfarrer in Ruhe Karl Siegfried Melzer
URL:https://weimar-evangelisch.de/veranstaltung/gottesdienst-86-2024-02-18-2024-08-04/
LOCATION:Gemeinderaum im Evangelischen Kinderhaus „Sonnenhügel“\, Bonhoefferstraße 73a\, Weimar\, Thüringen\, 99427\, Deutschland
CATEGORIES:Gottesdienste
ATTACH;FMTTYPE=image/jpeg:https://weimar-evangelisch.de/wp-content/uploads/2022/03/evangelischen_kinderhaus_sonnenhügel_weimar_adresse.jpg
END:VEVENT
BEGIN:VEVENT
DTSTART;TZID=Europe/Berlin:20240616T093000
DTEND;TZID=Europe/Berlin:20240616T103000
DTSTAMP:20260424T172227
CREATED:20231208T124004Z
LAST-MODIFIED:20240530T113715Z
UID:10779-1718530200-1718533800@weimar-evangelisch.de
SUMMARY:Gottesdienst
DESCRIPTION:Pfarrer i.R. Karl-Siegfried Melzer
URL:https://weimar-evangelisch.de/veranstaltung/gottesdienst-77-2024-06-16/
LOCATION:Gemeinderaum im Evangelischen Kinderhaus „Sonnenhügel“\, Bonhoefferstraße 73a\, Weimar\, Thüringen\, 99427\, Deutschland
CATEGORIES:Gottesdienste
ATTACH;FMTTYPE=image/jpeg:https://weimar-evangelisch.de/wp-content/uploads/2022/03/evangelischen_kinderhaus_sonnenhügel_weimar_adresse.jpg
END:VEVENT
BEGIN:VEVENT
DTSTART;TZID=Europe/Berlin:20240602T140000
DTEND;TZID=Europe/Berlin:20240602T150000
DTSTAMP:20260424T172227
CREATED:20231221T122102Z
LAST-MODIFIED:20240530T104205Z
UID:12175-1717336800-1717340400@weimar-evangelisch.de
SUMMARY:Gottesdienst
DESCRIPTION:Pfarrer i.R. Karl-Siegfried Melzer
URL:https://weimar-evangelisch.de/veranstaltung/gottesdienst-86-2024-02-18-2024-03-03-2024-06-02/
LOCATION:Gemeinderaum im Evangelischen Kinderhaus „Sonnenhügel“\, Bonhoefferstraße 73a\, Weimar\, Thüringen\, 99427\, Deutschland
CATEGORIES:Gottesdienste
ATTACH;FMTTYPE=image/jpeg:https://weimar-evangelisch.de/wp-content/uploads/2022/03/evangelischen_kinderhaus_sonnenhügel_weimar_adresse.jpg
END:VEVENT
BEGIN:VEVENT
DTSTART;TZID=Europe/Berlin:20240519T093000
DTEND;TZID=Europe/Berlin:20240519T103000
DTSTAMP:20260424T172227
CREATED:20231208T124004Z
LAST-MODIFIED:20240221T121914Z
UID:10778-1716111000-1716114600@weimar-evangelisch.de
SUMMARY:Gottesdienst
DESCRIPTION:Pfarrer i.R. Karl-Siegfried Melzer
URL:https://weimar-evangelisch.de/veranstaltung/gottesdienst-77/2024-05-19/
LOCATION:Gemeinderaum im Evangelischen Kinderhaus „Sonnenhügel“\, Bonhoefferstraße 73a\, Weimar\, Thüringen\, 99427\, Deutschland
CATEGORIES:Gottesdienste
ATTACH;FMTTYPE=image/jpeg:https://weimar-evangelisch.de/wp-content/uploads/2022/03/evangelischen_kinderhaus_sonnenhügel_weimar_adresse.jpg
END:VEVENT
BEGIN:VEVENT
DTSTART;TZID=Europe/Berlin:20240505T140000
DTEND;TZID=Europe/Berlin:20240505T150000
DTSTAMP:20260424T172227
CREATED:20231221T122102Z
LAST-MODIFIED:20240531T102346Z
UID:12174-1714917600-1714921200@weimar-evangelisch.de
SUMMARY:Gottesdienst
DESCRIPTION:Pfarrer Hardy Rylke
URL:https://weimar-evangelisch.de/veranstaltung/gottesdienst-86-2024-02-18-2024-03-03/2024-05-05/
LOCATION:Gemeinderaum im Evangelischen Kinderhaus „Sonnenhügel“\, Bonhoefferstraße 73a\, Weimar\, Thüringen\, 99427\, Deutschland
CATEGORIES:Gottesdienste
ATTACH;FMTTYPE=image/jpeg:https://weimar-evangelisch.de/wp-content/uploads/2022/03/evangelischen_kinderhaus_sonnenhügel_weimar_adresse.jpg
END:VEVENT
BEGIN:VEVENT
DTSTART;TZID=Europe/Berlin:20240421T093000
DTEND;TZID=Europe/Berlin:20240421T103000
DTSTAMP:20260424T172227
CREATED:20231208T124004Z
LAST-MODIFIED:20240322T122446Z
UID:10777-1713691800-1713695400@weimar-evangelisch.de
SUMMARY:Gottesdienst
DESCRIPTION:Pfarrer i.R. Karl-Siegfried Melzer
URL:https://weimar-evangelisch.de/veranstaltung/gottesdienst-77-2024-04-21/
LOCATION:Gemeinderaum im Evangelischen Kinderhaus „Sonnenhügel“\, Bonhoefferstraße 73a\, Weimar\, Thüringen\, 99427\, Deutschland
CATEGORIES:Gottesdienste
ATTACH;FMTTYPE=image/jpeg:https://weimar-evangelisch.de/wp-content/uploads/2022/03/evangelischen_kinderhaus_sonnenhügel_weimar_adresse.jpg
END:VEVENT
BEGIN:VEVENT
DTSTART;TZID=Europe/Berlin:20240329T093000
DTEND;TZID=Europe/Berlin:20240329T103000
DTSTAMP:20260424T172227
CREATED:20240206T145342Z
LAST-MODIFIED:20240206T145342Z
UID:11630-1711704600-1711708200@weimar-evangelisch.de
SUMMARY:Gottesdienst
DESCRIPTION:Pfarrer in Ruhe Karl Siegfried Melzer
URL:https://weimar-evangelisch.de/veranstaltung/gottesdienst-98/
LOCATION:Gemeinderaum im Evangelischen Kinderhaus „Sonnenhügel“\, Bonhoefferstraße 73a\, Weimar\, Thüringen\, 99427\, Deutschland
CATEGORIES:Gottesdienste
ATTACH;FMTTYPE=image/jpeg:https://weimar-evangelisch.de/wp-content/uploads/2022/03/evangelischen_kinderhaus_sonnenhügel_weimar_adresse.jpg
END:VEVENT
BEGIN:VEVENT
DTSTART;TZID=Europe/Berlin:20240303T140000
DTEND;TZID=Europe/Berlin:20240303T150000
DTSTAMP:20260424T172227
CREATED:20231221T122102Z
LAST-MODIFIED:20240531T102345Z
UID:11484-1709474400-1709478000@weimar-evangelisch.de
SUMMARY:Gottesdienst
DESCRIPTION:Pfarrer Hardy Rylke
URL:https://weimar-evangelisch.de/veranstaltung/gottesdienst-86-2024-02-18-2024-03-03/2024-03-03/
LOCATION:Gemeinderaum im Evangelischen Kinderhaus „Sonnenhügel“\, Bonhoefferstraße 73a\, Weimar\, Thüringen\, 99427\, Deutschland
CATEGORIES:Gottesdienste
ATTACH;FMTTYPE=image/jpeg:https://weimar-evangelisch.de/wp-content/uploads/2022/03/evangelischen_kinderhaus_sonnenhügel_weimar_adresse.jpg
END:VEVENT
BEGIN:VEVENT
DTSTART;TZID=Europe/Berlin:20240204T140000
DTEND;TZID=Europe/Berlin:20240204T150000
DTSTAMP:20260424T172227
CREATED:20240131T130441Z
LAST-MODIFIED:20240131T130607Z
UID:11493-1707055200-1707058800@weimar-evangelisch.de
SUMMARY:Gottesdienst
DESCRIPTION:Pfarrer Hardy Rylke
URL:https://weimar-evangelisch.de/veranstaltung/gottesdienst-91/2024-02-04/
LOCATION:Gemeinderaum im Evangelischen Kinderhaus „Sonnenhügel“\, Bonhoefferstraße 73a\, Weimar\, Thüringen\, 99427\, Deutschland
CATEGORIES:Gottesdienste
ATTACH;FMTTYPE=image/jpeg:https://weimar-evangelisch.de/wp-content/uploads/2022/03/evangelischen_kinderhaus_sonnenhügel_weimar_adresse.jpg
END:VEVENT
BEGIN:VEVENT
DTSTART;TZID=Europe/Berlin:20240121T093000
DTEND;TZID=Europe/Berlin:20240121T103000
DTSTAMP:20260424T172227
CREATED:20231221T122102Z
LAST-MODIFIED:20231221T122453Z
UID:11304-1705829400-1705833000@weimar-evangelisch.de
SUMMARY:Gottesdienst
DESCRIPTION:Pfarrer i.R. Karl-Siegfried Melzer
URL:https://weimar-evangelisch.de/veranstaltung/gottesdienst-86/
LOCATION:Gemeinderaum im Evangelischen Kinderhaus „Sonnenhügel“\, Bonhoefferstraße 73a\, Weimar\, Thüringen\, 99427\, Deutschland
CATEGORIES:Gottesdienste
ATTACH;FMTTYPE=image/jpeg:https://weimar-evangelisch.de/wp-content/uploads/2022/03/evangelischen_kinderhaus_sonnenhügel_weimar_adresse.jpg
END:VEVENT
BEGIN:VEVENT
DTSTART;TZID=Europe/Berlin:20240121T093000
DTEND;TZID=Europe/Berlin:20240121T103000
DTSTAMP:20260424T172227
CREATED:20231208T124004Z
LAST-MODIFIED:20240221T121913Z
UID:10774-1705829400-1705833000@weimar-evangelisch.de
SUMMARY:Gottesdienst
DESCRIPTION:Pfarrer i.R. Karl-Siegfried Melzer
URL:https://weimar-evangelisch.de/veranstaltung/gottesdienst-77/2024-01-21/
LOCATION:Gemeinderaum im Evangelischen Kinderhaus „Sonnenhügel“\, Bonhoefferstraße 73a\, Weimar\, Thüringen\, 99427\, Deutschland
CATEGORIES:Gottesdienste
ATTACH;FMTTYPE=image/jpeg:https://weimar-evangelisch.de/wp-content/uploads/2022/03/evangelischen_kinderhaus_sonnenhügel_weimar_adresse.jpg
END:VEVENT
BEGIN:VEVENT
DTSTART;TZID=Europe/Berlin:20240114T140000
DTEND;TZID=Europe/Berlin:20240114T150000
DTSTAMP:20260424T172227
CREATED:20231208T123844Z
LAST-MODIFIED:20231221T102530Z
UID:10762-1705240800-1705244400@weimar-evangelisch.de
SUMMARY:Gottesdienst
DESCRIPTION:Pfarrer Hardy Rylke
URL:https://weimar-evangelisch.de/veranstaltung/gottesdienst-76/
LOCATION:Gemeinderaum im Evangelischen Kinderhaus „Sonnenhügel“\, Bonhoefferstraße 73a\, Weimar\, Thüringen\, 99427\, Deutschland
CATEGORIES:Gottesdienste
ATTACH;FMTTYPE=image/jpeg:https://weimar-evangelisch.de/wp-content/uploads/2022/03/evangelischen_kinderhaus_sonnenhügel_weimar_adresse.jpg
END:VEVENT
BEGIN:VEVENT
DTSTART;TZID=Europe/Berlin:20231226T100000
DTEND;TZID=Europe/Berlin:20231226T110000
DTSTAMP:20260424T172227
CREATED:20231207T122420Z
LAST-MODIFIED:20231207T122420Z
UID:10196-1703584800-1703588400@weimar-evangelisch.de
SUMMARY:Gottesdienst zum 2. Christtag
DESCRIPTION:Pfr. i.R. Karl-Siegfried Melzer
URL:https://weimar-evangelisch.de/veranstaltung/gottesdienst-zum-2-christtag-7/
LOCATION:Gemeinderaum im Evangelischen Kinderhaus „Sonnenhügel“\, Bonhoefferstraße 73a\, Weimar\, Thüringen\, 99427\, Deutschland
CATEGORIES:Gottesdienste
ATTACH;FMTTYPE=image/jpeg:https://weimar-evangelisch.de/wp-content/uploads/2022/03/evangelischen_kinderhaus_sonnenhügel_weimar_adresse.jpg
END:VEVENT
BEGIN:VEVENT
DTSTART;TZID=Europe/Berlin:20231224T143000
DTEND;TZID=Europe/Berlin:20231224T153000
DTSTAMP:20260424T172227
CREATED:20231124T125145Z
LAST-MODIFIED:20231124T125145Z
UID:9861-1703428200-1703431800@weimar-evangelisch.de
SUMMARY:Christvesper
DESCRIPTION:Pfr. i.R. Karl-Siegfried Melzer
URL:https://weimar-evangelisch.de/veranstaltung/christvesper-8/
LOCATION:Gemeinderaum im Evangelischen Kinderhaus „Sonnenhügel“\, Bonhoefferstraße 73a\, Weimar\, Thüringen\, 99427\, Deutschland
CATEGORIES:Gottesdienste,Veranstaltungen
ATTACH;FMTTYPE=image/jpeg:https://weimar-evangelisch.de/wp-content/uploads/2022/03/evangelischen_kinderhaus_sonnenhügel_weimar_adresse.jpg
END:VEVENT
BEGIN:VEVENT
DTSTART;TZID=Europe/Berlin:20231217T093000
DTEND;TZID=Europe/Berlin:20231217T103000
DTSTAMP:20260424T172227
CREATED:20230817T102104Z
LAST-MODIFIED:20231121T144112Z
UID:9168-1702805400-1702809000@weimar-evangelisch.de
SUMMARY:Gottesdienst
DESCRIPTION:Pfarrer i.R. Karl-Siegfried Melzer
URL:https://weimar-evangelisch.de/veranstaltung/gottesdienst-70-2023-12-17/
LOCATION:Gemeinderaum im Evangelischen Kinderhaus „Sonnenhügel“\, Bonhoefferstraße 73a\, Weimar\, Thüringen\, 99427\, Deutschland
CATEGORIES:Gottesdienste
ATTACH;FMTTYPE=image/jpeg:https://weimar-evangelisch.de/wp-content/uploads/2022/03/evangelischen_kinderhaus_sonnenhügel_weimar_adresse.jpg
END:VEVENT
BEGIN:VEVENT
DTSTART;TZID=Europe/Berlin:20231203T140000
DTEND;TZID=Europe/Berlin:20231203T150000
DTSTAMP:20260424T172227
CREATED:20230817T101903Z
LAST-MODIFIED:20231121T122336Z
UID:9172-1701612000-1701615600@weimar-evangelisch.de
SUMMARY:Gottesdienst
DESCRIPTION:Pfarrer Hardy Rylke
URL:https://weimar-evangelisch.de/veranstaltung/gottesdienst-mit-abendmahl-3-2023-12-03/
LOCATION:Gemeinderaum im Evangelischen Kinderhaus „Sonnenhügel“\, Bonhoefferstraße 73a\, Weimar\, Thüringen\, 99427\, Deutschland
CATEGORIES:Gottesdienste
ATTACH;FMTTYPE=image/jpeg:https://weimar-evangelisch.de/wp-content/uploads/2022/03/evangelischen_kinderhaus_sonnenhügel_weimar_adresse.jpg
END:VEVENT
BEGIN:VEVENT
DTSTART;TZID=Europe/Berlin:20231119T093000
DTEND;TZID=Europe/Berlin:20231119T103000
DTSTAMP:20260424T172227
CREATED:20231027T120820Z
LAST-MODIFIED:20231027T120820Z
UID:9748-1700386200-1700389800@weimar-evangelisch.de
SUMMARY:Gottesdienst
DESCRIPTION:Lektor Olaf Merzenich
URL:https://weimar-evangelisch.de/veranstaltung/gottesdienst-72/
LOCATION:Gemeinderaum im Evangelischen Kinderhaus „Sonnenhügel“\, Bonhoefferstraße 73a\, Weimar\, Thüringen\, 99427\, Deutschland
CATEGORIES:Gottesdienste
ATTACH;FMTTYPE=image/jpeg:https://weimar-evangelisch.de/wp-content/uploads/2022/03/evangelischen_kinderhaus_sonnenhügel_weimar_adresse.jpg
END:VEVENT
BEGIN:VEVENT
DTSTART;TZID=Europe/Berlin:20231109T163000
DTEND;TZID=Europe/Berlin:20231109T173000
DTSTAMP:20260424T172227
CREATED:20231103T122428Z
LAST-MODIFIED:20231103T122428Z
UID:9761-1699547400-1699551000@weimar-evangelisch.de
SUMMARY:Martinsfeier
DESCRIPTION:
URL:https://weimar-evangelisch.de/veranstaltung/martinsfeier/
LOCATION:Gemeinderaum im Evangelischen Kinderhaus „Sonnenhügel“\, Bonhoefferstraße 73a\, Weimar\, Thüringen\, 99427\, Deutschland
CATEGORIES:Veranstaltungen
ATTACH;FMTTYPE=image/jpeg:https://weimar-evangelisch.de/wp-content/uploads/2022/11/Laterne_RamonSeliger-scaled.jpg
END:VEVENT
BEGIN:VEVENT
DTSTART;TZID=Europe/Berlin:20231105T140000
DTEND;TZID=Europe/Berlin:20231105T150000
DTSTAMP:20260424T172227
CREATED:20230817T101903Z
LAST-MODIFIED:20231027T114704Z
UID:9163-1699192800-1699196400@weimar-evangelisch.de
SUMMARY:Gottesdienst
DESCRIPTION:Pfarrer Hardy Rylke
URL:https://weimar-evangelisch.de/veranstaltung/gottesdienst-mit-abendmahl-3/
LOCATION:Gemeinderaum im Evangelischen Kinderhaus „Sonnenhügel“\, Bonhoefferstraße 73a\, Weimar\, Thüringen\, 99427\, Deutschland
CATEGORIES:Gottesdienste
ATTACH;FMTTYPE=image/jpeg:https://weimar-evangelisch.de/wp-content/uploads/2022/03/evangelischen_kinderhaus_sonnenhügel_weimar_adresse.jpg
END:VEVENT
BEGIN:VEVENT
DTSTART;TZID=Europe/Berlin:20231015T093000
DTEND;TZID=Europe/Berlin:20231015T103000
DTSTAMP:20260424T172227
CREATED:20230817T102104Z
LAST-MODIFIED:20230928T090050Z
UID:9166-1697362200-1697365800@weimar-evangelisch.de
SUMMARY:Gottesdienst
DESCRIPTION:Pfarrer i.R. Karl-Siegfried Melzer
URL:https://weimar-evangelisch.de/veranstaltung/gottesdienst-70/
LOCATION:Gemeinderaum im Evangelischen Kinderhaus „Sonnenhügel“\, Bonhoefferstraße 73a\, Weimar\, Thüringen\, 99427\, Deutschland
CATEGORIES:Gottesdienste
ATTACH;FMTTYPE=image/jpeg:https://weimar-evangelisch.de/wp-content/uploads/2022/03/evangelischen_kinderhaus_sonnenhügel_weimar_adresse.jpg
END:VEVENT
BEGIN:VEVENT
DTSTART;TZID=Europe/Berlin:20230917T093000
DTEND;TZID=Europe/Berlin:20230917T103000
DTSTAMP:20260424T172227
CREATED:20230817T101511Z
LAST-MODIFIED:20230817T101511Z
UID:9160-1694943000-1694946600@weimar-evangelisch.de
SUMMARY:Gottesdienst
DESCRIPTION:Pfarrer i.R. Karl-Siegfried Melzer
URL:https://weimar-evangelisch.de/veranstaltung/gottesdienst-69/
LOCATION:Gemeinderaum im Evangelischen Kinderhaus „Sonnenhügel“\, Bonhoefferstraße 73a\, Weimar\, Thüringen\, 99427\, Deutschland
CATEGORIES:Gottesdienste
ATTACH;FMTTYPE=image/jpeg:https://weimar-evangelisch.de/wp-content/uploads/2022/03/evangelischen_kinderhaus_sonnenhügel_weimar_adresse.jpg
END:VEVENT
BEGIN:VEVENT
DTSTART;TZID=Europe/Berlin:20230702T140000
DTEND;TZID=Europe/Berlin:20230702T150000
DTSTAMP:20260424T172227
CREATED:20230119T123222Z
LAST-MODIFIED:20230621T102724Z
UID:7118-1688306400-1688310000@weimar-evangelisch.de
SUMMARY:Gottesdienst
DESCRIPTION:Pfarrer i.R. Karl-Siegfried Melzer
URL:https://weimar-evangelisch.de/veranstaltung/gottesdienst-41-2023-07-02/
LOCATION:Gemeinderaum im Evangelischen Kinderhaus „Sonnenhügel“\, Bonhoefferstraße 73a\, Weimar\, Thüringen\, 99427\, Deutschland
CATEGORIES:Gottesdienste
ATTACH;FMTTYPE=image/jpeg:https://weimar-evangelisch.de/wp-content/uploads/2022/03/evangelischen_kinderhaus_sonnenhügel_weimar_adresse.jpg
END:VEVENT
BEGIN:VEVENT
DTSTART;TZID=Europe/Berlin:20230618T093000
DTEND;TZID=Europe/Berlin:20230618T103000
DTSTAMP:20260424T172227
CREATED:20221207T103154Z
LAST-MODIFIED:20230524T104600Z
UID:6791-1687080600-1687084200@weimar-evangelisch.de
SUMMARY:Gottesdienst
DESCRIPTION:Pfarrer in Ruhe Karl-Siegfried Melzer
URL:https://weimar-evangelisch.de/veranstaltung/gottesdienst-37-2023-06-18/
LOCATION:Gemeinderaum im Evangelischen Kinderhaus „Sonnenhügel“\, Bonhoefferstraße 73a\, Weimar\, Thüringen\, 99427\, Deutschland
CATEGORIES:Gottesdienste
ATTACH;FMTTYPE=image/jpeg:https://weimar-evangelisch.de/wp-content/uploads/2022/03/evangelischen_kinderhaus_sonnenhügel_weimar_03.jpg
END:VEVENT
BEGIN:VEVENT
DTSTART;TZID=Europe/Berlin:20230604T140000
DTEND;TZID=Europe/Berlin:20230604T150000
DTSTAMP:20260424T172227
CREATED:20230119T123222Z
LAST-MODIFIED:20230524T094131Z
UID:7117-1685887200-1685890800@weimar-evangelisch.de
SUMMARY:Gottesdienst mit Abendmahl
DESCRIPTION:Pfarrer Hardy Rylke
URL:https://weimar-evangelisch.de/veranstaltung/gottesdienst-41-2023-06-04/
LOCATION:Gemeinderaum im Evangelischen Kinderhaus „Sonnenhügel“\, Bonhoefferstraße 73a\, Weimar\, Thüringen\, 99427\, Deutschland
CATEGORIES:Gottesdienste
ATTACH;FMTTYPE=image/jpeg:https://weimar-evangelisch.de/wp-content/uploads/2022/03/evangelischen_kinderhaus_sonnenhügel_weimar_adresse.jpg
END:VEVENT
BEGIN:VEVENT
DTSTART;TZID=Europe/Berlin:20230521T093000
DTEND;TZID=Europe/Berlin:20230521T103000
DTSTAMP:20260424T172227
CREATED:20221207T103154Z
LAST-MODIFIED:20230412T085407Z
UID:6790-1684661400-1684665000@weimar-evangelisch.de
SUMMARY:Gottesdienst
DESCRIPTION:Pfarrer in Ruhe Karl-Siegfried Melzer
URL:https://weimar-evangelisch.de/veranstaltung/gottesdienst-37-2023-05-21/
LOCATION:Gemeinderaum im Evangelischen Kinderhaus „Sonnenhügel“\, Bonhoefferstraße 73a\, Weimar\, Thüringen\, 99427\, Deutschland
CATEGORIES:Gottesdienste
ATTACH;FMTTYPE=image/jpeg:https://weimar-evangelisch.de/wp-content/uploads/2022/03/evangelischen_kinderhaus_sonnenhügel_weimar_03.jpg
END:VEVENT
END:VCALENDAR