BEGIN:VCALENDAR
VERSION:2.0
PRODID:-//Weimar Evangelisch - ECPv6.6.1//NONSGML v1.0//EN
CALSCALE:GREGORIAN
METHOD:PUBLISH
X-ORIGINAL-URL:https://weimar-evangelisch.de
X-WR-CALDESC:Veranstaltungen für Weimar Evangelisch
REFRESH-INTERVAL;VALUE=DURATION:PT1H
X-Robots-Tag:noindex
X-PUBLISHED-TTL:PT1H
BEGIN:VTIMEZONE
TZID:Europe/Berlin
BEGIN:DAYLIGHT
TZOFFSETFROM:+0100
TZOFFSETTO:+0200
TZNAME:CEST
DTSTART:20240331T010000
END:DAYLIGHT
BEGIN:STANDARD
TZOFFSETFROM:+0200
TZOFFSETTO:+0100
TZNAME:CET
DTSTART:20241027T010000
END:STANDARD
BEGIN:DAYLIGHT
TZOFFSETFROM:+0100
TZOFFSETTO:+0200
TZNAME:CEST
DTSTART:20250330T010000
END:DAYLIGHT
BEGIN:STANDARD
TZOFFSETFROM:+0200
TZOFFSETTO:+0100
TZNAME:CET
DTSTART:20251026T010000
END:STANDARD
BEGIN:DAYLIGHT
TZOFFSETFROM:+0100
TZOFFSETTO:+0200
TZNAME:CEST
DTSTART:20260329T010000
END:DAYLIGHT
BEGIN:STANDARD
TZOFFSETFROM:+0200
TZOFFSETTO:+0100
TZNAME:CET
DTSTART:20261025T010000
END:STANDARD
END:VTIMEZONE
BEGIN:VEVENT
DTSTART;TZID=Europe/Berlin:20260419T100000
DTEND;TZID=Europe/Berlin:20260419T110000
DTSTAMP:20260424T160026
CREATED:20251016T095926Z
LAST-MODIFIED:20260316T123839Z
UID:18720-1776592800-1776596400@weimar-evangelisch.de
SUMMARY:Gottesdienst
DESCRIPTION:Pfarrer i.R. Karl-Siegfried Melzer
URL:https://weimar-evangelisch.de/veranstaltung/gottesdienst-172-2026-04-19/
LOCATION:Gemeinderaum im Evangelischen Kinderhaus „Sonnenhügel“\, Bonhoefferstraße 73a\, Weimar\, Thüringen\, 99427\, Deutschland
CATEGORIES:Gottesdienste
ATTACH;FMTTYPE=image/jpeg:https://weimar-evangelisch.de/wp-content/uploads/2022/03/evangelischen_kinderhaus_sonnenhügel_weimar_adresse.jpg
END:VEVENT
BEGIN:VEVENT
DTSTART;TZID=Europe/Berlin:20260405T100000
DTEND;TZID=Europe/Berlin:20260405T120000
DTSTAMP:20260424T160026
CREATED:20250108T084120Z
LAST-MODIFIED:20260313T130332Z
UID:18661-1775383200-1775390400@weimar-evangelisch.de
SUMMARY:Gottesdienst
DESCRIPTION:Pfarrer i.R. Karl-Siegfried Melzer
URL:https://weimar-evangelisch.de/veranstaltung/gottesdienst-136-2026-04-05/
LOCATION:Gemeinderaum im Evangelischen Kinderhaus „Sonnenhügel“\, Bonhoefferstraße 73a\, Weimar\, Thüringen\, 99427\, Deutschland
CATEGORIES:Gottesdienste
ATTACH;FMTTYPE=image/jpeg:https://weimar-evangelisch.de/wp-content/uploads/2022/03/evangelischen_kinderhaus_sonnenhügel_weimar_adresse.jpg
END:VEVENT
BEGIN:VEVENT
DTSTART;TZID=Europe/Berlin:20260403T140000
DTEND;TZID=Europe/Berlin:20260403T150000
DTSTAMP:20260424T160026
CREATED:20260313T130414Z
LAST-MODIFIED:20260313T130414Z
UID:20886-1775224800-1775228400@weimar-evangelisch.de
SUMMARY:Gottesdienst
DESCRIPTION:Pfarrer Hardy Rylke
URL:https://weimar-evangelisch.de/veranstaltung/gottesdienst-193/
LOCATION:Gemeinderaum im Evangelischen Kinderhaus „Sonnenhügel“\, Bonhoefferstraße 73a\, Weimar\, Thüringen\, 99427\, Deutschland
CATEGORIES:Gottesdienste
ATTACH;FMTTYPE=image/jpeg:https://weimar-evangelisch.de/wp-content/uploads/2022/03/evangelischen_kinderhaus_sonnenhügel_weimar_adresse.jpg
END:VEVENT
BEGIN:VEVENT
DTSTART;TZID=Europe/Berlin:20260315T100000
DTEND;TZID=Europe/Berlin:20260315T110000
DTSTAMP:20260424T160026
CREATED:20251016T095926Z
LAST-MODIFIED:20260218T093632Z
UID:18719-1773568800-1773572400@weimar-evangelisch.de
SUMMARY:Gottesdienst
DESCRIPTION:Pfarrer i.R. Karl-Siegfried Melzer
URL:https://weimar-evangelisch.de/veranstaltung/gottesdienst-172-2026-03-15/
LOCATION:Gemeinderaum im Evangelischen Kinderhaus „Sonnenhügel“\, Bonhoefferstraße 73a\, Weimar\, Thüringen\, 99427\, Deutschland
CATEGORIES:Gottesdienste
ATTACH;FMTTYPE=image/jpeg:https://weimar-evangelisch.de/wp-content/uploads/2022/03/evangelischen_kinderhaus_sonnenhügel_weimar_adresse.jpg
END:VEVENT
BEGIN:VEVENT
DTSTART;TZID=Europe/Berlin:20260301T140000
DTEND;TZID=Europe/Berlin:20260301T150000
DTSTAMP:20260424T160026
CREATED:20250108T084120Z
LAST-MODIFIED:20260218T090647Z
UID:18660-1772373600-1772377200@weimar-evangelisch.de
SUMMARY:Gottesdienst
DESCRIPTION:Pfarrer Hardy Rylke
URL:https://weimar-evangelisch.de/veranstaltung/gottesdienst-136-2026-03-01/
LOCATION:Gemeinderaum im Evangelischen Kinderhaus „Sonnenhügel“\, Bonhoefferstraße 73a\, Weimar\, Thüringen\, 99427\, Deutschland
CATEGORIES:Gottesdienste
ATTACH;FMTTYPE=image/jpeg:https://weimar-evangelisch.de/wp-content/uploads/2022/03/evangelischen_kinderhaus_sonnenhügel_weimar_adresse.jpg
END:VEVENT
BEGIN:VEVENT
DTSTART;TZID=Europe/Berlin:20260215T100000
DTEND;TZID=Europe/Berlin:20260215T110000
DTSTAMP:20260424T160026
CREATED:20251016T095926Z
LAST-MODIFIED:20260122T120241Z
UID:18718-1771149600-1771153200@weimar-evangelisch.de
SUMMARY:Gottesdienst
DESCRIPTION:Pfarrer i.R. Karl-Siegfried Melzer
URL:https://weimar-evangelisch.de/veranstaltung/gottesdienst-172-2026-02-15/
LOCATION:Gemeinderaum im Evangelischen Kinderhaus „Sonnenhügel“\, Bonhoefferstraße 73a\, Weimar\, Thüringen\, 99427\, Deutschland
CATEGORIES:Gottesdienste
ATTACH;FMTTYPE=image/jpeg:https://weimar-evangelisch.de/wp-content/uploads/2022/03/evangelischen_kinderhaus_sonnenhügel_weimar_adresse.jpg
END:VEVENT
BEGIN:VEVENT
DTSTART;TZID=Europe/Berlin:20260201T140000
DTEND;TZID=Europe/Berlin:20260201T150000
DTSTAMP:20260424T160026
CREATED:20250108T084120Z
LAST-MODIFIED:20260122T112504Z
UID:18659-1769954400-1769958000@weimar-evangelisch.de
SUMMARY:Gottesdienst
DESCRIPTION:Pfarrer Hardy Rylke
URL:https://weimar-evangelisch.de/veranstaltung/gottesdienst-136-2026-02-01/
LOCATION:Gemeinderaum im Evangelischen Kinderhaus „Sonnenhügel“\, Bonhoefferstraße 73a\, Weimar\, Thüringen\, 99427\, Deutschland
CATEGORIES:Gottesdienste
ATTACH;FMTTYPE=image/jpeg:https://weimar-evangelisch.de/wp-content/uploads/2022/03/evangelischen_kinderhaus_sonnenhügel_weimar_adresse.jpg
END:VEVENT
BEGIN:VEVENT
DTSTART;TZID=Europe/Berlin:20260118T100000
DTEND;TZID=Europe/Berlin:20260118T110000
DTSTAMP:20260424T160026
CREATED:20251016T095926Z
LAST-MODIFIED:20260107T105531Z
UID:18705-1768730400-1768734000@weimar-evangelisch.de
SUMMARY:Gottesdienst
DESCRIPTION:Pfarrer i.R. Karl-Siegfried Melzer
URL:https://weimar-evangelisch.de/veranstaltung/gottesdienst-172/
LOCATION:Gemeinderaum im Evangelischen Kinderhaus „Sonnenhügel“\, Bonhoefferstraße 73a\, Weimar\, Thüringen\, 99427\, Deutschland
CATEGORIES:Gottesdienste
ATTACH;FMTTYPE=image/jpeg:https://weimar-evangelisch.de/wp-content/uploads/2022/03/evangelischen_kinderhaus_sonnenhügel_weimar_adresse.jpg
END:VEVENT
BEGIN:VEVENT
DTSTART;TZID=Europe/Berlin:20260104T140000
DTEND;TZID=Europe/Berlin:20260104T150000
DTSTAMP:20260424T160026
CREATED:20250108T084120Z
LAST-MODIFIED:20251016T094852Z
UID:13757-1767535200-1767538800@weimar-evangelisch.de
SUMMARY:Gottesdienst
DESCRIPTION:Pfarrer Hardy Rylke
URL:https://weimar-evangelisch.de/veranstaltung/gottesdienst-136/2026-01-04/
LOCATION:Gemeinderaum im Evangelischen Kinderhaus „Sonnenhügel“\, Bonhoefferstraße 73a\, Weimar\, Thüringen\, 99427\, Deutschland
CATEGORIES:Gottesdienste
ATTACH;FMTTYPE=image/jpeg:https://weimar-evangelisch.de/wp-content/uploads/2022/03/evangelischen_kinderhaus_sonnenhügel_weimar_adresse.jpg
END:VEVENT
BEGIN:VEVENT
DTSTART;TZID=Europe/Berlin:20251226T100000
DTEND;TZID=Europe/Berlin:20251226T110000
DTSTAMP:20260424T160026
CREATED:20251009T081622Z
LAST-MODIFIED:20251009T081622Z
UID:18386-1766743200-1766746800@weimar-evangelisch.de
SUMMARY:Gottesdienst zum 2. Christtag
DESCRIPTION:Pfr. i.R. Karl-Siegfried Melzer
URL:https://weimar-evangelisch.de/veranstaltung/gottesdienst-zum-2-christtag-14/
LOCATION:Gemeinderaum im Evangelischen Kinderhaus „Sonnenhügel“\, Bonhoefferstraße 73a\, Weimar\, Thüringen\, 99427\, Deutschland
CATEGORIES:Gottesdienste
ATTACH;FMTTYPE=image/jpeg:https://weimar-evangelisch.de/wp-content/uploads/2022/03/evangelischen_kinderhaus_sonnenhügel_weimar_adresse.jpg
END:VEVENT
BEGIN:VEVENT
DTSTART;TZID=Europe/Berlin:20251224T143000
DTEND;TZID=Europe/Berlin:20251224T153000
DTSTAMP:20260424T160026
CREATED:20251009T080855Z
LAST-MODIFIED:20251009T080855Z
UID:18372-1766586600-1766590200@weimar-evangelisch.de
SUMMARY:Christvesper
DESCRIPTION:Pfr. i.R. Karl-Siegfried Melzer
URL:https://weimar-evangelisch.de/veranstaltung/christvesper-16/
LOCATION:Gemeinderaum im Evangelischen Kinderhaus „Sonnenhügel“\, Bonhoefferstraße 73a\, Weimar\, Thüringen\, 99427\, Deutschland
CATEGORIES:Gottesdienste,Veranstaltungen
ATTACH;FMTTYPE=image/jpeg:https://weimar-evangelisch.de/wp-content/uploads/2022/03/evangelischen_kinderhaus_sonnenhügel_weimar_adresse.jpg
END:VEVENT
BEGIN:VEVENT
DTSTART;TZID=Europe/Berlin:20251221T100000
DTEND;TZID=Europe/Berlin:20251221T110000
DTSTAMP:20260424T160026
CREATED:20250108T083934Z
LAST-MODIFIED:20250108T083934Z
UID:15118-1766311200-1766314800@weimar-evangelisch.de
SUMMARY:Gottesdienst
DESCRIPTION:Pfarrer i.R. Karl-Siegfried Melzer
URL:https://weimar-evangelisch.de/veranstaltung/gottesdienst-135/2025-12-21/
LOCATION:Gemeinderaum im Evangelischen Kinderhaus „Sonnenhügel“\, Bonhoefferstraße 73a\, Weimar\, Thüringen\, 99427\, Deutschland
CATEGORIES:Gottesdienste
ATTACH;FMTTYPE=image/jpeg:https://weimar-evangelisch.de/wp-content/uploads/2022/03/evangelischen_kinderhaus_sonnenhügel_weimar_adresse.jpg
END:VEVENT
BEGIN:VEVENT
DTSTART;TZID=Europe/Berlin:20251207T140000
DTEND;TZID=Europe/Berlin:20251207T150000
DTSTAMP:20260424T160026
CREATED:20251016T095049Z
LAST-MODIFIED:20251016T095049Z
UID:19658-1765116000-1765119600@weimar-evangelisch.de
SUMMARY:Gottesdienst
DESCRIPTION:Pfarrer Hardy Rylke
URL:https://weimar-evangelisch.de/veranstaltung/gottesdienst-170/2025-12-07/
LOCATION:Gemeinderaum im Evangelischen Kinderhaus „Sonnenhügel“\, Bonhoefferstraße 73a\, Weimar\, Thüringen\, 99427\, Deutschland
CATEGORIES:Gottesdienste
ATTACH;FMTTYPE=image/jpeg:https://weimar-evangelisch.de/wp-content/uploads/2022/03/evangelischen_kinderhaus_sonnenhügel_weimar_adresse.jpg
END:VEVENT
BEGIN:VEVENT
DTSTART;TZID=Europe/Berlin:20251116T100000
DTEND;TZID=Europe/Berlin:20251116T110000
DTSTAMP:20260424T160026
CREATED:20250108T083934Z
LAST-MODIFIED:20250108T083934Z
UID:15117-1763287200-1763290800@weimar-evangelisch.de
SUMMARY:Gottesdienst
DESCRIPTION:Pfarrer i.R. Karl-Siegfried Melzer
URL:https://weimar-evangelisch.de/veranstaltung/gottesdienst-135/2025-11-16/
LOCATION:Gemeinderaum im Evangelischen Kinderhaus „Sonnenhügel“\, Bonhoefferstraße 73a\, Weimar\, Thüringen\, 99427\, Deutschland
CATEGORIES:Gottesdienste
ATTACH;FMTTYPE=image/jpeg:https://weimar-evangelisch.de/wp-content/uploads/2022/03/evangelischen_kinderhaus_sonnenhügel_weimar_adresse.jpg
END:VEVENT
BEGIN:VEVENT
DTSTART;TZID=Europe/Berlin:20251102T140000
DTEND;TZID=Europe/Berlin:20251102T150000
DTSTAMP:20260424T160026
CREATED:20251016T095049Z
LAST-MODIFIED:20251121T100950Z
UID:18670-1762092000-1762095600@weimar-evangelisch.de
SUMMARY:Gottesdienst
DESCRIPTION:Pfarrer Hardy Rylke
URL:https://weimar-evangelisch.de/veranstaltung/gottesdienst-170/2025-11-02/
LOCATION:Gemeinderaum im Evangelischen Kinderhaus „Sonnenhügel“\, Bonhoefferstraße 73a\, Weimar\, Thüringen\, 99427\, Deutschland
CATEGORIES:Gottesdienste
ATTACH;FMTTYPE=image/jpeg:https://weimar-evangelisch.de/wp-content/uploads/2022/03/evangelischen_kinderhaus_sonnenhügel_weimar_adresse.jpg
END:VEVENT
BEGIN:VEVENT
DTSTART;TZID=Europe/Berlin:20251019T100000
DTEND;TZID=Europe/Berlin:20251019T110000
DTSTAMP:20260424T160026
CREATED:20250108T083934Z
LAST-MODIFIED:20250108T083934Z
UID:15116-1760868000-1760871600@weimar-evangelisch.de
SUMMARY:Gottesdienst
DESCRIPTION:Pfarrer i.R. Karl-Siegfried Melzer
URL:https://weimar-evangelisch.de/veranstaltung/gottesdienst-135/2025-10-19/
LOCATION:Gemeinderaum im Evangelischen Kinderhaus „Sonnenhügel“\, Bonhoefferstraße 73a\, Weimar\, Thüringen\, 99427\, Deutschland
CATEGORIES:Gottesdienste
ATTACH;FMTTYPE=image/jpeg:https://weimar-evangelisch.de/wp-content/uploads/2022/03/evangelischen_kinderhaus_sonnenhügel_weimar_adresse.jpg
END:VEVENT
BEGIN:VEVENT
DTSTART;TZID=Europe/Berlin:20251005T140000
DTEND;TZID=Europe/Berlin:20251005T150000
DTSTAMP:20260424T160026
CREATED:20250108T084120Z
LAST-MODIFIED:20250926T081942Z
UID:13766-1759672800-1759676400@weimar-evangelisch.de
SUMMARY:Gottesdienst
DESCRIPTION:Pfarrer Hardy Rylke
URL:https://weimar-evangelisch.de/veranstaltung/gottesdienst-136-2025-10-05/
LOCATION:Gemeinderaum im Evangelischen Kinderhaus „Sonnenhügel“\, Bonhoefferstraße 73a\, Weimar\, Thüringen\, 99427\, Deutschland
CATEGORIES:Gottesdienste
ATTACH;FMTTYPE=image/jpeg:https://weimar-evangelisch.de/wp-content/uploads/2022/03/evangelischen_kinderhaus_sonnenhügel_weimar_adresse.jpg
END:VEVENT
BEGIN:VEVENT
DTSTART;TZID=Europe/Berlin:20250921T100000
DTEND;TZID=Europe/Berlin:20250921T110000
DTSTAMP:20260424T160026
CREATED:20250108T083934Z
LAST-MODIFIED:20250108T083934Z
UID:15115-1758448800-1758452400@weimar-evangelisch.de
SUMMARY:Gottesdienst
DESCRIPTION:Pfarrer i.R. Karl-Siegfried Melzer
URL:https://weimar-evangelisch.de/veranstaltung/gottesdienst-135/2025-09-21/
LOCATION:Gemeinderaum im Evangelischen Kinderhaus „Sonnenhügel“\, Bonhoefferstraße 73a\, Weimar\, Thüringen\, 99427\, Deutschland
CATEGORIES:Gottesdienste
ATTACH;FMTTYPE=image/jpeg:https://weimar-evangelisch.de/wp-content/uploads/2022/03/evangelischen_kinderhaus_sonnenhügel_weimar_adresse.jpg
END:VEVENT
BEGIN:VEVENT
DTSTART;TZID=Europe/Berlin:20250615T100000
DTEND;TZID=Europe/Berlin:20250615T110000
DTSTAMP:20260424T160026
CREATED:20250108T083934Z
LAST-MODIFIED:20250108T083934Z
UID:15112-1749981600-1749985200@weimar-evangelisch.de
SUMMARY:Gottesdienst
DESCRIPTION:Pfarrer i.R. Karl-Siegfried Melzer
URL:https://weimar-evangelisch.de/veranstaltung/gottesdienst-135/2025-06-15/
LOCATION:Gemeinderaum im Evangelischen Kinderhaus „Sonnenhügel“\, Bonhoefferstraße 73a\, Weimar\, Thüringen\, 99427\, Deutschland
CATEGORIES:Gottesdienste
ATTACH;FMTTYPE=image/jpeg:https://weimar-evangelisch.de/wp-content/uploads/2022/03/evangelischen_kinderhaus_sonnenhügel_weimar_adresse.jpg
END:VEVENT
BEGIN:VEVENT
DTSTART;TZID=Europe/Berlin:20250518T100000
DTEND;TZID=Europe/Berlin:20250518T110000
DTSTAMP:20260424T160026
CREATED:20250108T083934Z
LAST-MODIFIED:20250108T083934Z
UID:15111-1747562400-1747566000@weimar-evangelisch.de
SUMMARY:Gottesdienst
DESCRIPTION:Pfarrer i.R. Karl-Siegfried Melzer
URL:https://weimar-evangelisch.de/veranstaltung/gottesdienst-135/2025-05-18/
LOCATION:Gemeinderaum im Evangelischen Kinderhaus „Sonnenhügel“\, Bonhoefferstraße 73a\, Weimar\, Thüringen\, 99427\, Deutschland
CATEGORIES:Gottesdienste
ATTACH;FMTTYPE=image/jpeg:https://weimar-evangelisch.de/wp-content/uploads/2022/03/evangelischen_kinderhaus_sonnenhügel_weimar_adresse.jpg
END:VEVENT
BEGIN:VEVENT
DTSTART;TZID=Europe/Berlin:20250420T100000
DTEND;TZID=Europe/Berlin:20250420T110000
DTSTAMP:20260424T160026
CREATED:20250108T083934Z
LAST-MODIFIED:20250108T083934Z
UID:15110-1745143200-1745146800@weimar-evangelisch.de
SUMMARY:Gottesdienst
DESCRIPTION:Pfarrer i.R. Karl-Siegfried Melzer
URL:https://weimar-evangelisch.de/veranstaltung/gottesdienst-135/2025-04-20/
LOCATION:Gemeinderaum im Evangelischen Kinderhaus „Sonnenhügel“\, Bonhoefferstraße 73a\, Weimar\, Thüringen\, 99427\, Deutschland
CATEGORIES:Gottesdienste
ATTACH;FMTTYPE=image/jpeg:https://weimar-evangelisch.de/wp-content/uploads/2022/03/evangelischen_kinderhaus_sonnenhügel_weimar_adresse.jpg
END:VEVENT
BEGIN:VEVENT
DTSTART;TZID=Europe/Berlin:20250316T100000
DTEND;TZID=Europe/Berlin:20250316T110000
DTSTAMP:20260424T160026
CREATED:20250108T083934Z
LAST-MODIFIED:20250207T103111Z
UID:13744-1742119200-1742122800@weimar-evangelisch.de
SUMMARY:Gottesdienst
DESCRIPTION:Pfarrer i.R. Karl-Siegfried Melzer
URL:https://weimar-evangelisch.de/veranstaltung/gottesdienst-135/2025-03-16/
LOCATION:Gemeinderaum im Evangelischen Kinderhaus „Sonnenhügel“\, Bonhoefferstraße 73a\, Weimar\, Thüringen\, 99427\, Deutschland
CATEGORIES:Gottesdienste
ATTACH;FMTTYPE=image/jpeg:https://weimar-evangelisch.de/wp-content/uploads/2022/03/evangelischen_kinderhaus_sonnenhügel_weimar_adresse.jpg
END:VEVENT
BEGIN:VEVENT
DTSTART;TZID=Europe/Berlin:20250216T093000
DTEND;TZID=Europe/Berlin:20250216T103000
DTSTAMP:20260424T160026
CREATED:20250207T103451Z
LAST-MODIFIED:20250207T103451Z
UID:15120-1739698200-1739701800@weimar-evangelisch.de
SUMMARY:Gottesdienst
DESCRIPTION:Pfarrer i.R. Karl-Siegfried Melzer
URL:https://weimar-evangelisch.de/veranstaltung/gottesdienst-146/2025-02-16/
LOCATION:Gemeinderaum im Evangelischen Kinderhaus „Sonnenhügel“\, Bonhoefferstraße 73a\, Weimar\, Thüringen\, 99427\, Deutschland
CATEGORIES:Gottesdienste
ATTACH;FMTTYPE=image/jpeg:https://weimar-evangelisch.de/wp-content/uploads/2022/03/evangelischen_kinderhaus_sonnenhügel_weimar_adresse.jpg
END:VEVENT
BEGIN:VEVENT
DTSTART;TZID=Europe/Berlin:20250202T140000
DTEND;TZID=Europe/Berlin:20250202T150000
DTSTAMP:20260424T160026
CREATED:20250108T084120Z
LAST-MODIFIED:20250122T114851Z
UID:13758-1738504800-1738508400@weimar-evangelisch.de
SUMMARY:Gottesdienst
DESCRIPTION:Pfarrer Hardy Rylke
URL:https://weimar-evangelisch.de/veranstaltung/gottesdienst-136-2025-02-02/
LOCATION:Gemeinderaum im Evangelischen Kinderhaus „Sonnenhügel“\, Bonhoefferstraße 73a\, Weimar\, Thüringen\, 99427\, Deutschland
CATEGORIES:Gottesdienste
ATTACH;FMTTYPE=image/jpeg:https://weimar-evangelisch.de/wp-content/uploads/2022/03/evangelischen_kinderhaus_sonnenhügel_weimar_adresse.jpg
END:VEVENT
BEGIN:VEVENT
DTSTART;TZID=Europe/Berlin:20250119T093000
DTEND;TZID=Europe/Berlin:20250119T103000
DTSTAMP:20260424T160026
CREATED:20250207T103451Z
LAST-MODIFIED:20250207T103451Z
UID:15119-1737279000-1737282600@weimar-evangelisch.de
SUMMARY:Gottesdienst
DESCRIPTION:Pfarrer i.R. Karl-Siegfried Melzer
URL:https://weimar-evangelisch.de/veranstaltung/gottesdienst-146/2025-01-19/
LOCATION:Gemeinderaum im Evangelischen Kinderhaus „Sonnenhügel“\, Bonhoefferstraße 73a\, Weimar\, Thüringen\, 99427\, Deutschland
CATEGORIES:Gottesdienste
ATTACH;FMTTYPE=image/jpeg:https://weimar-evangelisch.de/wp-content/uploads/2022/03/evangelischen_kinderhaus_sonnenhügel_weimar_adresse.jpg
END:VEVENT
BEGIN:VEVENT
DTSTART;TZID=Europe/Berlin:20241226T100000
DTEND;TZID=Europe/Berlin:20241226T110000
DTSTAMP:20260424T160026
CREATED:20241129T105251Z
LAST-MODIFIED:20241129T105251Z
UID:13496-1735207200-1735210800@weimar-evangelisch.de
SUMMARY:Gottesdienst zum 2. Christtag
DESCRIPTION:Pfr. i.R. Karl-Siegfried Melzer
URL:https://weimar-evangelisch.de/veranstaltung/gottesdienst-zum-2-christtag-10/
LOCATION:Gemeinderaum im Evangelischen Kinderhaus „Sonnenhügel“\, Bonhoefferstraße 73a\, Weimar\, Thüringen\, 99427\, Deutschland
CATEGORIES:Gottesdienste
ATTACH;FMTTYPE=image/jpeg:https://weimar-evangelisch.de/wp-content/uploads/2022/03/evangelischen_kinderhaus_sonnenhügel_weimar_adresse.jpg
END:VEVENT
BEGIN:VEVENT
DTSTART;TZID=Europe/Berlin:20241224T143000
DTEND;TZID=Europe/Berlin:20241224T153000
DTSTAMP:20260424T160026
CREATED:20241129T100724Z
LAST-MODIFIED:20241129T100724Z
UID:13468-1735050600-1735054200@weimar-evangelisch.de
SUMMARY:Christvesper
DESCRIPTION:Pfr. i.R. Karl-Siegfried Melzer
URL:https://weimar-evangelisch.de/veranstaltung/christvesper-12/
LOCATION:Gemeinderaum im Evangelischen Kinderhaus „Sonnenhügel“\, Bonhoefferstraße 73a\, Weimar\, Thüringen\, 99427\, Deutschland
CATEGORIES:Gottesdienste,Veranstaltungen
ATTACH;FMTTYPE=image/jpeg:https://weimar-evangelisch.de/wp-content/uploads/2022/03/evangelischen_kinderhaus_sonnenhügel_weimar_adresse.jpg
END:VEVENT
BEGIN:VEVENT
DTSTART;TZID=Europe/Berlin:20241215T093000
DTEND;TZID=Europe/Berlin:20241215T103000
DTSTAMP:20260424T160026
CREATED:20231208T124004Z
LAST-MODIFIED:20231208T124004Z
UID:12161-1734255000-1734258600@weimar-evangelisch.de
SUMMARY:Gottesdienst
DESCRIPTION:Pfarrer i.R. Karl-Siegfried Melzer
URL:https://weimar-evangelisch.de/veranstaltung/gottesdienst-77/2024-12-15/
LOCATION:Gemeinderaum im Evangelischen Kinderhaus „Sonnenhügel“\, Bonhoefferstraße 73a\, Weimar\, Thüringen\, 99427\, Deutschland
CATEGORIES:Gottesdienste
ATTACH;FMTTYPE=image/jpeg:https://weimar-evangelisch.de/wp-content/uploads/2022/03/evangelischen_kinderhaus_sonnenhügel_weimar_adresse.jpg
END:VEVENT
BEGIN:VEVENT
DTSTART;TZID=Europe/Berlin:20241201T140000
DTEND;TZID=Europe/Berlin:20241201T150000
DTSTAMP:20260424T160026
CREATED:20231221T122102Z
LAST-MODIFIED:20241129T092230Z
UID:12181-1733061600-1733065200@weimar-evangelisch.de
SUMMARY:Gottesdienst
DESCRIPTION:Vikar Dr. Volker Rabens
URL:https://weimar-evangelisch.de/veranstaltung/gottesdienst-86-2024-02-18-2024-03-03-2024-12-01/
LOCATION:Gemeinderaum im Evangelischen Kinderhaus „Sonnenhügel“\, Bonhoefferstraße 73a\, Weimar\, Thüringen\, 99427\, Deutschland
CATEGORIES:Gottesdienste
ATTACH;FMTTYPE=image/jpeg:https://weimar-evangelisch.de/wp-content/uploads/2022/03/evangelischen_kinderhaus_sonnenhügel_weimar_adresse.jpg
END:VEVENT
BEGIN:VEVENT
DTSTART;TZID=Europe/Berlin:20241117T093000
DTEND;TZID=Europe/Berlin:20241117T103000
DTSTAMP:20260424T160026
CREATED:20231208T124004Z
LAST-MODIFIED:20240221T121920Z
UID:10784-1731835800-1731839400@weimar-evangelisch.de
SUMMARY:Gottesdienst
DESCRIPTION:Pfarrer i.R. Karl-Siegfried Melzer
URL:https://weimar-evangelisch.de/veranstaltung/gottesdienst-77/2024-11-17/
LOCATION:Gemeinderaum im Evangelischen Kinderhaus „Sonnenhügel“\, Bonhoefferstraße 73a\, Weimar\, Thüringen\, 99427\, Deutschland
CATEGORIES:Gottesdienste
ATTACH;FMTTYPE=image/jpeg:https://weimar-evangelisch.de/wp-content/uploads/2022/03/evangelischen_kinderhaus_sonnenhügel_weimar_adresse.jpg
END:VEVENT
END:VCALENDAR