BEGIN:VCALENDAR
VERSION:2.0
PRODID:-//Weimar Evangelisch - ECPv6.6.1//NONSGML v1.0//EN
CALSCALE:GREGORIAN
METHOD:PUBLISH
X-ORIGINAL-URL:https://weimar-evangelisch.de
X-WR-CALDESC:Veranstaltungen für Weimar Evangelisch
REFRESH-INTERVAL;VALUE=DURATION:PT1H
X-Robots-Tag:noindex
X-PUBLISHED-TTL:PT1H
BEGIN:VTIMEZONE
TZID:Europe/Berlin
BEGIN:DAYLIGHT
TZOFFSETFROM:+0100
TZOFFSETTO:+0200
TZNAME:CEST
DTSTART:20230326T010000
END:DAYLIGHT
BEGIN:STANDARD
TZOFFSETFROM:+0200
TZOFFSETTO:+0100
TZNAME:CET
DTSTART:20231029T010000
END:STANDARD
BEGIN:DAYLIGHT
TZOFFSETFROM:+0100
TZOFFSETTO:+0200
TZNAME:CEST
DTSTART:20240331T010000
END:DAYLIGHT
BEGIN:STANDARD
TZOFFSETFROM:+0200
TZOFFSETTO:+0100
TZNAME:CET
DTSTART:20241027T010000
END:STANDARD
BEGIN:DAYLIGHT
TZOFFSETFROM:+0100
TZOFFSETTO:+0200
TZNAME:CEST
DTSTART:20250330T010000
END:DAYLIGHT
BEGIN:STANDARD
TZOFFSETFROM:+0200
TZOFFSETTO:+0100
TZNAME:CET
DTSTART:20251026T010000
END:STANDARD
BEGIN:DAYLIGHT
TZOFFSETFROM:+0100
TZOFFSETTO:+0200
TZNAME:CEST
DTSTART:20260329T010000
END:DAYLIGHT
BEGIN:STANDARD
TZOFFSETFROM:+0200
TZOFFSETTO:+0100
TZNAME:CET
DTSTART:20261025T010000
END:STANDARD
END:VTIMEZONE
BEGIN:VEVENT
DTSTART;TZID=Europe/Berlin:20260409T190000
DTEND;TZID=Europe/Berlin:20260409T200000
DTSTAMP:20260424T171342
CREATED:20260407T100216Z
LAST-MODIFIED:20260407T100216Z
UID:21648-1775761200-1775764800@weimar-evangelisch.de
SUMMARY:Gemeindeabend "Dietrich Bonhoeffer im Kreise der Familie"
DESCRIPTION:Pfr. i. R. Martin Rambow liest aus den Erinnerungen von Susanne Dreß (Bonhoeffers jüngere Schwester) und Karl Bonhoeffer (Bonoeffers Vater)
URL:https://weimar-evangelisch.de/veranstaltung/gemeindeabend-dietrich-bonhoeffer-im-kreise-der-familie/
LOCATION:Gemeindehaus der Kreuzkirche\, Böhlaustraße 2\, Weimar\, Thüringen\, 99423\, Deutschland
CATEGORIES:Veranstaltungen
ATTACH;FMTTYPE=image/jpeg:https://weimar-evangelisch.de/wp-content/uploads/2024/04/co_epd-Bildarchiv-scaled.jpg
END:VEVENT
BEGIN:VEVENT
DTSTART;TZID=Europe/Berlin:20251026T110000
DTEND;TZID=Europe/Berlin:20251026T170000
DTSTAMP:20260424T171342
CREATED:20250926T102408Z
LAST-MODIFIED:20250926T102408Z
UID:18278-1761476400-1761498000@weimar-evangelisch.de
SUMMARY:Wir sind geWOLLt
DESCRIPTION:3. Wollmarkt \nFür Kaffee und Kuchen ist gesorgt. \nDer Erlös des Wollmarktes ist für die Kirchengemeinde und die Krankenhausseelsorge am Weimarer Klinikum bestimmt.
URL:https://weimar-evangelisch.de/veranstaltung/wir-sind-gewollt/
LOCATION:Gemeindehaus der Kreuzkirche\, Böhlaustraße 2\, Weimar\, Thüringen\, 99423\, Deutschland
CATEGORIES:Veranstaltungen
ATTACH;FMTTYPE=image/jpeg:https://weimar-evangelisch.de/wp-content/uploads/2023/08/Gemeindehaus-Kreuzkirche-scaled.jpeg
END:VEVENT
BEGIN:VEVENT
DTSTART;TZID=Europe/Berlin:20250228T183000
DTEND;TZID=Europe/Berlin:20250228T200000
DTSTAMP:20260424T171342
CREATED:20250122T124629Z
LAST-MODIFIED:20250122T125142Z
UID:14763-1740767400-1740772800@weimar-evangelisch.de
SUMMARY:Salvador Dalí „Bilder zu Passion und Ostern“.
DESCRIPTION:Kunstgespräch mit Pfarrer i. R. Dr. Herbert Specht\, Kurator der Ausstellung „Biblia Sacra“\, im Kunsthaus Avantgarde Apolda
URL:https://weimar-evangelisch.de/veranstaltung/salvador-dali-bilder-zu-passion-und-ostern/
LOCATION:Gemeindehaus der Kreuzkirche\, Böhlaustraße 2\, Weimar\, Thüringen\, 99423\, Deutschland
CATEGORIES:Veranstaltungen
ATTACH;FMTTYPE=image/jpeg:https://weimar-evangelisch.de/wp-content/uploads/2023/08/Gemeindehaus-Kreuzkirche-scaled.jpeg
END:VEVENT
BEGIN:VEVENT
DTSTART;TZID=Europe/Berlin:20241104T180000
DTEND;TZID=Europe/Berlin:20241104T190000
DTSTAMP:20260424T171342
CREATED:20241022T123339Z
LAST-MODIFIED:20241022T123339Z
UID:13295-1730743200-1730746800@weimar-evangelisch.de
SUMMARY:Lichtbildvortrag Surename
DESCRIPTION:Pfarrer i. R. Gernot Friedrich aus Gera
URL:https://weimar-evangelisch.de/veranstaltung/lichtbildvortrag-surename/
LOCATION:Gemeindehaus der Kreuzkirche\, Böhlaustraße 2\, Weimar\, Thüringen\, 99423\, Deutschland
CATEGORIES:Veranstaltungen
ATTACH;FMTTYPE=image/jpeg:https://weimar-evangelisch.de/wp-content/uploads/2023/08/Gemeindehaus-Kreuzkirche-scaled.jpeg
END:VEVENT
BEGIN:VEVENT
DTSTART;TZID=Europe/Berlin:20240421T110000
DTEND;TZID=Europe/Berlin:20240421T140000
DTSTAMP:20260424T171342
CREATED:20240318T125101Z
LAST-MODIFIED:20240318T125101Z
UID:12348-1713697200-1713708000@weimar-evangelisch.de
SUMMARY:Frühlingsmarkt in der Kreuzkirche
DESCRIPTION:kleine Pflanzenbörse\, Kaffee und Kuchen\,
URL:https://weimar-evangelisch.de/veranstaltung/fruehlingsmarkt-in-der-kreuzkirche/
LOCATION:Gemeindehaus der Kreuzkirche\, Böhlaustraße 2\, Weimar\, Thüringen\, 99423\, Deutschland
CATEGORIES:Veranstaltungen
ATTACH;FMTTYPE=image/jpeg:https://weimar-evangelisch.de/wp-content/uploads/2023/02/Kreuzkirche-by-Guido-Werner-scaled.jpg
END:VEVENT
BEGIN:VEVENT
DTSTART;TZID=Europe/Berlin:20231217T110000
DTEND;TZID=Europe/Berlin:20231217T130000
DTSTAMP:20260424T171342
CREATED:20231121T131651Z
LAST-MODIFIED:20231121T131651Z
UID:9823-1702810800-1702818000@weimar-evangelisch.de
SUMMARY:Adventsmarkt
DESCRIPTION:mit Kaffee\, Kuchen und Gespräch \n 
URL:https://weimar-evangelisch.de/veranstaltung/adventsmarkt/
LOCATION:Gemeindehaus der Kreuzkirche\, Böhlaustraße 2\, Weimar\, Thüringen\, 99423\, Deutschland
CATEGORIES:Veranstaltungen
ATTACH;FMTTYPE=image/jpeg:https://weimar-evangelisch.de/wp-content/uploads/2023/08/Gemeindehaus-Kreuzkirche-scaled.jpeg
END:VEVENT
BEGIN:VEVENT
DTSTART;TZID=Europe/Berlin:20230920T193000
DTEND;TZID=Europe/Berlin:20230920T203000
DTSTAMP:20260424T171342
CREATED:20230817T113004Z
LAST-MODIFIED:20230817T113055Z
UID:9194-1695238200-1695241800@weimar-evangelisch.de
SUMMARY:Gemeindeabend mit der Kandidtatin Anne Puhr
DESCRIPTION:Pfarrerin Anne Puhr aus Berga an der Elster aus dem Kirchenkreis Greiz
URL:https://weimar-evangelisch.de/veranstaltung/gemeindeabend-mit-der-kandidtatin-anne-puhr/
LOCATION:Gemeindehaus der Kreuzkirche\, Böhlaustraße 2\, Weimar\, Thüringen\, 99423\, Deutschland
CATEGORIES:Veranstaltungen
ATTACH;FMTTYPE=image/jpeg:https://weimar-evangelisch.de/wp-content/uploads/2023/08/Gemeindehaus-Kreuzkirche-scaled.jpeg
END:VEVENT
BEGIN:VEVENT
DTSTART;TZID=Europe/Berlin:20230510T180000
DTEND;TZID=Europe/Berlin:20230510T190000
DTSTAMP:20260424T171342
CREATED:20230502T103547Z
LAST-MODIFIED:20230502T114036Z
UID:8129-1683741600-1683745200@weimar-evangelisch.de
SUMMARY:Vortrag zum 210. Jahrestag Johannes-Falk-Vereins e.V.
DESCRIPTION:„Christliche Nächstenliebe und soziale Kontrolle. Überlegungen zum 210. Jahrestag der Gründung der Gesellschaft der Freunde in der Not“. \nProf. Dr. Michael Haspel \nMartin-Luther-Institut/ Universität Erfurt
URL:https://weimar-evangelisch.de/veranstaltung/vortrag-zum-210-jahrestag-gruendung-der-gesellschaft-der-freunde-in-der-noth/
LOCATION:Gemeindehaus der Kreuzkirche\, Böhlaustraße 2\, Weimar\, Thüringen\, 99423\, Deutschland
CATEGORIES:Veranstaltungen
ATTACH;FMTTYPE=image/jpeg:https://weimar-evangelisch.de/wp-content/uploads/2023/02/Kreuzkirche-by-Guido-Werner-scaled.jpg
END:VEVENT
BEGIN:VEVENT
DTSTART;TZID=Europe/Berlin:20230308T190000
DTEND;TZID=Europe/Berlin:20230308T200000
DTSTAMP:20260424T171342
CREATED:20230223T110159Z
LAST-MODIFIED:20230228T081935Z
UID:7307-1678302000-1678305600@weimar-evangelisch.de
SUMMARY:„Der Schatz der Königin“ - Buchlesung
DESCRIPTION:Die Autorin Barbara Harnisch liest aus ihrem historischen Roman „Der Schatz der Königin“ über Radegunde von Thüringen.\nDer Eintritt ist frei
URL:https://weimar-evangelisch.de/veranstaltung/buchlesung/
LOCATION:Gemeindehaus der Kreuzkirche\, Böhlaustraße 2\, Weimar\, Thüringen\, 99423\, Deutschland
CATEGORIES:Veranstaltungen
ATTACH;FMTTYPE=image/jpeg:https://weimar-evangelisch.de/wp-content/uploads/2023/02/Kreuzkirche-by-Guido-Werner-scaled.jpg
END:VEVENT
END:VCALENDAR