BEGIN:VCALENDAR
VERSION:2.0
PRODID:-//Weimar Evangelisch - ECPv6.6.1//NONSGML v1.0//EN
CALSCALE:GREGORIAN
METHOD:PUBLISH
X-ORIGINAL-URL:https://weimar-evangelisch.de
X-WR-CALDESC:Veranstaltungen für Weimar Evangelisch
REFRESH-INTERVAL;VALUE=DURATION:PT1H
X-Robots-Tag:noindex
X-PUBLISHED-TTL:PT1H
BEGIN:VTIMEZONE
TZID:Europe/Berlin
BEGIN:DAYLIGHT
TZOFFSETFROM:+0100
TZOFFSETTO:+0200
TZNAME:CEST
DTSTART:20230326T010000
END:DAYLIGHT
BEGIN:STANDARD
TZOFFSETFROM:+0200
TZOFFSETTO:+0100
TZNAME:CET
DTSTART:20231029T010000
END:STANDARD
BEGIN:DAYLIGHT
TZOFFSETFROM:+0100
TZOFFSETTO:+0200
TZNAME:CEST
DTSTART:20240331T010000
END:DAYLIGHT
BEGIN:STANDARD
TZOFFSETFROM:+0200
TZOFFSETTO:+0100
TZNAME:CET
DTSTART:20241027T010000
END:STANDARD
BEGIN:DAYLIGHT
TZOFFSETFROM:+0100
TZOFFSETTO:+0200
TZNAME:CEST
DTSTART:20250330T010000
END:DAYLIGHT
BEGIN:STANDARD
TZOFFSETFROM:+0200
TZOFFSETTO:+0100
TZNAME:CET
DTSTART:20251026T010000
END:STANDARD
END:VTIMEZONE
BEGIN:VEVENT
DTSTART;TZID=Europe/Berlin:20251028T170000
DTEND;TZID=Europe/Berlin:20251028T183000
DTSTAMP:20260424T141340
CREATED:20250926T100813Z
LAST-MODIFIED:20250926T100813Z
UID:18276-1761670800-1761676200@weimar-evangelisch.de
SUMMARY:Johannes-Umzug
DESCRIPTION:Kinder und ihre Familien\, Falkfreunde\, Weimarer und Gäste der Stadt treffen sich am Falkdenkmal (Graben/ Sparkasse) zu einer Geburtstagsparty der ruhigen Art: \nErinnert wird mit an den zweiten Ehrenbürger der Stadt\, der mit der „Gesellschaft\nder Freunde in der Not“ ein Licht in dunklen Zeiten entzündet hat: Johannes Falk.
URL:https://weimar-evangelisch.de/veranstaltung/johannes-umzug-3/
LOCATION:Falkdenkmal\, Graben\, Thüringen\, Deutschland
CATEGORIES:Veranstaltungen
ATTACH;FMTTYPE=image/jpeg:https://weimar-evangelisch.de/wp-content/uploads/2022/11/Laterne_Seliger-scaled.jpg
END:VEVENT
BEGIN:VEVENT
DTSTART;TZID=Europe/Berlin:20241028T170000
DTEND;TZID=Europe/Berlin:20241028T183000
DTSTAMP:20260424T141340
CREATED:20241009T065915Z
LAST-MODIFIED:20241009T065915Z
UID:13135-1730134800-1730140200@weimar-evangelisch.de
SUMMARY:Johannes-Umzug
DESCRIPTION:Kinder und ihre Familien\, Falkfreunde\, Weimarer und Gäste der Stadt treffen sich am Falkdenkmal (Graben/ Sparkasse) zu einer Geburtstagsparty der ruhigen Art: \nErinnert wird mit an den zweiten Ehrenbürger der Stadt\, der mit der „Gesellschaft\nder Freunde in der Not“ ein Licht in dunklen Zeiten entzündet hat: Johannes Falk.
URL:https://weimar-evangelisch.de/veranstaltung/johannes-umzug-2/
LOCATION:Falkdenkmal\, Graben\, Thüringen\, Deutschland
CATEGORIES:Veranstaltungen
ATTACH;FMTTYPE=image/jpeg:https://weimar-evangelisch.de/wp-content/uploads/2022/11/Laterne_Seliger-scaled.jpg
END:VEVENT
BEGIN:VEVENT
DTSTART;TZID=Europe/Berlin:20231028T170000
DTEND;TZID=Europe/Berlin:20231028T183000
DTSTAMP:20260424T141340
CREATED:20231002T100346Z
LAST-MODIFIED:20231002T100346Z
UID:9429-1698512400-1698517800@weimar-evangelisch.de
SUMMARY:Johannes-Umzug
DESCRIPTION:Kinder und ihre Familien\, Falkfreunde\, Weimarer und Gäste der Stadt treffen sich am Falkdenkmal (Graben/ Sparkasse) zu einer Geburtstagsparty der ruhigen Art: \nErinnert wird mit an den zweiten Ehrenbürger der Stadt\, der mit der „Gesellschaft\nder Freunde in der Not“ ein Licht in dunklen Zeiten entzündet hat: Johannes Falk.
URL:https://weimar-evangelisch.de/veranstaltung/johannes-umzug/
LOCATION:Falkdenkmal\, Graben\, Thüringen\, Deutschland
CATEGORIES:Veranstaltungen
ATTACH;FMTTYPE=image/jpeg:https://weimar-evangelisch.de/wp-content/uploads/2022/11/Laterne_Seliger-scaled.jpg
END:VEVENT
END:VCALENDAR