BEGIN:VCALENDAR
VERSION:2.0
PRODID:-//Weimar Evangelisch - ECPv6.6.1//NONSGML v1.0//EN
CALSCALE:GREGORIAN
METHOD:PUBLISH
X-ORIGINAL-URL:https://weimar-evangelisch.de
X-WR-CALDESC:Veranstaltungen für Weimar Evangelisch
REFRESH-INTERVAL;VALUE=DURATION:PT1H
X-Robots-Tag:noindex
X-PUBLISHED-TTL:PT1H
BEGIN:VTIMEZONE
TZID:Europe/Berlin
BEGIN:DAYLIGHT
TZOFFSETFROM:+0100
TZOFFSETTO:+0200
TZNAME:CEST
DTSTART:20220327T010000
END:DAYLIGHT
BEGIN:STANDARD
TZOFFSETFROM:+0200
TZOFFSETTO:+0100
TZNAME:CET
DTSTART:20221030T010000
END:STANDARD
BEGIN:DAYLIGHT
TZOFFSETFROM:+0100
TZOFFSETTO:+0200
TZNAME:CEST
DTSTART:20230326T010000
END:DAYLIGHT
BEGIN:STANDARD
TZOFFSETFROM:+0200
TZOFFSETTO:+0100
TZNAME:CET
DTSTART:20231029T010000
END:STANDARD
BEGIN:DAYLIGHT
TZOFFSETFROM:+0100
TZOFFSETTO:+0200
TZNAME:CEST
DTSTART:20240331T010000
END:DAYLIGHT
BEGIN:STANDARD
TZOFFSETFROM:+0200
TZOFFSETTO:+0100
TZNAME:CET
DTSTART:20241027T010000
END:STANDARD
END:VTIMEZONE
BEGIN:VEVENT
DTSTART;TZID=Europe/Berlin:20240512T170000
DTEND;TZID=Europe/Berlin:20240512T183000
DTSTAMP:20260425T153404
CREATED:20240424T073204Z
LAST-MODIFIED:20240424T073204Z
UID:12558-1715533200-1715538600@weimar-evangelisch.de
SUMMARY:Von Bach bis Liszt
DESCRIPTION:Martin Huggel (Schweiz)\, Orgel\nWerke von J. S. Bach\, Robert Schumann\, Théodore Dubois und Franz Liszt \n  \n  \n 
URL:https://weimar-evangelisch.de/veranstaltung/von-bach-bis-liszt/
LOCATION:Denstedt\, Karl-Marx-Straße\, Denstedt\, Thüringen\, 99441\, Deutschland
CATEGORIES:Veranstaltungen
ATTACH;FMTTYPE=image/jpeg:https://weimar-evangelisch.de/wp-content/uploads/2023/04/RNE_2614_co_Neuwirt.jpg
END:VEVENT
BEGIN:VEVENT
DTSTART;TZID=Europe/Berlin:20240505T100000
DTEND;TZID=Europe/Berlin:20240505T110000
DTSTAMP:20260425T153404
CREATED:20240424T063236Z
LAST-MODIFIED:20240424T063236Z
UID:12496-1714903200-1714906800@weimar-evangelisch.de
SUMMARY:Gottesdienst zur Jubelkonfirmation
DESCRIPTION:Pfarrer Marcus Victor
URL:https://weimar-evangelisch.de/veranstaltung/gottesdienst-zur-jubelkonfirmation/
LOCATION:Denstedt\, Karl-Marx-Straße\, Denstedt\, Thüringen\, 99441\, Deutschland
CATEGORIES:Gottesdienste
ATTACH;FMTTYPE=image/jpeg:https://weimar-evangelisch.de/wp-content/uploads/2022/03/kirche_denstedt_02.jpg
END:VEVENT
BEGIN:VEVENT
DTSTART;TZID=Europe/Berlin:20240331T100000
DTEND;TZID=Europe/Berlin:20240331T110000
DTSTAMP:20260425T153404
CREATED:20240221T130826Z
LAST-MODIFIED:20240221T130826Z
UID:12265-1711879200-1711882800@weimar-evangelisch.de
SUMMARY:Gottesdienst
DESCRIPTION:Lektor Richter
URL:https://weimar-evangelisch.de/veranstaltung/gottesdienst-102/
LOCATION:Denstedt\, Karl-Marx-Straße\, Denstedt\, Thüringen\, 99441\, Deutschland
CATEGORIES:Gottesdienste
ATTACH;FMTTYPE=image/jpeg:https://weimar-evangelisch.de/wp-content/uploads/2022/03/kirche_denstedt_02.jpg
END:VEVENT
BEGIN:VEVENT
DTSTART;TZID=Europe/Berlin:20231224T150000
DTEND;TZID=Europe/Berlin:20231224T160000
DTSTAMP:20260425T153404
CREATED:20231124T125003Z
LAST-MODIFIED:20231124T125003Z
UID:9857-1703430000-1703433600@weimar-evangelisch.de
SUMMARY:Krippenspiel
DESCRIPTION:Birgit Kissmann + Team \nund Posaunenchor Tiefurt
URL:https://weimar-evangelisch.de/veranstaltung/krippenspiel-2/
LOCATION:Denstedt\, Karl-Marx-Straße\, Denstedt\, Thüringen\, 99441\, Deutschland
CATEGORIES:Gottesdienste
ATTACH;FMTTYPE=image/jpeg:https://weimar-evangelisch.de/wp-content/uploads/2022/03/kirche_denstedt_02.jpg
END:VEVENT
BEGIN:VEVENT
DTSTART;TZID=Europe/Berlin:20231022T160000
DTEND;TZID=Europe/Berlin:20231022T170000
DTSTAMP:20260425T153404
CREATED:20231002T101105Z
LAST-MODIFIED:20231002T101105Z
UID:9435-1697990400-1697994000@weimar-evangelisch.de
SUMMARY:Konzert zur Liszts Geburtstag
DESCRIPTION:Studierende der Orgelklasse Martin Sturm\, HfM
URL:https://weimar-evangelisch.de/veranstaltung/konzert-zur-liszts-geburtstag/
LOCATION:Denstedt\, Karl-Marx-Straße\, Denstedt\, Thüringen\, 99441\, Deutschland
CATEGORIES:Veranstaltungen
ATTACH;FMTTYPE=image/jpeg:https://weimar-evangelisch.de/wp-content/uploads/2023/04/RNE_2614_co_Neuwirt.jpg
END:VEVENT
BEGIN:VEVENT
DTSTART;TZID=Europe/Berlin:20230816T193000
DTEND;TZID=Europe/Berlin:20230816T203000
DTSTAMP:20260425T153404
CREATED:20230719T081701Z
LAST-MODIFIED:20230719T081701Z
UID:9084-1692214200-1692217800@weimar-evangelisch.de
SUMMARY:Barock bis Avantgarde
DESCRIPTION:Orgelkonzert mit Svenja Reis
URL:https://weimar-evangelisch.de/veranstaltung/barock-bis-avantgarde/
LOCATION:Denstedt\, Karl-Marx-Straße\, Denstedt\, Thüringen\, 99441\, Deutschland
CATEGORIES:Veranstaltungen
ATTACH;FMTTYPE=image/jpeg:https://weimar-evangelisch.de/wp-content/uploads/2023/04/RNE_2614_co_Neuwirt.jpg
END:VEVENT
BEGIN:VEVENT
DTSTART;TZID=Europe/Berlin:20230806T083000
DTEND;TZID=Europe/Berlin:20230806T093000
DTSTAMP:20260425T153404
CREATED:20230719T072932Z
LAST-MODIFIED:20230719T072932Z
UID:9044-1691310600-1691314200@weimar-evangelisch.de
SUMMARY:Gottesdienst
DESCRIPTION:Pfarrer Marcus Victor
URL:https://weimar-evangelisch.de/veranstaltung/gottesdienst-68/
LOCATION:Denstedt\, Karl-Marx-Straße\, Denstedt\, Thüringen\, 99441\, Deutschland
CATEGORIES:Gottesdienste
ATTACH;FMTTYPE=image/jpeg:https://weimar-evangelisch.de/wp-content/uploads/2022/03/kirche_denstedt_02.jpg
END:VEVENT
BEGIN:VEVENT
DTSTART;TZID=Europe/Berlin:20230715T193000
DTEND;TZID=Europe/Berlin:20230715T210000
DTSTAMP:20260425T153404
CREATED:20230622T093648Z
LAST-MODIFIED:20230622T093648Z
UID:8948-1689449400-1689454800@weimar-evangelisch.de
SUMMARY:Schätze der Romantik
DESCRIPTION:Matthias von Hintzenstern am Violoncello und Michael von Hintzenstern an der Orgel spielen  Werken von Ch. Gounod\, F. Liszt\, M. Reger\, R. Wagner und S. Karg-Elert.
URL:https://weimar-evangelisch.de/veranstaltung/schaetze-der-romantik/
LOCATION:Denstedt\, Karl-Marx-Straße\, Denstedt\, Thüringen\, 99441\, Deutschland
CATEGORIES:Konzerte,Veranstaltungen
ATTACH;FMTTYPE=image/jpeg:https://weimar-evangelisch.de/wp-content/uploads/2023/04/RNE_2614_co_Neuwirt.jpg
END:VEVENT
BEGIN:VEVENT
DTSTART;TZID=Europe/Berlin:20230624T193000
DTEND;TZID=Europe/Berlin:20230624T213000
DTSTAMP:20260425T153404
CREATED:20230525T114620Z
LAST-MODIFIED:20230525T114620Z
UID:8324-1687635000-1687642200@weimar-evangelisch.de
SUMMARY:Orgel & Theremin
DESCRIPTION:Michael von Hintzenstern\, Orgel mit Winddrossel & Andrew Levine (Hamburg)\, Live-Elektronik \n  \n  \n  \n 
URL:https://weimar-evangelisch.de/veranstaltung/orgel-theremin/
LOCATION:Denstedt\, Karl-Marx-Straße\, Denstedt\, Thüringen\, 99441\, Deutschland
CATEGORIES:Veranstaltungen
ATTACH;FMTTYPE=image/jpeg:https://weimar-evangelisch.de/wp-content/uploads/2023/04/RNE_2614_co_Neuwirt.jpg
END:VEVENT
BEGIN:VEVENT
DTSTART;TZID=Europe/Berlin:20230609T193000
DTEND;TZID=Europe/Berlin:20230609T213000
DTSTAMP:20260425T153404
CREATED:20230525T114318Z
LAST-MODIFIED:20230525T114318Z
UID:8322-1686339000-1686346200@weimar-evangelisch.de
SUMMARY:Klänge des Augenblicks
DESCRIPTION:Hans Tutschku (USA)\, Live-Elektronik \nEnsemble für Intuitive Musik Weimar (EFIM) \nOrgelklasse Martin Sturm an der HfM „Franz Liszt“ \n  \n  \n 
URL:https://weimar-evangelisch.de/veranstaltung/klaenge-des-augenblicks/
LOCATION:Denstedt\, Karl-Marx-Straße\, Denstedt\, Thüringen\, 99441\, Deutschland
CATEGORIES:Veranstaltungen
ATTACH;FMTTYPE=image/jpeg:https://weimar-evangelisch.de/wp-content/uploads/2023/04/RNE_2614_co_Neuwirt.jpg
END:VEVENT
BEGIN:VEVENT
DTSTART;TZID=Europe/Berlin:20230529T170000
DTEND;TZID=Europe/Berlin:20230529T183000
DTSTAMP:20260425T153404
CREATED:20230502T090419Z
LAST-MODIFIED:20230524T113714Z
UID:8122-1685379600-1685385000@weimar-evangelisch.de
SUMMARY:Orgel & Winddrossel
DESCRIPTION:Michael von Hintzenstern\, Orgel \nMusik aus fünf Jahrhunderten\n \n  \n 
URL:https://weimar-evangelisch.de/veranstaltung/orgel-winddrossel/
LOCATION:Denstedt\, Karl-Marx-Straße\, Denstedt\, Thüringen\, 99441\, Deutschland
CATEGORIES:Veranstaltungen
ATTACH;FMTTYPE=image/jpeg:https://weimar-evangelisch.de/wp-content/uploads/2023/04/RNE_2614_co_Neuwirt.jpg
END:VEVENT
BEGIN:VEVENT
DTSTART;TZID=Europe/Berlin:20230514T100000
DTEND;TZID=Europe/Berlin:20230514T110000
DTSTAMP:20260425T153404
CREATED:20230502T101530Z
LAST-MODIFIED:20230502T101530Z
UID:8131-1684058400-1684062000@weimar-evangelisch.de
SUMMARY:Jubelkonfirmation
DESCRIPTION:Pfarrer Victor \nmit Volkschor
URL:https://weimar-evangelisch.de/veranstaltung/jubelkonfirmation/
LOCATION:Denstedt\, Karl-Marx-Straße\, Denstedt\, Thüringen\, 99441\, Deutschland
CATEGORIES:Gottesdienste
ATTACH;FMTTYPE=image/jpeg:https://weimar-evangelisch.de/wp-content/uploads/2022/03/kirche_denstedt_02.jpg
END:VEVENT
BEGIN:VEVENT
DTSTART;TZID=Europe/Berlin:20230507T170000
DTEND;TZID=Europe/Berlin:20230507T183000
DTSTAMP:20260425T153404
CREATED:20230424T103551Z
LAST-MODIFIED:20230502T121141Z
UID:8079-1683478800-1683484200@weimar-evangelisch.de
SUMMARY:Barock bis Romantik
DESCRIPTION:Martin Huggel (Schweiz) spielt Werke von D. Buxtehude\, J. S. Bach\, F. Liszt\, César Franck und Max Reger auf der Orgel.
URL:https://weimar-evangelisch.de/veranstaltung/barock-bis-romantik/
LOCATION:Denstedt\, Karl-Marx-Straße\, Denstedt\, Thüringen\, 99441\, Deutschland
CATEGORIES:Konzerte,Veranstaltungen
ATTACH;FMTTYPE=image/jpeg:https://weimar-evangelisch.de/wp-content/uploads/2023/04/RNE_2614_co_Neuwirt.jpg
END:VEVENT
BEGIN:VEVENT
DTSTART;TZID=Europe/Berlin:20230304T170000
DTEND;TZID=Europe/Berlin:20230304T173000
DTSTAMP:20260425T153404
CREATED:20230221T082340Z
LAST-MODIFIED:20230221T082340Z
UID:7290-1677949200-1677951000@weimar-evangelisch.de
SUMMARY:Vesper
DESCRIPTION:Pfarrer Marcus Victor
URL:https://weimar-evangelisch.de/veranstaltung/vesper-9/
LOCATION:Denstedt\, Karl-Marx-Straße\, Denstedt\, Thüringen\, 99441\, Deutschland
CATEGORIES:Gottesdienste
ATTACH;FMTTYPE=image/jpeg:https://weimar-evangelisch.de/wp-content/uploads/2022/03/kirche_denstedt_02.jpg
END:VEVENT
BEGIN:VEVENT
DTSTART;TZID=Europe/Berlin:20230107T170000
DTEND;TZID=Europe/Berlin:20230107T180000
DTSTAMP:20260425T153404
CREATED:20221207T100959Z
LAST-MODIFIED:20230105T101612Z
UID:6730-1673110800-1673114400@weimar-evangelisch.de
SUMMARY:Vesper
DESCRIPTION:Pfarrer Marcus Victor
URL:https://weimar-evangelisch.de/veranstaltung/vesper-6/
LOCATION:Denstedt\, Karl-Marx-Straße\, Denstedt\, Thüringen\, 99441\, Deutschland
CATEGORIES:Gottesdienste
ATTACH;FMTTYPE=image/jpeg:https://weimar-evangelisch.de/wp-content/uploads/2022/03/kirche_denstedt_02.jpg
END:VEVENT
BEGIN:VEVENT
DTSTART;TZID=Europe/Berlin:20221231T170000
DTEND;TZID=Europe/Berlin:20221231T180000
DTSTAMP:20260425T153404
CREATED:20221206T103446Z
LAST-MODIFIED:20221207T094633Z
UID:6537-1672506000-1672509600@weimar-evangelisch.de
SUMMARY:Orgelkonzert zu Silvester
DESCRIPTION:Michael von Hintzenstern an der Liszt-Orgel
URL:https://weimar-evangelisch.de/veranstaltung/silvester-orgelkonzert/
LOCATION:Denstedt\, Karl-Marx-Straße\, Denstedt\, Thüringen\, 99441\, Deutschland
CATEGORIES:Konzerte,Veranstaltungen
ATTACH;FMTTYPE=image/jpeg:https://weimar-evangelisch.de/wp-content/uploads/2022/03/kirche_denstedt_02.jpg
END:VEVENT
BEGIN:VEVENT
DTSTART;TZID=Europe/Berlin:20221225T170000
DTEND;TZID=Europe/Berlin:20221225T180000
DTSTAMP:20260425T153404
CREATED:20221206T103332Z
LAST-MODIFIED:20221206T103332Z
UID:6535-1671987600-1671991200@weimar-evangelisch.de
SUMMARY:Weihnachtliche Orgelmusik
DESCRIPTION:Michael von Hintzenstern an der Liszt-OrgelEintritt frei
URL:https://weimar-evangelisch.de/veranstaltung/weihnachtliche-orgelmusik-2/
LOCATION:Denstedt\, Karl-Marx-Straße\, Denstedt\, Thüringen\, 99441\, Deutschland
CATEGORIES:Konzerte,Veranstaltungen
ATTACH;FMTTYPE=image/jpeg:https://weimar-evangelisch.de/wp-content/uploads/2022/03/kirche_denstedt_02.jpg
END:VEVENT
BEGIN:VEVENT
DTSTART;TZID=Europe/Berlin:20221022T150000
DTEND;TZID=Europe/Berlin:20221022T163000
DTSTAMP:20260425T153404
CREATED:20220930T102302Z
LAST-MODIFIED:20220930T102302Z
UID:5722-1666450800-1666456200@weimar-evangelisch.de
SUMMARY:40. Weimarer Liszt-Tage
DESCRIPTION:Liszt-Zyklus: Konzert der Orgelklasse Martin Sturm (HfM) zu Liszts Geburtstag\nEintritt frei – Spenden erbeten
URL:https://weimar-evangelisch.de/veranstaltung/40-weimarer-liszt-tage/
LOCATION:Denstedt\, Karl-Marx-Straße\, Denstedt\, Thüringen\, 99441\, Deutschland
CATEGORIES:4-Orgel,Konzerte,Veranstaltungen
END:VEVENT
BEGIN:VEVENT
DTSTART;TZID=Europe/Berlin:20221001T193000
DTEND;TZID=Europe/Berlin:20221001T210000
DTSTAMP:20260425T153404
CREATED:20220930T102124Z
LAST-MODIFIED:20220930T102124Z
UID:5720-1664652600-1664658000@weimar-evangelisch.de
SUMMARY:Orgel plus Live-Elektronik
DESCRIPTION:Kirche Denstedt\nTim Helbig – Live-Elektronik/Schlagzeug\nMichael von Hintzenstern – Orgel mit Winddrossel \nEintritt frei – Spenden erbeten
URL:https://weimar-evangelisch.de/veranstaltung/orgel-plus-live-elektronik/
LOCATION:Denstedt\, Karl-Marx-Straße\, Denstedt\, Thüringen\, 99441\, Deutschland
CATEGORIES:4-Orgel,Konzerte,Veranstaltungen
END:VEVENT
BEGIN:VEVENT
DTSTART;TZID=Europe/Berlin:20221001T150000
DTEND;TZID=Europe/Berlin:20221001T160000
DTSTAMP:20260425T153404
CREATED:20220930T075720Z
LAST-MODIFIED:20220930T075720Z
UID:5684-1664636400-1664640000@weimar-evangelisch.de
SUMMARY:Erntedank-Gottesdienst
DESCRIPTION:Pfarrer Marcus Victor \nanschl. Gemeindefest
URL:https://weimar-evangelisch.de/veranstaltung/erntedank-gottesdienst/
LOCATION:Denstedt\, Karl-Marx-Straße\, Denstedt\, Thüringen\, 99441\, Deutschland
CATEGORIES:Gottesdienste,Veranstaltungen
END:VEVENT
BEGIN:VEVENT
DTSTART;TZID=Europe/Berlin:20220911T150000
DTEND;TZID=Europe/Berlin:20220911T173000
DTSTAMP:20260425T153404
CREATED:20220831T072243Z
LAST-MODIFIED:20220831T072308Z
UID:5527-1662908400-1662917400@weimar-evangelisch.de
SUMMARY:Orgelkonzert
DESCRIPTION:Konzert zum Orgel- und Denkmaltagum 15 und um 16 Uhr\, Kirche Denstedt\n \nOrgel-Schülerinnen & -Schüler des Musikgymnasiums Schloss Belvedere aus der Klasse von Prof. Martin Sturm.Eintritt frei – Kollekte erbeten
URL:https://weimar-evangelisch.de/veranstaltung/orgelkonzert-3/
LOCATION:Denstedt\, Karl-Marx-Straße\, Denstedt\, Thüringen\, 99441\, Deutschland
CATEGORIES:4-Orgel,Konzerte,Veranstaltungen
END:VEVENT
BEGIN:VEVENT
DTSTART;TZID=Europe/Berlin:20220910T090000
DTEND;TZID=Europe/Berlin:20220910T120000
DTSTAMP:20260425T153404
CREATED:20220831T080824Z
LAST-MODIFIED:20220831T080901Z
UID:5537-1662800400-1662811200@weimar-evangelisch.de
SUMMARY:Schöpfungstag
DESCRIPTION:„Die 7 Farben des Regenbogens“ \nWelche Farben hat eigentlich der Regenbogen\, und was hat das mit Gottes wunderbarer Schöpfung zu tun? \nDem wollen wir mit einem Kinder-Schöpfungstag an der Kirche in Denstedt auf die Spur kommen – in Geschichten\, Speisen\, Spielen und kreativen Angeboten. \nEingeladen sind alle Kinder zwischen 5 und 10 Jahren!\nSamstag\, 10.9. | 9-12 Uhr\, Kirche Denstedt\nBei Fragen wenden Sie sich gerne an:\nVikarin Charlotte Reinhold\,\nMobil: 0176 92 43 47 60
URL:https://weimar-evangelisch.de/veranstaltung/schoepfungstag/
LOCATION:Denstedt\, Karl-Marx-Straße\, Denstedt\, Thüringen\, 99441\, Deutschland
CATEGORIES:Veranstaltungen
END:VEVENT
BEGIN:VEVENT
DTSTART;TZID=Europe/Berlin:20220820T183000
DTEND;TZID=Europe/Berlin:20220820T183000
DTSTAMP:20260425T153404
CREATED:20220819T084301Z
LAST-MODIFIED:20220819T084349Z
UID:5412-1661020200-1661020200@weimar-evangelisch.de
SUMMARY:Orgelkonzert
DESCRIPTION:mit Werken von Georg Muffat\, J. S. Bach\, Franz Liszt spielt Mari Fukumoto (Weimar) an der Liszt-Orgel\, Kirche DenstedtErste Preisträgerin bei Wettbewerben in Tokio\, Nürnberg\, Brixen und PistoiaEintritt frei
URL:https://weimar-evangelisch.de/veranstaltung/orgelkonzert-2/
LOCATION:Denstedt\, Karl-Marx-Straße\, Denstedt\, Thüringen\, 99441\, Deutschland
CATEGORIES:4-Orgel,Konzerte
END:VEVENT
BEGIN:VEVENT
DTSTART;TZID=Europe/Berlin:20220713T193000
DTEND;TZID=Europe/Berlin:20220713T213000
DTSTAMP:20260425T153404
CREATED:20220624T092011Z
LAST-MODIFIED:20220624T092600Z
UID:5111-1657740600-1657747800@weimar-evangelisch.de
SUMMARY:Orgelkonzert in Denstedt
DESCRIPTION:John Cage: „As Slow As Possible“(So langsam wie möglich)Orgelkonzert in der Kirche Denstedt \nDaniel Beilschmidt\, Leipzig – OrgelEintritt frei – Kollekte erbete
URL:https://weimar-evangelisch.de/veranstaltung/orgelkonzert-in-denstedt/
LOCATION:Denstedt\, Karl-Marx-Straße\, Denstedt\, Thüringen\, 99441\, Deutschland
CATEGORIES:4-Orgel,Konzerte,Veranstaltungen
END:VEVENT
BEGIN:VEVENT
DTSTART;TZID=Europe/Berlin:20220622T193000
DTEND;TZID=Europe/Berlin:20220622T210000
DTSTAMP:20260425T153404
CREATED:20220524T103744Z
LAST-MODIFIED:20220524T103744Z
UID:4906-1655926200-1655931600@weimar-evangelisch.de
SUMMARY:Orgelkonzert - Liszt-Zyklus
DESCRIPTION:Das gesamte Orgelwerk an Thür. Orgeln\nStudierende der Orgelklasse Prof. Martin Sturm (HfM Weimar) \nKirche Denstedt\nEintritt frei – Kollekte erbeten
URL:https://weimar-evangelisch.de/veranstaltung/orgelkonzert-liszt-zyklus/
LOCATION:Denstedt\, Karl-Marx-Straße\, Denstedt\, Thüringen\, 99441\, Deutschland
CATEGORIES:Konzerte,Veranstaltungen
END:VEVENT
BEGIN:VEVENT
DTSTART;TZID=Europe/Berlin:20220606T170000
DTEND;TZID=Europe/Berlin:20220606T183000
DTSTAMP:20260425T153404
CREATED:20220524T102723Z
LAST-MODIFIED:20220524T102723Z
UID:4904-1654534800-1654540200@weimar-evangelisch.de
SUMMARY:Orgelkonzert
DESCRIPTION:Perlen der RomantikMatthias von Hintzenstern\, Violoncello und Michael von Hintzenstern\, OrgelKirche DenstedtEintritt frei – Kollekte erbeten
URL:https://weimar-evangelisch.de/veranstaltung/orgelkonzert/
LOCATION:Denstedt\, Karl-Marx-Straße\, Denstedt\, Thüringen\, 99441\, Deutschland
CATEGORIES:Konzerte,Veranstaltungen
END:VEVENT
BEGIN:VEVENT
DTSTART;TZID=Europe/Berlin:20220606T100000
DTEND;TZID=Europe/Berlin:20220606T110000
DTSTAMP:20260425T153404
CREATED:20220428T091853Z
LAST-MODIFIED:20220428T091853Z
UID:4408-1654509600-1654513200@weimar-evangelisch.de
SUMMARY:Gottesdienst zum Pfingstmontag
DESCRIPTION:Pfarrer Marcus Victor
URL:https://weimar-evangelisch.de/veranstaltung/gottesdienst-zum-pfingstmontag-4/
LOCATION:Denstedt\, Karl-Marx-Straße\, Denstedt\, Thüringen\, 99441\, Deutschland
CATEGORIES:Gottesdienste
ATTACH;FMTTYPE=image/jpeg:https://weimar-evangelisch.de/wp-content/uploads/2022/03/kirche_denstedt_02.jpg
END:VEVENT
BEGIN:VEVENT
DTSTART;TZID=Europe/Berlin:20220515T170000
DTEND;TZID=Europe/Berlin:20220515T180000
DTSTAMP:20260425T153404
CREATED:20220420T083508Z
LAST-MODIFIED:20220420T090358Z
UID:3346-1652634000-1652637600@weimar-evangelisch.de
SUMMARY:Konzert an der Lisztorgel
DESCRIPTION:Orgelmusik aus fünf Jahrhunderten zum Kirchenmusik-Sonntag Kantate \nKompositionen von Girolamo Frescobaldi\, J. S. Bach\, Franz Liszt\, César Franck (200. Geburtstag)\, Erik Satie und Michael von Hintzenstern \nAn der Liszt-Orgel: Michael von Hintzenstern
URL:https://weimar-evangelisch.de/veranstaltung/konzert-an-der-lisztorgel/
LOCATION:Denstedt\, Karl-Marx-Straße\, Denstedt\, Thüringen\, 99441\, Deutschland
CATEGORIES:Konzerte
ATTACH;FMTTYPE=image/jpeg:https://weimar-evangelisch.de/wp-content/uploads/2022/03/kirche_denstedt_02.jpg
END:VEVENT
END:VCALENDAR