BEGIN:VCALENDAR
VERSION:2.0
PRODID:-//Weimar Evangelisch - ECPv6.6.1//NONSGML v1.0//EN
CALSCALE:GREGORIAN
METHOD:PUBLISH
X-ORIGINAL-URL:https://weimar-evangelisch.de
X-WR-CALDESC:Veranstaltungen für Weimar Evangelisch
REFRESH-INTERVAL;VALUE=DURATION:PT1H
X-Robots-Tag:noindex
X-PUBLISHED-TTL:PT1H
BEGIN:VTIMEZONE
TZID:Europe/Berlin
BEGIN:DAYLIGHT
TZOFFSETFROM:+0100
TZOFFSETTO:+0200
TZNAME:CEST
DTSTART:20240331T010000
END:DAYLIGHT
BEGIN:STANDARD
TZOFFSETFROM:+0200
TZOFFSETTO:+0100
TZNAME:CET
DTSTART:20241027T010000
END:STANDARD
BEGIN:DAYLIGHT
TZOFFSETFROM:+0100
TZOFFSETTO:+0200
TZNAME:CEST
DTSTART:20250330T010000
END:DAYLIGHT
BEGIN:STANDARD
TZOFFSETFROM:+0200
TZOFFSETTO:+0100
TZNAME:CET
DTSTART:20251026T010000
END:STANDARD
BEGIN:DAYLIGHT
TZOFFSETFROM:+0100
TZOFFSETTO:+0200
TZNAME:CEST
DTSTART:20260329T010000
END:DAYLIGHT
BEGIN:STANDARD
TZOFFSETFROM:+0200
TZOFFSETTO:+0100
TZNAME:CET
DTSTART:20261025T010000
END:STANDARD
END:VTIMEZONE
BEGIN:VEVENT
DTSTART;TZID=Europe/Berlin:20260403T140000
DTEND;TZID=Europe/Berlin:20260403T150000
DTSTAMP:20260425T122455
CREATED:20260113T141411Z
LAST-MODIFIED:20260313T125208Z
UID:20147-1775224800-1775228400@weimar-evangelisch.de
SUMMARY:Abendmahlsgottesdienst
DESCRIPTION:Pfarrer Marcus Victor
URL:https://weimar-evangelisch.de/veranstaltung/abendmahlsgottesdienst-4/
LOCATION:Denstedt\, Karl-Marx-Straße\, Denstedt\, Thüringen\, 99441\, Deutschland
CATEGORIES:Gottesdienste
ATTACH;FMTTYPE=image/jpeg:https://weimar-evangelisch.de/wp-content/uploads/2022/03/kirche_kromsdorf_09.jpg
END:VEVENT
BEGIN:VEVENT
DTSTART;TZID=Europe/Berlin:20260207T170000
DTEND;TZID=Europe/Berlin:20260207T180000
DTSTAMP:20260425T122455
CREATED:20260122T115650Z
LAST-MODIFIED:20260122T115650Z
UID:20525-1770483600-1770487200@weimar-evangelisch.de
SUMMARY:Gottesdienst
DESCRIPTION:Pfarrer Marcus Victor
URL:https://weimar-evangelisch.de/veranstaltung/gottesdienst-182/
LOCATION:Denstedt\, Karl-Marx-Straße\, Denstedt\, Thüringen\, 99441\, Deutschland
CATEGORIES:Gottesdienste
ATTACH;FMTTYPE=image/jpeg:https://weimar-evangelisch.de/wp-content/uploads/2022/03/kirche_denstedt_02.jpg
END:VEVENT
BEGIN:VEVENT
DTSTART;TZID=Europe/Berlin:20251231T170000
DTEND;TZID=Europe/Berlin:20251231T180000
DTSTAMP:20260425T122455
CREATED:20251124T120213Z
LAST-MODIFIED:20251222T095333Z
UID:18435-1767200400-1767204000@weimar-evangelisch.de
SUMMARY:Silvester-Orgelkonzert
DESCRIPTION:Michael von Hintzenstern – Orgel
URL:https://weimar-evangelisch.de/veranstaltung/silvester-orgelkonzert-3/
LOCATION:Denstedt\, Karl-Marx-Straße\, Denstedt\, Thüringen\, 99441\, Deutschland
CATEGORIES:Konzerte
ATTACH;FMTTYPE=image/jpeg:https://weimar-evangelisch.de/wp-content/uploads/2022/03/kirche_denstedt_02.jpg
END:VEVENT
BEGIN:VEVENT
DTSTART;TZID=Europe/Berlin:20251225T170000
DTEND;TZID=Europe/Berlin:20251225T180000
DTSTAMP:20260425T122455
CREATED:20251124T115531Z
LAST-MODIFIED:20251222T095123Z
UID:19731-1766682000-1766685600@weimar-evangelisch.de
SUMMARY:Weihnachtliche Orgelmusik
DESCRIPTION:Michael von Hintzenstern – Orgel
URL:https://weimar-evangelisch.de/veranstaltung/weihnachtliche-orgelmusik-4/
LOCATION:Denstedt\, Karl-Marx-Straße\, Denstedt\, Thüringen\, 99441\, Deutschland
CATEGORIES:Konzerte
ATTACH;FMTTYPE=image/jpeg:https://weimar-evangelisch.de/wp-content/uploads/2022/03/kirche_denstedt_02.jpg
END:VEVENT
BEGIN:VEVENT
DTSTART;TZID=Europe/Berlin:20251224T150000
DTEND;TZID=Europe/Berlin:20251224T160000
DTSTAMP:20260425T122455
CREATED:20251121T122453Z
LAST-MODIFIED:20251121T122453Z
UID:19691-1766588400-1766592000@weimar-evangelisch.de
SUMMARY:Krippenspiel
DESCRIPTION:Birgit Kissmann + Team
URL:https://weimar-evangelisch.de/veranstaltung/krippenspiel-7/
LOCATION:Denstedt\, Karl-Marx-Straße\, Denstedt\, Thüringen\, 99441\, Deutschland
CATEGORIES:Gottesdienste
ATTACH;FMTTYPE=image/jpeg:https://weimar-evangelisch.de/wp-content/uploads/2022/03/kirche_denstedt_02.jpg
END:VEVENT
BEGIN:VEVENT
DTSTART;TZID=Europe/Berlin:20251123T140000
DTEND;TZID=Europe/Berlin:20251123T150000
DTSTAMP:20260425T122455
CREATED:20251024T110739Z
LAST-MODIFIED:20251024T110739Z
UID:19504-1763906400-1763910000@weimar-evangelisch.de
SUMMARY:Abendmahlsgottesdienst
DESCRIPTION:Pfarrer Marcus Victor
URL:https://weimar-evangelisch.de/veranstaltung/abendmahlsgottesdienst-3/
LOCATION:Denstedt\, Karl-Marx-Straße\, Denstedt\, Thüringen\, 99441\, Deutschland
CATEGORIES:Gottesdienste
ATTACH;FMTTYPE=image/jpeg:https://weimar-evangelisch.de/wp-content/uploads/2022/03/kirche_denstedt_02.jpg
END:VEVENT
BEGIN:VEVENT
DTSTART;TZID=Europe/Berlin:20251022T193000
DTEND;TZID=Europe/Berlin:20251022T210000
DTSTAMP:20260425T122455
CREATED:20250926T102751Z
LAST-MODIFIED:20250926T102751Z
UID:18282-1761161400-1761166800@weimar-evangelisch.de
SUMMARY:Konzert zu Liszts Geburtstag
DESCRIPTION:Orgelklasse Prof. Martin Sturm
URL:https://weimar-evangelisch.de/veranstaltung/konzert-zu-liszts-geburtstag/
LOCATION:Denstedt\, Karl-Marx-Straße\, Denstedt\, Thüringen\, 99441\, Deutschland
CATEGORIES:Veranstaltungen
ATTACH;FMTTYPE=image/jpeg:https://weimar-evangelisch.de/wp-content/uploads/2022/03/kirche_denstedt_02.jpg
END:VEVENT
BEGIN:VEVENT
DTSTART;TZID=Europe/Berlin:20251001T190000
DTEND;TZID=Europe/Berlin:20251001T200000
DTSTAMP:20260425T122455
CREATED:20250926T102659Z
LAST-MODIFIED:20250926T102659Z
UID:18280-1759345200-1759348800@weimar-evangelisch.de
SUMMARY:Konzert zum Weltmusiktag
DESCRIPTION:Tim Helbig (Jena)\, Schlagwerk/Elektronik\nMichael von Hintzenstern\, Orgel
URL:https://weimar-evangelisch.de/veranstaltung/konzert-zum-weltmusiktag/
LOCATION:Denstedt\, Karl-Marx-Straße\, Denstedt\, Thüringen\, 99441\, Deutschland
CATEGORIES:Veranstaltungen
ATTACH;FMTTYPE=image/jpeg:https://weimar-evangelisch.de/wp-content/uploads/2022/03/kirche_denstedt_02.jpg
END:VEVENT
BEGIN:VEVENT
DTSTART;TZID=Europe/Berlin:20250820T193000
DTEND;TZID=Europe/Berlin:20250820T210000
DTSTAMP:20260425T122455
CREATED:20250710T110405Z
LAST-MODIFIED:20250710T110405Z
UID:18078-1755718200-1755723600@weimar-evangelisch.de
SUMMARY:Orgelkonzert Liszt-Orgel
DESCRIPTION:Laura Schildmann (Bad Frankenhausen) spielt Werke von J. S. Bach\, Franz Liszt und Mendelssohn-Gottschalg
URL:https://weimar-evangelisch.de/veranstaltung/orgelkonzert-liszt-orgel/
LOCATION:Denstedt\, Karl-Marx-Straße\, Denstedt\, Thüringen\, 99441\, Deutschland
CATEGORIES:Veranstaltungen
ATTACH;FMTTYPE=image/jpeg:https://weimar-evangelisch.de/wp-content/uploads/2023/04/RNE_2614_co_Neuwirt.jpg
END:VEVENT
BEGIN:VEVENT
DTSTART;TZID=Europe/Berlin:20250810T083000
DTEND;TZID=Europe/Berlin:20250810T093000
DTSTAMP:20260425T122455
CREATED:20250710T101811Z
LAST-MODIFIED:20250710T101829Z
UID:18031-1754814600-1754818200@weimar-evangelisch.de
SUMMARY:Gottesdienst
DESCRIPTION:Pfarrer Marcus Victor \n  \n  \n 
URL:https://weimar-evangelisch.de/veranstaltung/gottesdienst-163/
LOCATION:Denstedt\, Karl-Marx-Straße\, Denstedt\, Thüringen\, 99441\, Deutschland
CATEGORIES:Gottesdienste
ATTACH;FMTTYPE=image/jpeg:https://weimar-evangelisch.de/wp-content/uploads/2022/03/kirche_denstedt_02.jpg
END:VEVENT
BEGIN:VEVENT
DTSTART;TZID=Europe/Berlin:20250716T193000
DTEND;TZID=Europe/Berlin:20250716T210000
DTSTAMP:20260425T122456
CREATED:20250604T080355Z
LAST-MODIFIED:20250604T080355Z
UID:17955-1752694200-1752699600@weimar-evangelisch.de
SUMMARY:Orgelkonzert an der Liszt-Orgel
DESCRIPTION:Michael von Hintzenstern (Weimar) spielt Werke von Erik Satie (100. Todestag) und John Cage \n  \n 
URL:https://weimar-evangelisch.de/veranstaltung/orgelkonzert-an-der-liszt-orgel/
LOCATION:Denstedt\, Karl-Marx-Straße\, Denstedt\, Thüringen\, 99441\, Deutschland
CATEGORIES:Veranstaltungen
ATTACH;FMTTYPE=image/jpeg:https://weimar-evangelisch.de/wp-content/uploads/2023/04/RNE_2614_co_Neuwirt.jpg
END:VEVENT
BEGIN:VEVENT
DTSTART;TZID=Europe/Berlin:20250702T193000
DTEND;TZID=Europe/Berlin:20250702T210000
DTSTAMP:20260425T122456
CREATED:20250604T080253Z
LAST-MODIFIED:20250604T080444Z
UID:17953-1751484600-1751490000@weimar-evangelisch.de
SUMMARY:Von Pianissimo bis Fortissimo
DESCRIPTION:Mirjam Laetitia Haag (Naumburg) spielt Musik aus dem Barock\, der Romantik und Improvisationen. \n  \n 
URL:https://weimar-evangelisch.de/veranstaltung/von-pianissimo-bis-fortissimo/
LOCATION:Denstedt\, Karl-Marx-Straße\, Denstedt\, Thüringen\, 99441\, Deutschland
CATEGORIES:Veranstaltungen
ATTACH;FMTTYPE=image/jpeg:https://weimar-evangelisch.de/wp-content/uploads/2023/04/RNE_2614_co_Neuwirt.jpg
END:VEVENT
BEGIN:VEVENT
DTSTART;TZID=Europe/Berlin:20250613T193000
DTEND;TZID=Europe/Berlin:20250613T210000
DTSTAMP:20260425T122456
CREATED:20250604T080209Z
LAST-MODIFIED:20250604T080209Z
UID:17951-1749843000-1749848400@weimar-evangelisch.de
SUMMARY:Orgel & Live Elektronik
DESCRIPTION:Ensemble für Intuitive Musik Weimar (EFIM) Hans Tutschku (Harvard University)\, Live-Elektronik \n  \n 
URL:https://weimar-evangelisch.de/veranstaltung/orgel-live-elektronik-2/
LOCATION:Denstedt\, Karl-Marx-Straße\, Denstedt\, Thüringen\, 99441\, Deutschland
CATEGORIES:Veranstaltungen
ATTACH;FMTTYPE=image/jpeg:https://weimar-evangelisch.de/wp-content/uploads/2023/04/RNE_2614_co_Neuwirt.jpg
END:VEVENT
BEGIN:VEVENT
DTSTART;TZID=Europe/Berlin:20250609T170000
DTEND;TZID=Europe/Berlin:20250609T183000
DTSTAMP:20260425T122456
CREATED:20250604T080009Z
LAST-MODIFIED:20250604T080009Z
UID:17949-1749488400-1749493800@weimar-evangelisch.de
SUMMARY:Konzert zur Liszt-Biennale
DESCRIPTION:Michael von Hintzenstern spielt an der Liszt-Orgel werke von Liszt und seinen zeitgenossen und führt eines seiner eigenen Werke urauf. \n  \n 
URL:https://weimar-evangelisch.de/veranstaltung/konzert-zur-liszt-biennale/
LOCATION:Denstedt\, Karl-Marx-Straße\, Denstedt\, Thüringen\, 99441\, Deutschland
CATEGORIES:Veranstaltungen
ATTACH;FMTTYPE=image/jpeg:https://weimar-evangelisch.de/wp-content/uploads/2023/04/RNE_2614_co_Neuwirt.jpg
END:VEVENT
BEGIN:VEVENT
DTSTART;TZID=Europe/Berlin:20250609T100000
DTEND;TZID=Europe/Berlin:20250609T110000
DTSTAMP:20260425T122456
CREATED:20250122T143628Z
LAST-MODIFIED:20250122T143628Z
UID:15023-1749463200-1749466800@weimar-evangelisch.de
SUMMARY:Gottesdienst
DESCRIPTION:Pfarrer Marcus Victor \n  \nPosaunenchor Oberweimar \n  \n 
URL:https://weimar-evangelisch.de/veranstaltung/gottesdienst-145/
LOCATION:Denstedt\, Karl-Marx-Straße\, Denstedt\, Thüringen\, 99441\, Deutschland
CATEGORIES:Veranstaltungen
ATTACH;FMTTYPE=image/jpeg:https://weimar-evangelisch.de/wp-content/uploads/2022/03/kirche_denstedt_02.jpg
END:VEVENT
BEGIN:VEVENT
DTSTART;TZID=Europe/Berlin:20250420T100000
DTEND;TZID=Europe/Berlin:20250420T110000
DTSTAMP:20260425T122456
CREATED:20250331T095531Z
LAST-MODIFIED:20250331T095531Z
UID:17366-1745143200-1745146800@weimar-evangelisch.de
SUMMARY:Gottesdienst
DESCRIPTION:Pfarrerin Dr. Teresa Tenbergen
URL:https://weimar-evangelisch.de/veranstaltung/gottesdienst-156/
LOCATION:Denstedt\, Karl-Marx-Straße\, Denstedt\, Thüringen\, 99441\, Deutschland
CATEGORIES:Gottesdienste
ATTACH;FMTTYPE=image/jpeg:https://weimar-evangelisch.de/wp-content/uploads/2022/03/kirche_denstedt_02.jpg
END:VEVENT
BEGIN:VEVENT
DTSTART;TZID=Europe/Berlin:20250208T170000
DTEND;TZID=Europe/Berlin:20250208T180000
DTSTAMP:20260425T122456
CREATED:20250122T115432Z
LAST-MODIFIED:20250122T115432Z
UID:14240-1739034000-1739037600@weimar-evangelisch.de
SUMMARY:Gottesdienst
DESCRIPTION:Pfarrer Marcus Victor
URL:https://weimar-evangelisch.de/veranstaltung/gottesdienst-139/
LOCATION:Denstedt\, Karl-Marx-Straße\, Denstedt\, Thüringen\, 99441\, Deutschland
CATEGORIES:Gottesdienste
ATTACH;FMTTYPE=image/jpeg:https://weimar-evangelisch.de/wp-content/uploads/2022/03/kirche_denstedt_02.jpg
END:VEVENT
BEGIN:VEVENT
DTSTART;TZID=Europe/Berlin:20241231T170000
DTEND;TZID=Europe/Berlin:20241231T180000
DTSTAMP:20260425T122456
CREATED:20241129T121337Z
LAST-MODIFIED:20241129T121337Z
UID:13560-1735664400-1735668000@weimar-evangelisch.de
SUMMARY:Silvester-Orgelkonzert
DESCRIPTION:Michael von Hintzenstern – Orgel
URL:https://weimar-evangelisch.de/veranstaltung/silvester-orgelkonzert-2/
LOCATION:Denstedt\, Karl-Marx-Straße\, Denstedt\, Thüringen\, 99441\, Deutschland
CATEGORIES:Veranstaltungen
ATTACH;FMTTYPE=image/jpeg:https://weimar-evangelisch.de/wp-content/uploads/2022/03/kirche_denstedt_02.jpg
END:VEVENT
BEGIN:VEVENT
DTSTART;TZID=Europe/Berlin:20241225T170000
DTEND;TZID=Europe/Berlin:20241225T180000
DTSTAMP:20260425T122456
CREATED:20241129T121233Z
LAST-MODIFIED:20241129T121233Z
UID:13558-1735146000-1735149600@weimar-evangelisch.de
SUMMARY:Weihnachtliche Orgelmusik
DESCRIPTION:Michael von Hintzenstern – Orgel
URL:https://weimar-evangelisch.de/veranstaltung/weihnachtliche-orgelmusik-3/
LOCATION:Denstedt\, Karl-Marx-Straße\, Denstedt\, Thüringen\, 99441\, Deutschland
CATEGORIES:Veranstaltungen
ATTACH;FMTTYPE=image/jpeg:https://weimar-evangelisch.de/wp-content/uploads/2022/03/kirche_denstedt_02.jpg
END:VEVENT
BEGIN:VEVENT
DTSTART;TZID=Europe/Berlin:20241224T150000
DTEND;TZID=Europe/Berlin:20241224T160000
DTSTAMP:20260425T122456
CREATED:20241129T100630Z
LAST-MODIFIED:20241129T100630Z
UID:13466-1735052400-1735056000@weimar-evangelisch.de
SUMMARY:Krippenspiel
DESCRIPTION:Birgit Kissmann + Team
URL:https://weimar-evangelisch.de/veranstaltung/krippenspiel-5/
LOCATION:Denstedt\, Karl-Marx-Straße\, Denstedt\, Thüringen\, 99441\, Deutschland
CATEGORIES:Gottesdienste
ATTACH;FMTTYPE=image/jpeg:https://weimar-evangelisch.de/wp-content/uploads/2022/03/kirche_denstedt_02.jpg
END:VEVENT
BEGIN:VEVENT
DTSTART;TZID=Europe/Berlin:20241124T140000
DTEND;TZID=Europe/Berlin:20241124T150000
DTSTAMP:20260425T122456
CREATED:20241022T094504Z
LAST-MODIFIED:20241022T094504Z
UID:13260-1732456800-1732460400@weimar-evangelisch.de
SUMMARY:Gottesdienst mit Abendmahl
DESCRIPTION:Pfarrer Marcus Victor
URL:https://weimar-evangelisch.de/veranstaltung/gottesdienst-mit-abendmahl-11/
LOCATION:Denstedt\, Karl-Marx-Straße\, Denstedt\, Thüringen\, 99441\, Deutschland
CATEGORIES:Gottesdienste
ATTACH;FMTTYPE=image/jpeg:https://weimar-evangelisch.de/wp-content/uploads/2022/03/kirche_denstedt_02.jpg
END:VEVENT
BEGIN:VEVENT
DTSTART;TZID=Europe/Berlin:20240928T193000
DTEND;TZID=Europe/Berlin:20240928T203000
DTSTAMP:20260425T122456
CREATED:20240826T093141Z
LAST-MODIFIED:20240826T093141Z
UID:13028-1727551800-1727555400@weimar-evangelisch.de
SUMMARY:Orgel & Obertongesang
DESCRIPTION:Natascha Nikeprelevic (Köln)\, Vokalperformerin\nMichael von Hintzenstern\, Orgel mit Winddrossel
URL:https://weimar-evangelisch.de/veranstaltung/orgel-obertongesang/
LOCATION:Denstedt\, Karl-Marx-Straße\, Denstedt\, Thüringen\, 99441\, Deutschland
CATEGORIES:Veranstaltungen
ATTACH;FMTTYPE=image/jpeg:https://weimar-evangelisch.de/wp-content/uploads/2022/03/kirche_denstedt_02.jpg
END:VEVENT
BEGIN:VEVENT
DTSTART;TZID=Europe/Berlin:20240928T140000
DTEND;TZID=Europe/Berlin:20240928T150000
DTSTAMP:20260425T122456
CREATED:20240823T115639Z
LAST-MODIFIED:20240823T115639Z
UID:13018-1727532000-1727535600@weimar-evangelisch.de
SUMMARY:Gottesdienst zu Erntedank
DESCRIPTION:Pfarrer Marcus Victor \n  \nim Anschluss Gemeindefest
URL:https://weimar-evangelisch.de/veranstaltung/gottesdienst-zu-erntedank-2/
LOCATION:Denstedt\, Karl-Marx-Straße\, Denstedt\, Thüringen\, 99441\, Deutschland
CATEGORIES:Gottesdienste
ATTACH;FMTTYPE=image/jpeg:https://weimar-evangelisch.de/wp-content/uploads/2022/03/kirche_denstedt_02.jpg
END:VEVENT
BEGIN:VEVENT
DTSTART;TZID=Europe/Berlin:20240908T160000
DTEND;TZID=Europe/Berlin:20240908T170000
DTSTAMP:20260425T122456
CREATED:20240826T092843Z
LAST-MODIFIED:20240826T092843Z
UID:13026-1725811200-1725814800@weimar-evangelisch.de
SUMMARY:Konzert zum deutschen Orgeltag
DESCRIPTION:Junge Wettbewerbs-Preisträger\, Orgel
URL:https://weimar-evangelisch.de/veranstaltung/konzert-zum-deutschen-orgeltag/
LOCATION:Denstedt\, Karl-Marx-Straße\, Denstedt\, Thüringen\, 99441\, Deutschland
CATEGORIES:Veranstaltungen
ATTACH;FMTTYPE=image/jpeg:https://weimar-evangelisch.de/wp-content/uploads/2022/03/kirche_denstedt_02.jpg
END:VEVENT
BEGIN:VEVENT
DTSTART;TZID=Europe/Berlin:20240811T160000
DTEND;TZID=Europe/Berlin:20240811T170000
DTSTAMP:20260425T122456
CREATED:20240717T085351Z
LAST-MODIFIED:20240717T092254Z
UID:12883-1723392000-1723395600@weimar-evangelisch.de
SUMMARY:Festkonzert zum Jubiläum 1150 Jahre Denstedt
DESCRIPTION:Michael von Hintzenstern\, Orgel
URL:https://weimar-evangelisch.de/veranstaltung/festkonzert-zum-jubilaeum-1150-denstedt/
LOCATION:Denstedt\, Karl-Marx-Straße\, Denstedt\, Thüringen\, 99441\, Deutschland
CATEGORIES:Veranstaltungen
ATTACH;FMTTYPE=image/jpeg:https://weimar-evangelisch.de/wp-content/uploads/2022/03/kirche_denstedt_02.jpg
END:VEVENT
BEGIN:VEVENT
DTSTART;TZID=Europe/Berlin:20240810T100000
DTEND;TZID=Europe/Berlin:20240810T110000
DTSTAMP:20260425T122456
CREATED:20240628T105249Z
LAST-MODIFIED:20240628T105328Z
UID:12790-1723284000-1723287600@weimar-evangelisch.de
SUMMARY:Festgottesdienst 1150 Jahre Denstedt
DESCRIPTION:Pfarrer Marcus Victor
URL:https://weimar-evangelisch.de/veranstaltung/festgottesdienst-1150-jahr-denstedt/
LOCATION:Denstedt\, Karl-Marx-Straße\, Denstedt\, Thüringen\, 99441\, Deutschland
CATEGORIES:Gottesdienste
ATTACH;FMTTYPE=image/jpeg:https://weimar-evangelisch.de/wp-content/uploads/2022/03/kirche_denstedt_02.jpg
END:VEVENT
BEGIN:VEVENT
DTSTART;TZID=Europe/Berlin:20240724T193000
DTEND;TZID=Europe/Berlin:20240724T210000
DTSTAMP:20260425T122456
CREATED:20240531T091426Z
LAST-MODIFIED:20240531T091426Z
UID:12703-1721849400-1721854800@weimar-evangelisch.de
SUMMARY:Orgel & Live-Elektronik
DESCRIPTION:Tim Helbig\, Jena – Schlagzeug / Live-Elektronik\nMichael von Hintzenstern – Orgel \n  \n  \n 
URL:https://weimar-evangelisch.de/veranstaltung/orgel-live-elektronik/
LOCATION:Denstedt\, Karl-Marx-Straße\, Denstedt\, Thüringen\, 99441\, Deutschland
CATEGORIES:Veranstaltungen
ATTACH;FMTTYPE=image/jpeg:https://weimar-evangelisch.de/wp-content/uploads/2023/04/RNE_2614_co_Neuwirt.jpg
END:VEVENT
BEGIN:VEVENT
DTSTART;TZID=Europe/Berlin:20240707T160000
DTEND;TZID=Europe/Berlin:20240707T170000
DTSTAMP:20260425T122456
CREATED:20240531T091218Z
LAST-MODIFIED:20240531T091218Z
UID:12700-1720368000-1720371600@weimar-evangelisch.de
SUMMARY:Schätze der Romantik
DESCRIPTION:Matthias von Hintzenstern – Violoncello\nWerke von Franz Liszt\, César Franck\, Richard Wagner\, Marie-Joseph Erb u. a. \n  \n  \n 
URL:https://weimar-evangelisch.de/veranstaltung/schaetze-der-romantik-2/
LOCATION:Denstedt\, Karl-Marx-Straße\, Denstedt\, Thüringen\, 99441\, Deutschland
CATEGORIES:Veranstaltungen
ATTACH;FMTTYPE=image/jpeg:https://weimar-evangelisch.de/wp-content/uploads/2023/04/RNE_2614_co_Neuwirt.jpg
END:VEVENT
BEGIN:VEVENT
DTSTART;TZID=Europe/Berlin:20240520T170000
DTEND;TZID=Europe/Berlin:20240520T183000
DTSTAMP:20260425T122456
CREATED:20240424T073044Z
LAST-MODIFIED:20240424T073044Z
UID:12556-1716224400-1716229800@weimar-evangelisch.de
SUMMARY:Orgel & Winddrossel
DESCRIPTION:Michael von Hintzenstern\, Orgel \nMusik aus fünf Jahrhunderten\n \n  \n 
URL:https://weimar-evangelisch.de/veranstaltung/orgel-winddrossel-2/
LOCATION:Denstedt\, Karl-Marx-Straße\, Denstedt\, Thüringen\, 99441\, Deutschland
CATEGORIES:Veranstaltungen
ATTACH;FMTTYPE=image/jpeg:https://weimar-evangelisch.de/wp-content/uploads/2023/04/RNE_2614_co_Neuwirt.jpg
END:VEVENT
BEGIN:VEVENT
DTSTART;TZID=Europe/Berlin:20240520T100000
DTEND;TZID=Europe/Berlin:20240520T110000
DTSTAMP:20260425T122456
CREATED:20240424T071157Z
LAST-MODIFIED:20240424T071157Z
UID:12536-1716199200-1716202800@weimar-evangelisch.de
SUMMARY:Gottesdienst
DESCRIPTION:Pfarrer Marcus Victor \n  \n 
URL:https://weimar-evangelisch.de/veranstaltung/gottesdienst-111/
LOCATION:Denstedt\, Karl-Marx-Straße\, Denstedt\, Thüringen\, 99441\, Deutschland
CATEGORIES:Veranstaltungen
ATTACH;FMTTYPE=image/jpeg:https://weimar-evangelisch.de/wp-content/uploads/2022/03/kirche_denstedt_02.jpg
END:VEVENT
END:VCALENDAR