BEGIN:VCALENDAR
VERSION:2.0
PRODID:-//Weimar Evangelisch - ECPv6.6.1//NONSGML v1.0//EN
CALSCALE:GREGORIAN
METHOD:PUBLISH
X-WR-CALNAME:Weimar Evangelisch
X-ORIGINAL-URL:https://weimar-evangelisch.de
X-WR-CALDESC:Veranstaltungen für Weimar Evangelisch
REFRESH-INTERVAL;VALUE=DURATION:PT1H
X-Robots-Tag:noindex
X-PUBLISHED-TTL:PT1H
BEGIN:VTIMEZONE
TZID:Europe/Berlin
BEGIN:DAYLIGHT
TZOFFSETFROM:+0100
TZOFFSETTO:+0200
TZNAME:CEST
DTSTART:20230326T010000
END:DAYLIGHT
BEGIN:STANDARD
TZOFFSETFROM:+0200
TZOFFSETTO:+0100
TZNAME:CET
DTSTART:20231029T010000
END:STANDARD
BEGIN:DAYLIGHT
TZOFFSETFROM:+0100
TZOFFSETTO:+0200
TZNAME:CEST
DTSTART:20240331T010000
END:DAYLIGHT
BEGIN:STANDARD
TZOFFSETFROM:+0200
TZOFFSETTO:+0100
TZNAME:CET
DTSTART:20241027T010000
END:STANDARD
BEGIN:DAYLIGHT
TZOFFSETFROM:+0100
TZOFFSETTO:+0200
TZNAME:CEST
DTSTART:20250330T010000
END:DAYLIGHT
BEGIN:STANDARD
TZOFFSETFROM:+0200
TZOFFSETTO:+0100
TZNAME:CET
DTSTART:20251026T010000
END:STANDARD
END:VTIMEZONE
BEGIN:VEVENT
DTSTART;TZID=Europe/Berlin:20251205T200000
DTEND;TZID=Europe/Berlin:20251205T213000
DTSTAMP:20260419T180725
CREATED:20241205T125607Z
LAST-MODIFIED:20251124T123943Z
UID:13581-1764964800-1764970200@weimar-evangelisch.de
SUMMARY:Wohnzimmerkirche
DESCRIPTION:Licht machen
URL:https://weimar-evangelisch.de/veranstaltung/wohnzimmerkirche-7-2025-12-05/
LOCATION:Alte Notenbank\, Steubenstraße 15\, Weimar\, 99423
CATEGORIES:Gottesdienste,Veranstaltungen
ATTACH;FMTTYPE=image/jpeg:https://weimar-evangelisch.de/wp-content/uploads/2023/01/2301_WoZiKi_Karte_Vs-e1674814646628.jpg
END:VEVENT
BEGIN:VEVENT
DTSTART;TZID=Europe/Berlin:20250328T200000
DTEND;TZID=Europe/Berlin:20250328T213000
DTSTAMP:20260419T180725
CREATED:20250226T130547Z
LAST-MODIFIED:20250311T102708Z
UID:15484-1743192000-1743197400@weimar-evangelisch.de
SUMMARY:Wohnzimmerkirche
DESCRIPTION:Tempo rausnehmen
URL:https://weimar-evangelisch.de/veranstaltung/wohnzimmerkirche-8/
LOCATION:Alte Notenbank\, Steubenstraße 15\, Weimar\, 99423
CATEGORIES:Gottesdienste,Veranstaltungen
ATTACH;FMTTYPE=image/jpeg:https://weimar-evangelisch.de/wp-content/uploads/2025/03/2025-03-WoZiKi-2-Ausschnitt.jpg
END:VEVENT
BEGIN:VEVENT
DTSTART;TZID=Europe/Berlin:20250124T200000
DTEND;TZID=Europe/Berlin:20250124T213000
DTSTAMP:20260419T180725
CREATED:20241205T125607Z
LAST-MODIFIED:20241205T125607Z
UID:13576-1737748800-1737754200@weimar-evangelisch.de
SUMMARY:Wohnzimmerkirche
DESCRIPTION:
URL:https://weimar-evangelisch.de/veranstaltung/wohnzimmerkirche-7/2025-01-24/
LOCATION:Alte Notenbank\, Steubenstraße 15\, Weimar\, 99423
CATEGORIES:Gottesdienste,Veranstaltungen
ATTACH;FMTTYPE=image/jpeg:https://weimar-evangelisch.de/wp-content/uploads/2023/01/2301_WoZiKi_Karte_Vs-e1674814646628.jpg
END:VEVENT
BEGIN:VEVENT
DTSTART;TZID=Europe/Berlin:20241206T200000
DTEND;TZID=Europe/Berlin:20241206T213000
DTSTAMP:20260419T180725
CREATED:20241129T093531Z
LAST-MODIFIED:20241129T121009Z
UID:13426-1733515200-1733520600@weimar-evangelisch.de
SUMMARY:Wohnzimmerkirche
DESCRIPTION:Sternstunden
URL:https://weimar-evangelisch.de/veranstaltung/wohnzimmerkirche-6/
LOCATION:Alte Notenbank\, Steubenstraße 15\, Weimar\, 99423
CATEGORIES:Gottesdienste,Veranstaltungen
ATTACH;FMTTYPE=image/jpeg:https://weimar-evangelisch.de/wp-content/uploads/2024/11/2012-12-WZKi2.jpg
END:VEVENT
BEGIN:VEVENT
DTSTART;TZID=Europe/Berlin:20241025T200000
DTEND;TZID=Europe/Berlin:20241025T213000
DTSTAMP:20260419T180725
CREATED:20240322T115554Z
LAST-MODIFIED:20241009T065318Z
UID:12405-1729886400-1729891800@weimar-evangelisch.de
SUMMARY:Wohnzimmerkirche
DESCRIPTION:Familienbande
URL:https://weimar-evangelisch.de/veranstaltung/wohnzimmerkirche-5/
LOCATION:Alte Notenbank\, Steubenstraße 15\, Weimar\, 99423
CATEGORIES:Gottesdienste,Veranstaltungen
ATTACH;FMTTYPE=image/jpeg:https://weimar-evangelisch.de/wp-content/uploads/2023/01/2301_WoZiKi_Karte_Vs-e1674814646628.jpg
END:VEVENT
BEGIN:VEVENT
DTSTART;TZID=Europe/Berlin:20240412T200000
DTEND;TZID=Europe/Berlin:20240412T213000
DTSTAMP:20260419T180725
CREATED:20240318T130004Z
LAST-MODIFIED:20240318T130004Z
UID:12385-1712952000-1712957400@weimar-evangelisch.de
SUMMARY:Wohnzimmerkirche
DESCRIPTION:Hoffnungs-Schimmern
URL:https://weimar-evangelisch.de/veranstaltung/wohnzimmerkirche-3/
LOCATION:Alte Notenbank\, Steubenstraße 15\, Weimar\, 99423
CATEGORIES:Gottesdienste,Veranstaltungen
ATTACH;FMTTYPE=image/jpeg:https://weimar-evangelisch.de/wp-content/uploads/2024/03/2403_WoZiKi_Ausschnitt2_hoffnungsschimmern_rgb-scaled.jpg
END:VEVENT
BEGIN:VEVENT
DTSTART;TZID=Europe/Berlin:20240202T200000
DTEND;TZID=Europe/Berlin:20240202T213000
DTSTAMP:20260419T180725
CREATED:20240105T072242Z
LAST-MODIFIED:20240118T112237Z
UID:11391-1706904000-1706909400@weimar-evangelisch.de
SUMMARY:Wohnzimmerkirche
DESCRIPTION:
URL:https://weimar-evangelisch.de/veranstaltung/wohnzimmerkirche-2/
LOCATION:Alte Notenbank\, Steubenstraße 15\, Weimar\, 99423
CATEGORIES:Gottesdienste,Veranstaltungen
ATTACH;FMTTYPE=image/jpeg:https://weimar-evangelisch.de/wp-content/uploads/2023/01/2301_WoZiKi_Karte_Vs-e1674814646628.jpg
END:VEVENT
BEGIN:VEVENT
DTSTART;TZID=Europe/Berlin:20230901T203000
DTEND;TZID=Europe/Berlin:20230901T213000
DTSTAMP:20260419T180725
CREATED:20230127T104143Z
LAST-MODIFIED:20230818T111319Z
UID:7210-1693600200-1693603800@weimar-evangelisch.de
SUMMARY:Wohnzimmerkirche
DESCRIPTION:Flug-Zeug \n  \nKirche in Wohnzimmeratmosphäre. Gute Musik. Bei Bier\, Brause und Brot über Gott und die Welt reden. Sechs Mal im Jahr an unterschiedlichen Orten in Weimar und mitten im Leben.
URL:https://weimar-evangelisch.de/veranstaltung/wohnzimmerkirche-2023-09-01/
LOCATION:Alte Notenbank\, Steubenstraße 15\, Weimar\, 99423
CATEGORIES:Gottesdienste,Veranstaltungen
ATTACH;FMTTYPE=image/jpeg:https://weimar-evangelisch.de/wp-content/uploads/2023/01/2301_WoZiKi_Karte_Vs-e1674814646628.jpg
END:VEVENT
BEGIN:VEVENT
DTSTART;TZID=Europe/Berlin:20230623T203000
DTEND;TZID=Europe/Berlin:20230623T213000
DTSTAMP:20260419T180725
CREATED:20230127T104143Z
LAST-MODIFIED:20230615T105125Z
UID:7209-1687552200-1687555800@weimar-evangelisch.de
SUMMARY:Wohnzimmerkirche
DESCRIPTION:Reise-Pläne \n  \nKirche in Wohnzimmeratmosphäre. Gute Musik. Bei Bier\, Brause und Brot über Gott und die Welt reden.
URL:https://weimar-evangelisch.de/veranstaltung/wohnzimmerkirche-2023-06-23/
LOCATION:Alte Notenbank\, Steubenstraße 15\, Weimar\, 99423
CATEGORIES:Gottesdienste,Veranstaltungen
ATTACH;FMTTYPE=image/jpeg:https://weimar-evangelisch.de/wp-content/uploads/2023/04/2306_WoZiKi_reiseplaene-V5_RGB.jpg
END:VEVENT
BEGIN:VEVENT
DTSTART;TZID=Europe/Berlin:20230414T203000
DTEND;TZID=Europe/Berlin:20230414T213000
DTSTAMP:20260419T180725
CREATED:20230127T104143Z
LAST-MODIFIED:20230404T111208Z
UID:7208-1681504200-1681507800@weimar-evangelisch.de
SUMMARY:Wohnzimmerkirche
DESCRIPTION:Blüten-Regen \n  \nKirche in Wohnzimmeratmosphäre. Gute Musik. Bei Bier\, Brause und Brot über Gott und die Welt reden. Sechs Mal im Jahr an unterschiedlichen Orten in Weimar und mitten im Leben.
URL:https://weimar-evangelisch.de/veranstaltung/wohnzimmerkirche-2023-04-14/
LOCATION:Alte Notenbank\, Steubenstraße 15\, Weimar\, 99423
CATEGORIES:Gottesdienste,Veranstaltungen
ATTACH;FMTTYPE=image/jpeg:https://weimar-evangelisch.de/wp-content/uploads/2023/04/Plakat-Wohnzimmerkirche-14-4.jpg
END:VEVENT
BEGIN:VEVENT
DTSTART;TZID=Europe/Berlin:20230210T203000
DTEND;TZID=Europe/Berlin:20230210T213000
DTSTAMP:20260419T180725
CREATED:20230127T104143Z
LAST-MODIFIED:20230201T125136Z
UID:7184-1676061000-1676064600@weimar-evangelisch.de
SUMMARY:Wohnzimmerkirche
DESCRIPTION:Wohnungs-Besichtigungen \n  \nKirche in Wohnzimmeratmosphäre. Gute Musik. Bei Bier\, Brause und Brot über Gott und die Welt reden. Sechs Mal im Jahr an unterschiedlichen Orten in Weimar und mitten im Leben.
URL:https://weimar-evangelisch.de/veranstaltung/wohnzimmerkirche/2023-02-10/
LOCATION:Alte Notenbank\, Steubenstraße 15\, Weimar\, 99423
CATEGORIES:Gottesdienste,Veranstaltungen
ATTACH;FMTTYPE=image/jpeg:https://weimar-evangelisch.de/wp-content/uploads/2023/01/2301_WoZiKi_Karte_Vs-e1674814646628.jpg
END:VEVENT
END:VCALENDAR