BEGIN:VCALENDAR
VERSION:2.0
PRODID:-//Weimar Evangelisch - ECPv6.6.1//NONSGML v1.0//EN
CALSCALE:GREGORIAN
METHOD:PUBLISH
X-WR-CALNAME:Weimar Evangelisch
X-ORIGINAL-URL:https://weimar-evangelisch.de
X-WR-CALDESC:Veranstaltungen für Weimar Evangelisch
REFRESH-INTERVAL;VALUE=DURATION:PT1H
X-Robots-Tag:noindex
X-PUBLISHED-TTL:PT1H
BEGIN:VTIMEZONE
TZID:Europe/Berlin
BEGIN:DAYLIGHT
TZOFFSETFROM:+0100
TZOFFSETTO:+0200
TZNAME:CEST
DTSTART:20260329T010000
END:DAYLIGHT
BEGIN:STANDARD
TZOFFSETFROM:+0200
TZOFFSETTO:+0100
TZNAME:CET
DTSTART:20261025T010000
END:STANDARD
END:VTIMEZONE
BEGIN:VEVENT
DTSTART;TZID=Europe/Berlin:20261116T120000
DTEND;TZID=Europe/Berlin:20261116T120700
DTSTAMP:20260424T234212
CREATED:20220419T114300Z
LAST-MODIFIED:20260316T131046Z
UID:21296-1794830400-1794830820@weimar-evangelisch.de
SUMMARY:Mittagsgebet
DESCRIPTION:7-Minuten-Gebet
URL:https://weimar-evangelisch.de/veranstaltung/mittagsgebet/2026-11-16/
LOCATION:Herderkirche\, Herderplatz 8\, Weimar\, 99423\, Deutschland
CATEGORIES:Gottesdienste,Veranstaltungen
ATTACH;FMTTYPE=image/jpeg:https://weimar-evangelisch.de/wp-content/uploads/2022/04/ChorWebsite.jpg
END:VEVENT
BEGIN:VEVENT
DTSTART;TZID=Europe/Berlin:20261117T120000
DTEND;TZID=Europe/Berlin:20261117T120700
DTSTAMP:20260424T234212
CREATED:20220419T114300Z
LAST-MODIFIED:20260316T131047Z
UID:21297-1794916800-1794917220@weimar-evangelisch.de
SUMMARY:Mittagsgebet
DESCRIPTION:7-Minuten-Gebet
URL:https://weimar-evangelisch.de/veranstaltung/mittagsgebet/2026-11-17/
LOCATION:Herderkirche\, Herderplatz 8\, Weimar\, 99423\, Deutschland
CATEGORIES:Gottesdienste,Veranstaltungen
ATTACH;FMTTYPE=image/jpeg:https://weimar-evangelisch.de/wp-content/uploads/2022/04/ChorWebsite.jpg
END:VEVENT
BEGIN:VEVENT
DTSTART;TZID=Europe/Berlin:20261118T120000
DTEND;TZID=Europe/Berlin:20261118T120700
DTSTAMP:20260424T234212
CREATED:20220419T114300Z
LAST-MODIFIED:20260316T131048Z
UID:21298-1795003200-1795003620@weimar-evangelisch.de
SUMMARY:Mittagsgebet
DESCRIPTION:7-Minuten-Gebet
URL:https://weimar-evangelisch.de/veranstaltung/mittagsgebet/2026-11-18/
LOCATION:Herderkirche\, Herderplatz 8\, Weimar\, 99423\, Deutschland
CATEGORIES:Gottesdienste,Veranstaltungen
ATTACH;FMTTYPE=image/jpeg:https://weimar-evangelisch.de/wp-content/uploads/2022/04/ChorWebsite.jpg
END:VEVENT
BEGIN:VEVENT
DTSTART;TZID=Europe/Berlin:20261119T120000
DTEND;TZID=Europe/Berlin:20261119T120700
DTSTAMP:20260424T234212
CREATED:20220419T114300Z
LAST-MODIFIED:20260316T131048Z
UID:21299-1795089600-1795090020@weimar-evangelisch.de
SUMMARY:Mittagsgebet
DESCRIPTION:7-Minuten-Gebet
URL:https://weimar-evangelisch.de/veranstaltung/mittagsgebet/2026-11-19/
LOCATION:Herderkirche\, Herderplatz 8\, Weimar\, 99423\, Deutschland
CATEGORIES:Gottesdienste,Veranstaltungen
ATTACH;FMTTYPE=image/jpeg:https://weimar-evangelisch.de/wp-content/uploads/2022/04/ChorWebsite.jpg
END:VEVENT
BEGIN:VEVENT
DTSTART;TZID=Europe/Berlin:20261120T120000
DTEND;TZID=Europe/Berlin:20261120T121000
DTSTAMP:20260424T234212
CREATED:20250122T121241Z
LAST-MODIFIED:20250122T121241Z
UID:21400-1795176000-1795176600@weimar-evangelisch.de
SUMMARY:Versöhnungsgebet
DESCRIPTION:Liturgie der Nagelkreuzgemeinde von Coventry
URL:https://weimar-evangelisch.de/veranstaltung/versoehnungsgebet-3/2026-11-20/
LOCATION:Herderkirche\, Herderplatz 8\, Weimar\, 99423\, Deutschland
CATEGORIES:Gottesdienste
ATTACH;FMTTYPE=image/jpeg:https://weimar-evangelisch.de/wp-content/uploads/2022/04/Nagelkreuz5.jpg
END:VEVENT
BEGIN:VEVENT
DTSTART;TZID=Europe/Berlin:20261121T193000
DTEND;TZID=Europe/Berlin:20261121T210000
DTSTAMP:20260424T234212
CREATED:20260113T150003Z
LAST-MODIFIED:20260113T150003Z
UID:20277-1795289400-1795294800@weimar-evangelisch.de
SUMMARY:„Ein Deutsches Requiem“
DESCRIPTION:Johannes Brahms\nFriederike Beykirch – Sopran\nManfred Bittner – Bass\nBachchor Weimar\nOrchester Neue Hofmusik Weimar\nJohannes Kleinjung – Leitung\nEintritt: 30 € / 23 € / 15 € (erm. 22 € / 18 € / 8 € )\nKartenvorverkauf:\nHerderladen\nTel.: 0 36 43 . 80 58 430\nMail: info@herderhof.de \n 
URL:https://weimar-evangelisch.de/veranstaltung/ein-deutsches-requiem/
LOCATION:Herderkirche\, Herderplatz 8\, Weimar\, 99423\, Deutschland
CATEGORIES:Kirchenmusik Herderkirche,Konzerte
ATTACH;FMTTYPE=image/jpeg:https://weimar-evangelisch.de/wp-content/uploads/2022/11/BachchorQuadr-scaled.jpg
END:VEVENT
BEGIN:VEVENT
DTSTART;TZID=Europe/Berlin:20261122T093000
DTEND;TZID=Europe/Berlin:20261122T103000
DTSTAMP:20260424T234212
CREATED:20251016T100810Z
LAST-MODIFIED:20251016T100810Z
UID:18780-1795339800-1795343400@weimar-evangelisch.de
SUMMARY:Gottesdienst
DESCRIPTION:  \n 
URL:https://weimar-evangelisch.de/veranstaltung/gottesdienst-175/2026-11-22/
LOCATION:Evangelisches Gemeindezentrum „Paul Schneider“\, Moskauer Straße 1a\, Weimar\, Thüringen\, 99427\, Deutschland
CATEGORIES:Gottesdienste
ATTACH;FMTTYPE=image/jpeg:https://weimar-evangelisch.de/wp-content/uploads/2021/06/weimarer_kirchen2_klein.jpg
END:VEVENT
BEGIN:VEVENT
DTSTART;TZID=Europe/Berlin:20261122T100000
DTEND;TZID=Europe/Berlin:20261122T110000
DTSTAMP:20260424T234212
CREATED:20250311T095924Z
LAST-MODIFIED:20250311T095924Z
UID:18523-1795341600-1795345200@weimar-evangelisch.de
SUMMARY:Gottesdienst
DESCRIPTION:
URL:https://weimar-evangelisch.de/veranstaltung/gottesdienst-133-2025-05-04-2/2026-11-22/
LOCATION:Jakobskirche\, Am Jakobskirchhof 9\, Weimar\, Thüringen\, 99423\, Deutschland
CATEGORIES:Gottesdienste
ATTACH;FMTTYPE=image/jpeg:https://weimar-evangelisch.de/wp-content/uploads/2022/01/Jakobskirche_Weimar_s2528_0048.jpg
END:VEVENT
BEGIN:VEVENT
DTSTART;TZID=Europe/Berlin:20261122T100000
DTEND;TZID=Europe/Berlin:20261122T110000
DTSTAMP:20260424T234212
CREATED:20250603T135629Z
LAST-MODIFIED:20250603T135629Z
UID:18642-1795341600-1795345200@weimar-evangelisch.de
SUMMARY:Gottesdienst
DESCRIPTION:
URL:https://weimar-evangelisch.de/veranstaltung/gottesdienst-162/2026-11-22/
LOCATION:Kreuzkirche\, Böhlaustraße 2\, Weimar\, Thüringen\, 99423\, Deutschland
CATEGORIES:Gottesdienste
ATTACH;FMTTYPE=image/jpeg:https://weimar-evangelisch.de/wp-content/uploads/2021/05/1090366.jpg
END:VEVENT
BEGIN:VEVENT
DTSTART;TZID=Europe/Berlin:20261122T100000
DTEND;TZID=Europe/Berlin:20261122T110000
DTSTAMP:20260424T234212
CREATED:20251016T093147Z
LAST-MODIFIED:20260424T102616Z
UID:18589-1795341600-1795345200@weimar-evangelisch.de
SUMMARY:Gottesdienst
DESCRIPTION:
URL:https://weimar-evangelisch.de/veranstaltung/gottesdienst-168-2026-06-28/2026-11-22/
LOCATION:Herderkirche\, Herderplatz 8\, Weimar\, 99423\, Deutschland
CATEGORIES:Gottesdienste
ATTACH;FMTTYPE=image/jpeg:https://weimar-evangelisch.de/wp-content/uploads/2022/04/Herderkirche_Weimar_Guido_Werner_s2594_0542-scaled-e1652940186688.jpg
END:VEVENT
BEGIN:VEVENT
DTSTART;TZID=Europe/Berlin:20261122T100000
DTEND;TZID=Europe/Berlin:20261122T110000
DTSTAMP:20260424T234212
CREATED:20251016T095629Z
LAST-MODIFIED:20260114T085130Z
UID:20356-1795341600-1795345200@weimar-evangelisch.de
SUMMARY:Gottesdienst
DESCRIPTION:
URL:https://weimar-evangelisch.de/veranstaltung/gottesdienst-171/2026-11-22/
LOCATION:Kapelle im Sophien- und Hufelandklinikum\, Henry-van-de-Velde-Straße 2\, Weimar\, Thüringen\, 99425\, Deutschland
CATEGORIES:Gottesdienste
ATTACH;FMTTYPE=image/jpeg:https://weimar-evangelisch.de/wp-content/uploads/2023/05/Klinikum_co_Neuwirt.jpg
END:VEVENT
BEGIN:VEVENT
DTSTART;TZID=Europe/Berlin:20261122T113000
DTEND;TZID=Europe/Berlin:20261122T120000
DTSTAMP:20260424T234212
CREATED:20241108T102333Z
LAST-MODIFIED:20241108T102333Z
UID:20077-1795347000-1795348800@weimar-evangelisch.de
SUMMARY:Familienkirche
DESCRIPTION:
URL:https://weimar-evangelisch.de/veranstaltung/familienkirche-9/2026-11-22/
LOCATION:Jakobskirche\, Am Jakobskirchhof 9\, Weimar\, Thüringen\, 99423\, Deutschland
CATEGORIES:Gottesdienste
ATTACH;FMTTYPE=image/jpeg:https://weimar-evangelisch.de/wp-content/uploads/2022/03/Angebote_Kinder_und_Familie_jelleke-vanooteghem-uNWuSF4WwXc-unsplash.jpg
END:VEVENT
END:VCALENDAR