BEGIN:VCALENDAR
VERSION:2.0
PRODID:-//Weimar Evangelisch - ECPv6.6.1//NONSGML v1.0//EN
CALSCALE:GREGORIAN
METHOD:PUBLISH
X-ORIGINAL-URL:https://weimar-evangelisch.de
X-WR-CALDESC:Veranstaltungen für Weimar Evangelisch
REFRESH-INTERVAL;VALUE=DURATION:PT1H
X-Robots-Tag:noindex
X-PUBLISHED-TTL:PT1H
BEGIN:VTIMEZONE
TZID:Europe/Berlin
BEGIN:DAYLIGHT
TZOFFSETFROM:+0100
TZOFFSETTO:+0200
TZNAME:CEST
DTSTART:20260329T010000
END:DAYLIGHT
BEGIN:STANDARD
TZOFFSETFROM:+0200
TZOFFSETTO:+0100
TZNAME:CET
DTSTART:20261025T010000
END:STANDARD
END:VTIMEZONE
BEGIN:VEVENT
DTSTART;TZID=Europe/Berlin:20261026T120000
DTEND;TZID=Europe/Berlin:20261026T120700
DTSTAMP:20260424T170945
CREATED:20220419T114300Z
LAST-MODIFIED:20260316T131043Z
UID:21281-1793016000-1793016420@weimar-evangelisch.de
SUMMARY:Mittagsgebet
DESCRIPTION:7-Minuten-Gebet
URL:https://weimar-evangelisch.de/veranstaltung/mittagsgebet/2026-10-26/
LOCATION:Herderkirche\, Herderplatz 8\, Weimar\, 99423\, Deutschland
CATEGORIES:Gottesdienste,Veranstaltungen
ATTACH;FMTTYPE=image/jpeg:https://weimar-evangelisch.de/wp-content/uploads/2022/04/ChorWebsite.jpg
END:VEVENT
BEGIN:VEVENT
DTSTART;TZID=Europe/Berlin:20261027T120000
DTEND;TZID=Europe/Berlin:20261027T120700
DTSTAMP:20260424T170945
CREATED:20220419T114300Z
LAST-MODIFIED:20260316T131043Z
UID:21282-1793102400-1793102820@weimar-evangelisch.de
SUMMARY:Mittagsgebet
DESCRIPTION:7-Minuten-Gebet
URL:https://weimar-evangelisch.de/veranstaltung/mittagsgebet/2026-10-27/
LOCATION:Herderkirche\, Herderplatz 8\, Weimar\, 99423\, Deutschland
CATEGORIES:Gottesdienste,Veranstaltungen
ATTACH;FMTTYPE=image/jpeg:https://weimar-evangelisch.de/wp-content/uploads/2022/04/ChorWebsite.jpg
END:VEVENT
BEGIN:VEVENT
DTSTART;TZID=Europe/Berlin:20261028T120000
DTEND;TZID=Europe/Berlin:20261028T120700
DTSTAMP:20260424T170945
CREATED:20220419T114300Z
LAST-MODIFIED:20260316T131043Z
UID:21283-1793188800-1793189220@weimar-evangelisch.de
SUMMARY:Mittagsgebet
DESCRIPTION:7-Minuten-Gebet
URL:https://weimar-evangelisch.de/veranstaltung/mittagsgebet/2026-10-28/
LOCATION:Herderkirche\, Herderplatz 8\, Weimar\, 99423\, Deutschland
CATEGORIES:Gottesdienste,Veranstaltungen
ATTACH;FMTTYPE=image/jpeg:https://weimar-evangelisch.de/wp-content/uploads/2022/04/ChorWebsite.jpg
END:VEVENT
BEGIN:VEVENT
DTSTART;TZID=Europe/Berlin:20261029T120000
DTEND;TZID=Europe/Berlin:20261029T120700
DTSTAMP:20260424T170945
CREATED:20220419T114300Z
LAST-MODIFIED:20260316T131043Z
UID:21284-1793275200-1793275620@weimar-evangelisch.de
SUMMARY:Mittagsgebet
DESCRIPTION:7-Minuten-Gebet
URL:https://weimar-evangelisch.de/veranstaltung/mittagsgebet/2026-10-29/
LOCATION:Herderkirche\, Herderplatz 8\, Weimar\, 99423\, Deutschland
CATEGORIES:Gottesdienste,Veranstaltungen
ATTACH;FMTTYPE=image/jpeg:https://weimar-evangelisch.de/wp-content/uploads/2022/04/ChorWebsite.jpg
END:VEVENT
BEGIN:VEVENT
DTSTART;TZID=Europe/Berlin:20261030T120000
DTEND;TZID=Europe/Berlin:20261030T121000
DTSTAMP:20260424T170945
CREATED:20250122T121241Z
LAST-MODIFIED:20250122T121241Z
UID:21397-1793361600-1793362200@weimar-evangelisch.de
SUMMARY:Versöhnungsgebet
DESCRIPTION:Liturgie der Nagelkreuzgemeinde von Coventry
URL:https://weimar-evangelisch.de/veranstaltung/versoehnungsgebet-3/2026-10-30/
LOCATION:Herderkirche\, Herderplatz 8\, Weimar\, 99423\, Deutschland
CATEGORIES:Gottesdienste
ATTACH;FMTTYPE=image/jpeg:https://weimar-evangelisch.de/wp-content/uploads/2022/04/Nagelkreuz5.jpg
END:VEVENT
BEGIN:VEVENT
DTSTART;TZID=Europe/Berlin:20261031T100000
DTEND;TZID=Europe/Berlin:20261031T110000
DTSTAMP:20260424T170945
CREATED:20260113T145614Z
LAST-MODIFIED:20260113T145614Z
UID:20272-1793440800-1793444400@weimar-evangelisch.de
SUMMARY:Kantatengottesdienst zum Reformationsfest
DESCRIPTION:Johann Sebastian Bach\, BWV 80\n„Ein feste Burg ist unser Gott“\nBachkantatenensemble Weimar\nEnsemble Hofmusik Weimar\nKMD Johannes Kleinjung – Leitung und Orgel
URL:https://weimar-evangelisch.de/veranstaltung/kantatengottesdienst-zum-reformationsfest-4/
LOCATION:Thüringen
CATEGORIES:Gottesdienste
ATTACH;FMTTYPE=image/jpeg:https://weimar-evangelisch.de/wp-content/uploads/2022/03/herderkirche_weimar_01.jpg
END:VEVENT
BEGIN:VEVENT
DTSTART;TZID=Europe/Berlin:20261031T160000
DTEND;TZID=Europe/Berlin:20261031T170000
DTSTAMP:20260424T170945
CREATED:20260316T122652Z
LAST-MODIFIED:20260316T122652Z
UID:20966-1793462400-1793466000@weimar-evangelisch.de
SUMMARY:Altar- und Kirchenführung
DESCRIPTION:Sie erleben eine protestantische Bilderpredigt und entdecken viele Details der Epitaphien im Chorraum der Stadtkirche.
URL:https://weimar-evangelisch.de/veranstaltung/altar-und-kirchenfuehrung-6/2026-10-31/
LOCATION:Herderkirche\, Herderplatz 8\, Weimar\, 99423\, Deutschland
CATEGORIES:Führungen,Veranstaltungen
ATTACH;FMTTYPE=image/jpeg:https://weimar-evangelisch.de/wp-content/uploads/2022/04/WECranachaltarMitte.jpg
END:VEVENT
BEGIN:VEVENT
DTSTART;TZID=Europe/Berlin:20261031T193000
DTEND;TZID=Europe/Berlin:20261031T203000
DTSTAMP:20260424T170945
CREATED:20260113T145718Z
LAST-MODIFIED:20260113T145718Z
UID:20274-1793475000-1793478600@weimar-evangelisch.de
SUMMARY:Orchesterkonzert zum Reformationstag
DESCRIPTION:Werke von Händel und Bach \nStadtkirchenorchester Weimar \nErik Sieglerschmidt – Leitung \nEintritt 10 € (erm. 6 €)
URL:https://weimar-evangelisch.de/veranstaltung/orchesterkonzert-zum-reformationstag-4/
LOCATION:Herderkirche\, Herderplatz 8\, Weimar\, 99423\, Deutschland
CATEGORIES:Konzerte
ATTACH;FMTTYPE=image/jpeg:https://weimar-evangelisch.de/wp-content/uploads/2022/10/SKOrchester-oqTsRZ.tmp_.jpg
END:VEVENT
BEGIN:VEVENT
DTSTART;TZID=Europe/Berlin:20261101T093000
DTEND;TZID=Europe/Berlin:20261101T103000
DTSTAMP:20260424T170945
CREATED:20251016T100810Z
LAST-MODIFIED:20251016T100810Z
UID:18777-1793525400-1793529000@weimar-evangelisch.de
SUMMARY:Gottesdienst
DESCRIPTION:  \n 
URL:https://weimar-evangelisch.de/veranstaltung/gottesdienst-175/2026-11-01/
LOCATION:Evangelisches Gemeindezentrum „Paul Schneider“\, Moskauer Straße 1a\, Weimar\, Thüringen\, 99427\, Deutschland
CATEGORIES:Gottesdienste
ATTACH;FMTTYPE=image/jpeg:https://weimar-evangelisch.de/wp-content/uploads/2021/06/weimarer_kirchen2_klein.jpg
END:VEVENT
BEGIN:VEVENT
DTSTART;TZID=Europe/Berlin:20261101T100000
DTEND;TZID=Europe/Berlin:20261101T110000
DTSTAMP:20260424T170945
CREATED:20250311T095924Z
LAST-MODIFIED:20250311T095924Z
UID:18520-1793527200-1793530800@weimar-evangelisch.de
SUMMARY:Gottesdienst
DESCRIPTION:
URL:https://weimar-evangelisch.de/veranstaltung/gottesdienst-133-2025-05-04-2/2026-11-01/
LOCATION:Jakobskirche\, Am Jakobskirchhof 9\, Weimar\, Thüringen\, 99423\, Deutschland
CATEGORIES:Gottesdienste
ATTACH;FMTTYPE=image/jpeg:https://weimar-evangelisch.de/wp-content/uploads/2022/01/Jakobskirche_Weimar_s2528_0048.jpg
END:VEVENT
BEGIN:VEVENT
DTSTART;TZID=Europe/Berlin:20261101T100000
DTEND;TZID=Europe/Berlin:20261101T110000
DTSTAMP:20260424T170945
CREATED:20250603T135629Z
LAST-MODIFIED:20250603T135629Z
UID:18639-1793527200-1793530800@weimar-evangelisch.de
SUMMARY:Gottesdienst
DESCRIPTION:
URL:https://weimar-evangelisch.de/veranstaltung/gottesdienst-162/2026-11-01/
LOCATION:Kreuzkirche\, Böhlaustraße 2\, Weimar\, Thüringen\, 99423\, Deutschland
CATEGORIES:Gottesdienste
ATTACH;FMTTYPE=image/jpeg:https://weimar-evangelisch.de/wp-content/uploads/2021/05/1090366.jpg
END:VEVENT
BEGIN:VEVENT
DTSTART;TZID=Europe/Berlin:20261101T100000
DTEND;TZID=Europe/Berlin:20261101T110000
DTSTAMP:20260424T170945
CREATED:20251016T093147Z
LAST-MODIFIED:20260113T145803Z
UID:18586-1793527200-1793530800@weimar-evangelisch.de
SUMMARY:Gottesdienst mit Chormusik
DESCRIPTION:Gemeinschaftsschulchor der Evangelischen Singschule Weimar
URL:https://weimar-evangelisch.de/veranstaltung/gottesdienst-168-2026-11-01/
LOCATION:Herderkirche\, Herderplatz 8\, Weimar\, 99423\, Deutschland
CATEGORIES:Gottesdienste
ATTACH;FMTTYPE=image/jpeg:https://weimar-evangelisch.de/wp-content/uploads/2022/04/Herderkirche_Weimar_Guido_Werner_s2594_0542-scaled-e1652940186688.jpg
END:VEVENT
BEGIN:VEVENT
DTSTART;TZID=Europe/Berlin:20261101T100000
DTEND;TZID=Europe/Berlin:20261101T110000
DTSTAMP:20260424T170945
CREATED:20251016T095629Z
LAST-MODIFIED:20260114T085121Z
UID:20352-1793527200-1793530800@weimar-evangelisch.de
SUMMARY:Gottesdienst
DESCRIPTION:
URL:https://weimar-evangelisch.de/veranstaltung/gottesdienst-171/2026-11-01/
LOCATION:Kapelle im Sophien- und Hufelandklinikum\, Henry-van-de-Velde-Straße 2\, Weimar\, Thüringen\, 99425\, Deutschland
CATEGORIES:Gottesdienste
ATTACH;FMTTYPE=image/jpeg:https://weimar-evangelisch.de/wp-content/uploads/2023/05/Klinikum_co_Neuwirt.jpg
END:VEVENT
BEGIN:VEVENT
DTSTART;TZID=Europe/Berlin:20261101T140000
DTEND;TZID=Europe/Berlin:20261101T150000
DTSTAMP:20260424T170945
CREATED:20250108T084120Z
LAST-MODIFIED:20250108T084120Z
UID:18668-1793541600-1793545200@weimar-evangelisch.de
SUMMARY:Gottesdienst
DESCRIPTION:Pfarrer Hardy Rylke
URL:https://weimar-evangelisch.de/veranstaltung/gottesdienst-136/2026-11-01/
LOCATION:Gemeinderaum im Evangelischen Kinderhaus „Sonnenhügel“\, Bonhoefferstraße 73a\, Weimar\, Thüringen\, 99427\, Deutschland
CATEGORIES:Gottesdienste
ATTACH;FMTTYPE=image/jpeg:https://weimar-evangelisch.de/wp-content/uploads/2022/03/evangelischen_kinderhaus_sonnenhügel_weimar_adresse.jpg
END:VEVENT
END:VCALENDAR