BEGIN:VCALENDAR
VERSION:2.0
PRODID:-//Weimar Evangelisch - ECPv6.6.1//NONSGML v1.0//EN
CALSCALE:GREGORIAN
METHOD:PUBLISH
X-ORIGINAL-URL:https://weimar-evangelisch.de
X-WR-CALDESC:Veranstaltungen für Weimar Evangelisch
REFRESH-INTERVAL;VALUE=DURATION:PT1H
X-Robots-Tag:noindex
X-PUBLISHED-TTL:PT1H
BEGIN:VTIMEZONE
TZID:Europe/Berlin
BEGIN:DAYLIGHT
TZOFFSETFROM:+0100
TZOFFSETTO:+0200
TZNAME:CEST
DTSTART:20260329T010000
END:DAYLIGHT
BEGIN:STANDARD
TZOFFSETFROM:+0200
TZOFFSETTO:+0100
TZNAME:CET
DTSTART:20261025T010000
END:STANDARD
END:VTIMEZONE
BEGIN:VEVENT
DTSTART;TZID=Europe/Berlin:20261005T120000
DTEND;TZID=Europe/Berlin:20261005T120700
DTSTAMP:20260425T013149
CREATED:20220419T114300Z
LAST-MODIFIED:20260316T131038Z
UID:21266-1791201600-1791202020@weimar-evangelisch.de
SUMMARY:Mittagsgebet
DESCRIPTION:7-Minuten-Gebet
URL:https://weimar-evangelisch.de/veranstaltung/mittagsgebet/2026-10-05/
LOCATION:Herderkirche\, Herderplatz 8\, Weimar\, 99423\, Deutschland
CATEGORIES:Gottesdienste,Veranstaltungen
ATTACH;FMTTYPE=image/jpeg:https://weimar-evangelisch.de/wp-content/uploads/2022/04/ChorWebsite.jpg
END:VEVENT
BEGIN:VEVENT
DTSTART;TZID=Europe/Berlin:20261006T120000
DTEND;TZID=Europe/Berlin:20261006T120700
DTSTAMP:20260425T013149
CREATED:20220419T114300Z
LAST-MODIFIED:20260316T131038Z
UID:21267-1791288000-1791288420@weimar-evangelisch.de
SUMMARY:Mittagsgebet
DESCRIPTION:7-Minuten-Gebet
URL:https://weimar-evangelisch.de/veranstaltung/mittagsgebet/2026-10-06/
LOCATION:Herderkirche\, Herderplatz 8\, Weimar\, 99423\, Deutschland
CATEGORIES:Gottesdienste,Veranstaltungen
ATTACH;FMTTYPE=image/jpeg:https://weimar-evangelisch.de/wp-content/uploads/2022/04/ChorWebsite.jpg
END:VEVENT
BEGIN:VEVENT
DTSTART;TZID=Europe/Berlin:20261007T120000
DTEND;TZID=Europe/Berlin:20261007T120700
DTSTAMP:20260425T013149
CREATED:20220419T114300Z
LAST-MODIFIED:20260316T131039Z
UID:21268-1791374400-1791374820@weimar-evangelisch.de
SUMMARY:Mittagsgebet
DESCRIPTION:7-Minuten-Gebet
URL:https://weimar-evangelisch.de/veranstaltung/mittagsgebet/2026-10-07/
LOCATION:Herderkirche\, Herderplatz 8\, Weimar\, 99423\, Deutschland
CATEGORIES:Gottesdienste,Veranstaltungen
ATTACH;FMTTYPE=image/jpeg:https://weimar-evangelisch.de/wp-content/uploads/2022/04/ChorWebsite.jpg
END:VEVENT
BEGIN:VEVENT
DTSTART;TZID=Europe/Berlin:20261008T120000
DTEND;TZID=Europe/Berlin:20261008T120700
DTSTAMP:20260425T013149
CREATED:20220419T114300Z
LAST-MODIFIED:20260316T131039Z
UID:21269-1791460800-1791461220@weimar-evangelisch.de
SUMMARY:Mittagsgebet
DESCRIPTION:7-Minuten-Gebet
URL:https://weimar-evangelisch.de/veranstaltung/mittagsgebet/2026-10-08/
LOCATION:Herderkirche\, Herderplatz 8\, Weimar\, 99423\, Deutschland
CATEGORIES:Gottesdienste,Veranstaltungen
ATTACH;FMTTYPE=image/jpeg:https://weimar-evangelisch.de/wp-content/uploads/2022/04/ChorWebsite.jpg
END:VEVENT
BEGIN:VEVENT
DTSTART;TZID=Europe/Berlin:20261009T120000
DTEND;TZID=Europe/Berlin:20261009T121000
DTSTAMP:20260425T013149
CREATED:20250122T121241Z
LAST-MODIFIED:20250122T121241Z
UID:21394-1791547200-1791547800@weimar-evangelisch.de
SUMMARY:Versöhnungsgebet
DESCRIPTION:Liturgie der Nagelkreuzgemeinde von Coventry
URL:https://weimar-evangelisch.de/veranstaltung/versoehnungsgebet-3/2026-10-09/
LOCATION:Herderkirche\, Herderplatz 8\, Weimar\, 99423\, Deutschland
CATEGORIES:Gottesdienste
ATTACH;FMTTYPE=image/jpeg:https://weimar-evangelisch.de/wp-content/uploads/2022/04/Nagelkreuz5.jpg
END:VEVENT
BEGIN:VEVENT
DTSTART;TZID=Europe/Berlin:20261010T160000
DTEND;TZID=Europe/Berlin:20261010T170000
DTSTAMP:20260425T013149
CREATED:20260316T122652Z
LAST-MODIFIED:20260316T122652Z
UID:20963-1791648000-1791651600@weimar-evangelisch.de
SUMMARY:Altar- und Kirchenführung
DESCRIPTION:Sie erleben eine protestantische Bilderpredigt und entdecken viele Details der Epitaphien im Chorraum der Stadtkirche.
URL:https://weimar-evangelisch.de/veranstaltung/altar-und-kirchenfuehrung-6/2026-10-10/
LOCATION:Herderkirche\, Herderplatz 8\, Weimar\, 99423\, Deutschland
CATEGORIES:Führungen,Veranstaltungen
ATTACH;FMTTYPE=image/jpeg:https://weimar-evangelisch.de/wp-content/uploads/2022/04/WECranachaltarMitte.jpg
END:VEVENT
BEGIN:VEVENT
DTSTART;TZID=Europe/Berlin:20261011T093000
DTEND;TZID=Europe/Berlin:20261011T103000
DTSTAMP:20260425T013149
CREATED:20251016T100810Z
LAST-MODIFIED:20251016T100810Z
UID:18774-1791711000-1791714600@weimar-evangelisch.de
SUMMARY:Gottesdienst
DESCRIPTION:  \n 
URL:https://weimar-evangelisch.de/veranstaltung/gottesdienst-175/2026-10-11/
LOCATION:Evangelisches Gemeindezentrum „Paul Schneider“\, Moskauer Straße 1a\, Weimar\, Thüringen\, 99427\, Deutschland
CATEGORIES:Gottesdienste
ATTACH;FMTTYPE=image/jpeg:https://weimar-evangelisch.de/wp-content/uploads/2021/06/weimarer_kirchen2_klein.jpg
END:VEVENT
BEGIN:VEVENT
DTSTART;TZID=Europe/Berlin:20261011T100000
DTEND;TZID=Europe/Berlin:20261011T110000
DTSTAMP:20260425T013149
CREATED:20250311T095924Z
LAST-MODIFIED:20250311T095924Z
UID:18517-1791712800-1791716400@weimar-evangelisch.de
SUMMARY:Gottesdienst
DESCRIPTION:
URL:https://weimar-evangelisch.de/veranstaltung/gottesdienst-133-2025-05-04-2/2026-10-11/
LOCATION:Jakobskirche\, Am Jakobskirchhof 9\, Weimar\, Thüringen\, 99423\, Deutschland
CATEGORIES:Gottesdienste
ATTACH;FMTTYPE=image/jpeg:https://weimar-evangelisch.de/wp-content/uploads/2022/01/Jakobskirche_Weimar_s2528_0048.jpg
END:VEVENT
BEGIN:VEVENT
DTSTART;TZID=Europe/Berlin:20261011T100000
DTEND;TZID=Europe/Berlin:20261011T110000
DTSTAMP:20260425T013149
CREATED:20250603T135629Z
LAST-MODIFIED:20250603T135629Z
UID:18636-1791712800-1791716400@weimar-evangelisch.de
SUMMARY:Gottesdienst
DESCRIPTION:
URL:https://weimar-evangelisch.de/veranstaltung/gottesdienst-162/2026-10-11/
LOCATION:Kreuzkirche\, Böhlaustraße 2\, Weimar\, Thüringen\, 99423\, Deutschland
CATEGORIES:Gottesdienste
ATTACH;FMTTYPE=image/jpeg:https://weimar-evangelisch.de/wp-content/uploads/2021/05/1090366.jpg
END:VEVENT
BEGIN:VEVENT
DTSTART;TZID=Europe/Berlin:20261011T100000
DTEND;TZID=Europe/Berlin:20261011T110000
DTSTAMP:20260425T013149
CREATED:20251016T093147Z
LAST-MODIFIED:20260424T102615Z
UID:18583-1791712800-1791716400@weimar-evangelisch.de
SUMMARY:Gottesdienst
DESCRIPTION:
URL:https://weimar-evangelisch.de/veranstaltung/gottesdienst-168-2026-06-28/2026-10-11/
LOCATION:Herderkirche\, Herderplatz 8\, Weimar\, 99423\, Deutschland
CATEGORIES:Gottesdienste
ATTACH;FMTTYPE=image/jpeg:https://weimar-evangelisch.de/wp-content/uploads/2022/04/Herderkirche_Weimar_Guido_Werner_s2594_0542-scaled-e1652940186688.jpg
END:VEVENT
BEGIN:VEVENT
DTSTART;TZID=Europe/Berlin:20261011T100000
DTEND;TZID=Europe/Berlin:20261011T110000
DTSTAMP:20260425T013149
CREATED:20251016T095629Z
LAST-MODIFIED:20260114T085115Z
UID:20322-1791712800-1791716400@weimar-evangelisch.de
SUMMARY:Gottesdienst
DESCRIPTION:
URL:https://weimar-evangelisch.de/veranstaltung/gottesdienst-171/2026-10-11/
LOCATION:Kapelle im Sophien- und Hufelandklinikum\, Henry-van-de-Velde-Straße 2\, Weimar\, Thüringen\, 99425\, Deutschland
CATEGORIES:Gottesdienste
ATTACH;FMTTYPE=image/jpeg:https://weimar-evangelisch.de/wp-content/uploads/2023/05/Klinikum_co_Neuwirt.jpg
END:VEVENT
END:VCALENDAR