BEGIN:VCALENDAR
VERSION:2.0
PRODID:-//Weimar Evangelisch - ECPv6.6.1//NONSGML v1.0//EN
CALSCALE:GREGORIAN
METHOD:PUBLISH
X-ORIGINAL-URL:https://weimar-evangelisch.de
X-WR-CALDESC:Veranstaltungen für Weimar Evangelisch
REFRESH-INTERVAL;VALUE=DURATION:PT1H
X-Robots-Tag:noindex
X-PUBLISHED-TTL:PT1H
BEGIN:VTIMEZONE
TZID:Europe/Berlin
BEGIN:DAYLIGHT
TZOFFSETFROM:+0100
TZOFFSETTO:+0200
TZNAME:CEST
DTSTART:20260329T010000
END:DAYLIGHT
BEGIN:STANDARD
TZOFFSETFROM:+0200
TZOFFSETTO:+0100
TZNAME:CET
DTSTART:20261025T010000
END:STANDARD
END:VTIMEZONE
BEGIN:VEVENT
DTSTART;TZID=Europe/Berlin:20260508T120000
DTEND;TZID=Europe/Berlin:20260508T121000
DTSTAMP:20260422T124925
CREATED:20250122T121241Z
LAST-MODIFIED:20250122T121241Z
UID:21372-1778241600-1778242200@weimar-evangelisch.de
SUMMARY:Versöhnungsgebet
DESCRIPTION:Liturgie der Nagelkreuzgemeinde von Coventry
URL:https://weimar-evangelisch.de/veranstaltung/versoehnungsgebet-3/2026-05-08/
LOCATION:Herderkirche\, Herderplatz 8\, Weimar\, 99423\, Deutschland
CATEGORIES:Gottesdienste
ATTACH;FMTTYPE=image/jpeg:https://weimar-evangelisch.de/wp-content/uploads/2022/04/Nagelkreuz5.jpg
END:VEVENT
BEGIN:VEVENT
DTSTART;TZID=Europe/Berlin:20260508T180000
DTEND;TZID=Europe/Berlin:20260508T190000
DTSTAMP:20260422T124925
CREATED:20260316T131313Z
LAST-MODIFIED:20260316T131352Z
UID:21609-1778263200-1778266800@weimar-evangelisch.de
SUMMARY:Abendmahl der Konfirmand*innen
DESCRIPTION:Pfarrerin Anne Puhr
URL:https://weimar-evangelisch.de/veranstaltung/abendmahl-der-konfirmandinnen/
LOCATION:Herderkirche\, Herderplatz 8\, Weimar\, 99423\, Deutschland
CATEGORIES:Gottesdienste
ATTACH;FMTTYPE=image/jpeg:https://weimar-evangelisch.de/wp-content/uploads/2022/04/musik_foerdern-zU2oXZ.tmp_.jpg
END:VEVENT
BEGIN:VEVENT
DTSTART;TZID=Europe/Berlin:20260509T140000
DTEND;TZID=Europe/Berlin:20260509T150000
DTSTAMP:20260422T124925
CREATED:20260316T131755Z
LAST-MODIFIED:20260316T131755Z
UID:21615-1778335200-1778338800@weimar-evangelisch.de
SUMMARY:Konfirmation der Konfirmandengruppe der Kreuzkirche
DESCRIPTION:Pfarrerin Anne Puhr
URL:https://weimar-evangelisch.de/veranstaltung/konfirmation-der-konfirmandengruppe-der-kreuzkirche/
LOCATION:Herderkirche\, Herderplatz 8\, Weimar\, 99423\, Deutschland
CATEGORIES:Gottesdienste
ATTACH;FMTTYPE=image/jpeg:https://weimar-evangelisch.de/wp-content/uploads/2022/04/Herderkirche_Weimar_Guido_Werner_s2594_0542-scaled-e1652940186688.jpg
END:VEVENT
BEGIN:VEVENT
DTSTART;TZID=Europe/Berlin:20260509T160000
DTEND;TZID=Europe/Berlin:20260509T170000
DTSTAMP:20260422T124925
CREATED:20260316T122652Z
LAST-MODIFIED:20260316T122652Z
UID:20940-1778342400-1778346000@weimar-evangelisch.de
SUMMARY:Altar- und Kirchenführung
DESCRIPTION:Sie erleben eine protestantische Bilderpredigt und entdecken viele Details der Epitaphien im Chorraum der Stadtkirche.
URL:https://weimar-evangelisch.de/veranstaltung/altar-und-kirchenfuehrung-6/2026-05-09/
LOCATION:Herderkirche\, Herderplatz 8\, Weimar\, 99423\, Deutschland
CATEGORIES:Führungen,Veranstaltungen
ATTACH;FMTTYPE=image/jpeg:https://weimar-evangelisch.de/wp-content/uploads/2022/04/WECranachaltarMitte.jpg
END:VEVENT
BEGIN:VEVENT
DTSTART;TZID=Europe/Berlin:20260509T180000
DTEND;TZID=Europe/Berlin:20260509T183000
DTSTAMP:20260422T124925
CREATED:20260316T122529Z
LAST-MODIFIED:20260316T125256Z
UID:20917-1778349600-1778351400@weimar-evangelisch.de
SUMMARY:Vesper
DESCRIPTION:Pfarrer Sebastian Kircheis
URL:https://weimar-evangelisch.de/veranstaltung/vesper-22-2026-05-09/
LOCATION:Herderkirche\, Herderplatz 8\, Weimar\, 99423\, Deutschland
CATEGORIES:Gottesdienste
ATTACH;FMTTYPE=image/jpeg:https://weimar-evangelisch.de/wp-content/uploads/2022/04/Herderkirche_Weimar_Guido_Werner_s2594_0542-scaled-e1652940186688.jpg
END:VEVENT
BEGIN:VEVENT
DTSTART;TZID=Europe/Berlin:20260510T093000
DTEND;TZID=Europe/Berlin:20260510T103000
DTSTAMP:20260422T124925
CREATED:20251016T100810Z
LAST-MODIFIED:20260316T132524Z
UID:18752-1778405400-1778409000@weimar-evangelisch.de
SUMMARY:Gottesdienst
DESCRIPTION:Lektorin Diana Fiedler \n 
URL:https://weimar-evangelisch.de/veranstaltung/gottesdienst-175-2026-05-10/
LOCATION:Evangelisches Gemeindezentrum „Paul Schneider“\, Moskauer Straße 1a\, Weimar\, Thüringen\, 99427\, Deutschland
CATEGORIES:Gottesdienste
ATTACH;FMTTYPE=image/jpeg:https://weimar-evangelisch.de/wp-content/uploads/2021/06/weimarer_kirchen2_klein.jpg
END:VEVENT
BEGIN:VEVENT
DTSTART;TZID=Europe/Berlin:20260510T100000
DTEND;TZID=Europe/Berlin:20260510T110000
DTSTAMP:20260422T124925
CREATED:20250311T095924Z
LAST-MODIFIED:20260316T132500Z
UID:18495-1778407200-1778410800@weimar-evangelisch.de
SUMMARY:Vorstellungsgottesdienst der Konfirmand*innen
DESCRIPTION:Pfarrer Hardy Rylke
URL:https://weimar-evangelisch.de/veranstaltung/gottesdienst-133-2025-05-04-2-2026-05-10/
LOCATION:Jakobskirche\, Am Jakobskirchhof 9\, Weimar\, Thüringen\, 99423\, Deutschland
CATEGORIES:Gottesdienste
ATTACH;FMTTYPE=image/jpeg:https://weimar-evangelisch.de/wp-content/uploads/2022/01/Jakobskirche_Weimar_s2528_0048.jpg
END:VEVENT
BEGIN:VEVENT
DTSTART;TZID=Europe/Berlin:20260510T100000
DTEND;TZID=Europe/Berlin:20260510T110000
DTSTAMP:20260422T124925
CREATED:20250603T135629Z
LAST-MODIFIED:20260316T132333Z
UID:18614-1778407200-1778410800@weimar-evangelisch.de
SUMMARY:Gottesdienst
DESCRIPTION:Pfarrerin Anne Puhr
URL:https://weimar-evangelisch.de/veranstaltung/gottesdienst-162-2026-05-10/
LOCATION:Kreuzkirche\, Böhlaustraße 2\, Weimar\, Thüringen\, 99423\, Deutschland
CATEGORIES:Gottesdienste
ATTACH;FMTTYPE=image/jpeg:https://weimar-evangelisch.de/wp-content/uploads/2021/05/1090366.jpg
END:VEVENT
BEGIN:VEVENT
DTSTART;TZID=Europe/Berlin:20260510T100000
DTEND;TZID=Europe/Berlin:20260510T110000
DTSTAMP:20260422T124925
CREATED:20251016T093147Z
LAST-MODIFIED:20260316T132408Z
UID:18561-1778407200-1778410800@weimar-evangelisch.de
SUMMARY:Gottesdienst mit Chormusik
DESCRIPTION:Gemeinschaftsschulchor der Evangelischen Singschule Weimar \nVorstellung der Konfirmand*innen \nPfarrer Sebastian Kircheis
URL:https://weimar-evangelisch.de/veranstaltung/gottesdienst-168-2026-05-10/
LOCATION:Herderkirche\, Herderplatz 8\, Weimar\, 99423\, Deutschland
CATEGORIES:Gottesdienste
ATTACH;FMTTYPE=image/jpeg:https://weimar-evangelisch.de/wp-content/uploads/2022/04/Herderkirche_Weimar_Guido_Werner_s2594_0542-scaled-e1652940186688.jpg
END:VEVENT
BEGIN:VEVENT
DTSTART;TZID=Europe/Berlin:20260510T100000
DTEND;TZID=Europe/Berlin:20260510T110000
DTSTAMP:20260422T124925
CREATED:20251016T095629Z
LAST-MODIFIED:20260316T132256Z
UID:18692-1778407200-1778410800@weimar-evangelisch.de
SUMMARY:Gottesdienst
DESCRIPTION:Rektor Ramón Seliger
URL:https://weimar-evangelisch.de/veranstaltung/gottesdienst-171-2026-05-10/
LOCATION:Kapelle im Sophien- und Hufelandklinikum\, Henry-van-de-Velde-Straße 2\, Weimar\, Thüringen\, 99425\, Deutschland
CATEGORIES:Gottesdienste
ATTACH;FMTTYPE=image/jpeg:https://weimar-evangelisch.de/wp-content/uploads/2023/05/Klinikum_co_Neuwirt.jpg
END:VEVENT
BEGIN:VEVENT
DTSTART;TZID=Europe/Berlin:20260510T110000
DTEND;TZID=Europe/Berlin:20260510T120000
DTSTAMP:20260422T124925
CREATED:20260316T132808Z
LAST-MODIFIED:20260316T132808Z
UID:21629-1778410800-1778414400@weimar-evangelisch.de
SUMMARY:Gottesdienst
DESCRIPTION:Lektorin Diana Fiedler
URL:https://weimar-evangelisch.de/veranstaltung/gottesdienst-200/
LOCATION:Kirche St. Marien Tröbsdorf\, Marienstraße 1\,  Weimar\, Thüringen\, 99428\, Deutschland
CATEGORIES:Gottesdienste
ATTACH;FMTTYPE=image/jpeg:https://weimar-evangelisch.de/wp-content/uploads/2026/02/Kirche-Troebsdorf_co_Neuwirt-1.jpg
END:VEVENT
BEGIN:VEVENT
DTSTART;TZID=Europe/Berlin:20260510T170000
DTEND;TZID=Europe/Berlin:20260510T180000
DTSTAMP:20260422T124925
CREATED:20260316T132611Z
LAST-MODIFIED:20260316T132611Z
UID:21627-1778432400-1778436000@weimar-evangelisch.de
SUMMARY:Gottesdienst mit Abendmahl
DESCRIPTION:Pfarrer Sebastian Kircheis
URL:https://weimar-evangelisch.de/veranstaltung/gottesdienst-mit-abendmahl-33/
LOCATION:Johanneskirche\, Tiefurter Allee 2b\, Weimar\, Thüringen\, 99425\, Deutschland
CATEGORIES:Gottesdienste
ATTACH;FMTTYPE=image/jpeg:https://weimar-evangelisch.de/wp-content/uploads/2022/03/johanneskirche_weimar.jpg
END:VEVENT
BEGIN:VEVENT
DTSTART;TZID=Europe/Berlin:20260511T120000
DTEND;TZID=Europe/Berlin:20260511T120700
DTSTAMP:20260422T124925
CREATED:20220419T114300Z
LAST-MODIFIED:20260316T131010Z
UID:21161-1778500800-1778501220@weimar-evangelisch.de
SUMMARY:Mittagsgebet
DESCRIPTION:7-Minuten-Gebet
URL:https://weimar-evangelisch.de/veranstaltung/mittagsgebet/2026-05-11/
LOCATION:Herderkirche\, Herderplatz 8\, Weimar\, 99423\, Deutschland
CATEGORIES:Gottesdienste,Veranstaltungen
ATTACH;FMTTYPE=image/jpeg:https://weimar-evangelisch.de/wp-content/uploads/2022/04/ChorWebsite.jpg
END:VEVENT
BEGIN:VEVENT
DTSTART;TZID=Europe/Berlin:20260512T120000
DTEND;TZID=Europe/Berlin:20260512T120700
DTSTAMP:20260422T124925
CREATED:20220419T114300Z
LAST-MODIFIED:20260316T131010Z
UID:21162-1778587200-1778587620@weimar-evangelisch.de
SUMMARY:Mittagsgebet
DESCRIPTION:7-Minuten-Gebet
URL:https://weimar-evangelisch.de/veranstaltung/mittagsgebet/2026-05-12/
LOCATION:Herderkirche\, Herderplatz 8\, Weimar\, 99423\, Deutschland
CATEGORIES:Gottesdienste,Veranstaltungen
ATTACH;FMTTYPE=image/jpeg:https://weimar-evangelisch.de/wp-content/uploads/2022/04/ChorWebsite.jpg
END:VEVENT
BEGIN:VEVENT
DTSTART;TZID=Europe/Berlin:20260513T120000
DTEND;TZID=Europe/Berlin:20260513T120700
DTSTAMP:20260422T124925
CREATED:20220419T114300Z
LAST-MODIFIED:20260316T131010Z
UID:21163-1778673600-1778674020@weimar-evangelisch.de
SUMMARY:Mittagsgebet
DESCRIPTION:7-Minuten-Gebet
URL:https://weimar-evangelisch.de/veranstaltung/mittagsgebet/2026-05-13/
LOCATION:Herderkirche\, Herderplatz 8\, Weimar\, 99423\, Deutschland
CATEGORIES:Gottesdienste,Veranstaltungen
ATTACH;FMTTYPE=image/jpeg:https://weimar-evangelisch.de/wp-content/uploads/2022/04/ChorWebsite.jpg
END:VEVENT
BEGIN:VEVENT
DTSTART;TZID=Europe/Berlin:20260514T120000
DTEND;TZID=Europe/Berlin:20260514T120700
DTSTAMP:20260422T124925
CREATED:20220419T114300Z
LAST-MODIFIED:20260316T131010Z
UID:21164-1778760000-1778760420@weimar-evangelisch.de
SUMMARY:Mittagsgebet
DESCRIPTION:7-Minuten-Gebet
URL:https://weimar-evangelisch.de/veranstaltung/mittagsgebet/2026-05-14/
LOCATION:Herderkirche\, Herderplatz 8\, Weimar\, 99423\, Deutschland
CATEGORIES:Gottesdienste,Veranstaltungen
ATTACH;FMTTYPE=image/jpeg:https://weimar-evangelisch.de/wp-content/uploads/2022/04/ChorWebsite.jpg
END:VEVENT
BEGIN:VEVENT
DTSTART;TZID=Europe/Berlin:20260515T120000
DTEND;TZID=Europe/Berlin:20260515T121000
DTSTAMP:20260422T124925
CREATED:20250122T121241Z
LAST-MODIFIED:20250122T121241Z
UID:21373-1778846400-1778847000@weimar-evangelisch.de
SUMMARY:Versöhnungsgebet
DESCRIPTION:Liturgie der Nagelkreuzgemeinde von Coventry
URL:https://weimar-evangelisch.de/veranstaltung/versoehnungsgebet-3/2026-05-15/
LOCATION:Herderkirche\, Herderplatz 8\, Weimar\, 99423\, Deutschland
CATEGORIES:Gottesdienste
ATTACH;FMTTYPE=image/jpeg:https://weimar-evangelisch.de/wp-content/uploads/2022/04/Nagelkreuz5.jpg
END:VEVENT
BEGIN:VEVENT
DTSTART;TZID=Europe/Berlin:20260515T180000
DTEND;TZID=Europe/Berlin:20260515T190000
DTSTAMP:20260422T124925
CREATED:20260316T131425Z
LAST-MODIFIED:20260316T131425Z
UID:21611-1778868000-1778871600@weimar-evangelisch.de
SUMMARY:Abendmahl der Konfirmand*innen
DESCRIPTION:Pfarrer Sebastian Kircheis
URL:https://weimar-evangelisch.de/veranstaltung/abendmahl-der-konfirmandinnen-2/
LOCATION:Herderkirche\, Herderplatz 8\, Weimar\, 99423\, Deutschland
CATEGORIES:Gottesdienste
ATTACH;FMTTYPE=image/jpeg:https://weimar-evangelisch.de/wp-content/uploads/2022/04/musik_foerdern-zU2oXZ.tmp_.jpg
END:VEVENT
BEGIN:VEVENT
DTSTART;TZID=Europe/Berlin:20260516T140000
DTEND;TZID=Europe/Berlin:20260516T150000
DTSTAMP:20260422T124925
CREATED:20260316T131923Z
LAST-MODIFIED:20260316T131923Z
UID:21617-1778940000-1778943600@weimar-evangelisch.de
SUMMARY:Konfirmation der Konfirmandengruppe der Herderkirche
DESCRIPTION:Pfarrer Sebastian Kircheis
URL:https://weimar-evangelisch.de/veranstaltung/konfirmation-der-konfirmandengruppe-der-herderkirche/
LOCATION:Herderkirche\, Herderplatz 8\, Weimar\, 99423\, Deutschland
CATEGORIES:Gottesdienste
ATTACH;FMTTYPE=image/jpeg:https://weimar-evangelisch.de/wp-content/uploads/2022/04/Herderkirche_Weimar_Guido_Werner_s2594_0542-scaled-e1652940186688.jpg
END:VEVENT
BEGIN:VEVENT
DTSTART;TZID=Europe/Berlin:20260516T160000
DTEND;TZID=Europe/Berlin:20260516T170000
DTSTAMP:20260422T124925
CREATED:20260316T122652Z
LAST-MODIFIED:20260316T122652Z
UID:20941-1778947200-1778950800@weimar-evangelisch.de
SUMMARY:Altar- und Kirchenführung
DESCRIPTION:Sie erleben eine protestantische Bilderpredigt und entdecken viele Details der Epitaphien im Chorraum der Stadtkirche.
URL:https://weimar-evangelisch.de/veranstaltung/altar-und-kirchenfuehrung-6/2026-05-16/
LOCATION:Herderkirche\, Herderplatz 8\, Weimar\, 99423\, Deutschland
CATEGORIES:Führungen,Veranstaltungen
ATTACH;FMTTYPE=image/jpeg:https://weimar-evangelisch.de/wp-content/uploads/2022/04/WECranachaltarMitte.jpg
END:VEVENT
BEGIN:VEVENT
DTSTART;TZID=Europe/Berlin:20260516T180000
DTEND;TZID=Europe/Berlin:20260516T183000
DTSTAMP:20260422T124925
CREATED:20260316T122529Z
LAST-MODIFIED:20260316T125214Z
UID:20918-1778954400-1778956200@weimar-evangelisch.de
SUMMARY:Vesper
DESCRIPTION:
URL:https://weimar-evangelisch.de/veranstaltung/vesper-22-2026-05-16/2026-05-16/
LOCATION:Herderkirche\, Herderplatz 8\, Weimar\, 99423\, Deutschland
CATEGORIES:Gottesdienste
ATTACH;FMTTYPE=image/jpeg:https://weimar-evangelisch.de/wp-content/uploads/2022/04/Herderkirche_Weimar_Guido_Werner_s2594_0542-scaled-e1652940186688.jpg
END:VEVENT
BEGIN:VEVENT
DTSTART;TZID=Europe/Berlin:20260517T093000
DTEND;TZID=Europe/Berlin:20260517T103000
DTSTAMP:20260422T124925
CREATED:20251016T100810Z
LAST-MODIFIED:20251016T100810Z
UID:18753-1779010200-1779013800@weimar-evangelisch.de
SUMMARY:Gottesdienst
DESCRIPTION:  \n 
URL:https://weimar-evangelisch.de/veranstaltung/gottesdienst-175/2026-05-17/
LOCATION:Evangelisches Gemeindezentrum „Paul Schneider“\, Moskauer Straße 1a\, Weimar\, Thüringen\, 99427\, Deutschland
CATEGORIES:Gottesdienste
ATTACH;FMTTYPE=image/jpeg:https://weimar-evangelisch.de/wp-content/uploads/2021/06/weimarer_kirchen2_klein.jpg
END:VEVENT
BEGIN:VEVENT
DTSTART;TZID=Europe/Berlin:20260517T100000
DTEND;TZID=Europe/Berlin:20260517T110000
DTSTAMP:20260422T124925
CREATED:20250311T095924Z
LAST-MODIFIED:20250311T095924Z
UID:18496-1779012000-1779015600@weimar-evangelisch.de
SUMMARY:Gottesdienst
DESCRIPTION:
URL:https://weimar-evangelisch.de/veranstaltung/gottesdienst-133-2025-05-04-2/2026-05-17/
LOCATION:Jakobskirche\, Am Jakobskirchhof 9\, Weimar\, Thüringen\, 99423\, Deutschland
CATEGORIES:Gottesdienste
ATTACH;FMTTYPE=image/jpeg:https://weimar-evangelisch.de/wp-content/uploads/2022/01/Jakobskirche_Weimar_s2528_0048.jpg
END:VEVENT
BEGIN:VEVENT
DTSTART;TZID=Europe/Berlin:20260517T100000
DTEND;TZID=Europe/Berlin:20260517T110000
DTSTAMP:20260422T124925
CREATED:20250603T135629Z
LAST-MODIFIED:20250603T135629Z
UID:18615-1779012000-1779015600@weimar-evangelisch.de
SUMMARY:Gottesdienst
DESCRIPTION:
URL:https://weimar-evangelisch.de/veranstaltung/gottesdienst-162/2026-05-17/
LOCATION:Kreuzkirche\, Böhlaustraße 2\, Weimar\, Thüringen\, 99423\, Deutschland
CATEGORIES:Gottesdienste
ATTACH;FMTTYPE=image/jpeg:https://weimar-evangelisch.de/wp-content/uploads/2021/05/1090366.jpg
END:VEVENT
BEGIN:VEVENT
DTSTART;TZID=Europe/Berlin:20260517T100000
DTEND;TZID=Europe/Berlin:20260517T110000
DTSTAMP:20260422T124925
CREATED:20251016T095629Z
LAST-MODIFIED:20260114T085011Z
UID:18693-1779012000-1779015600@weimar-evangelisch.de
SUMMARY:Gottesdienst
DESCRIPTION:
URL:https://weimar-evangelisch.de/veranstaltung/gottesdienst-171/2026-05-17/
LOCATION:Kapelle im Sophien- und Hufelandklinikum\, Henry-van-de-Velde-Straße 2\, Weimar\, Thüringen\, 99425\, Deutschland
CATEGORIES:Gottesdienste
ATTACH;FMTTYPE=image/jpeg:https://weimar-evangelisch.de/wp-content/uploads/2023/05/Klinikum_co_Neuwirt.jpg
END:VEVENT
BEGIN:VEVENT
DTSTART;TZID=Europe/Berlin:20260517T100000
DTEND;TZID=Europe/Berlin:20260517T110000
DTSTAMP:20260422T124925
CREATED:20251016T095926Z
LAST-MODIFIED:20260316T123820Z
UID:18721-1779012000-1779015600@weimar-evangelisch.de
SUMMARY:Gottesdienst
DESCRIPTION:
URL:https://weimar-evangelisch.de/veranstaltung/gottesdienst-172-2026-05-17/2026-05-17/
LOCATION:Gemeinderaum im Evangelischen Kinderhaus „Sonnenhügel“\, Bonhoefferstraße 73a\, Weimar\, Thüringen\, 99427\, Deutschland
CATEGORIES:Gottesdienste
ATTACH;FMTTYPE=image/jpeg:https://weimar-evangelisch.de/wp-content/uploads/2022/03/evangelischen_kinderhaus_sonnenhügel_weimar_adresse.jpg
END:VEVENT
BEGIN:VEVENT
DTSTART;TZID=Europe/Berlin:20260517T113000
DTEND;TZID=Europe/Berlin:20260517T120000
DTSTAMP:20260422T124925
CREATED:20260107T120014Z
LAST-MODIFIED:20260107T120014Z
UID:20081-1779017400-1779019200@weimar-evangelisch.de
SUMMARY:Familienkirche
DESCRIPTION:
URL:https://weimar-evangelisch.de/veranstaltung/familienkirche-10/2026-05-17/
LOCATION:Kreuzkirche\, Böhlaustraße 2\, Weimar\, Thüringen\, 99423\, Deutschland
CATEGORIES:Gottesdienste
ATTACH;FMTTYPE=image/jpeg:https://weimar-evangelisch.de/wp-content/uploads/2022/03/Angebote_Kinder_und_Familie_jelleke-vanooteghem-uNWuSF4WwXc-unsplash.jpg
END:VEVENT
BEGIN:VEVENT
DTSTART;TZID=Europe/Berlin:20260517T140000
DTEND;TZID=Europe/Berlin:20260517T150000
DTSTAMP:20260422T124925
CREATED:20251016T093147Z
LAST-MODIFIED:20260113T142558Z
UID:18562-1779026400-1779030000@weimar-evangelisch.de
SUMMARY:Festgottesdienst zum Sonntag Exaudi
DESCRIPTION:Einführung der Superintendentin des Kirchenkreises Weimar-Apolda\, Dr. Constance Hartung\nBachchor Weimar
URL:https://weimar-evangelisch.de/veranstaltung/gottesdienst-168-2026-05-17/
LOCATION:Herderkirche\, Herderplatz 8\, Weimar\, 99423\, Deutschland
CATEGORIES:Gottesdienste
ATTACH;FMTTYPE=image/jpeg:https://weimar-evangelisch.de/wp-content/uploads/2022/04/Herderkirche_Weimar_Guido_Werner_s2594_0542-scaled-e1652940186688.jpg
END:VEVENT
BEGIN:VEVENT
DTSTART;TZID=Europe/Berlin:20260518T120000
DTEND;TZID=Europe/Berlin:20260518T120700
DTSTAMP:20260422T124925
CREATED:20220419T114300Z
LAST-MODIFIED:20260316T131010Z
UID:21166-1779105600-1779106020@weimar-evangelisch.de
SUMMARY:Mittagsgebet
DESCRIPTION:7-Minuten-Gebet
URL:https://weimar-evangelisch.de/veranstaltung/mittagsgebet/2026-05-18/
LOCATION:Herderkirche\, Herderplatz 8\, Weimar\, 99423\, Deutschland
CATEGORIES:Gottesdienste,Veranstaltungen
ATTACH;FMTTYPE=image/jpeg:https://weimar-evangelisch.de/wp-content/uploads/2022/04/ChorWebsite.jpg
END:VEVENT
BEGIN:VEVENT
DTSTART;TZID=Europe/Berlin:20260519T120000
DTEND;TZID=Europe/Berlin:20260519T120700
DTSTAMP:20260422T124925
CREATED:20220419T114300Z
LAST-MODIFIED:20260316T131010Z
UID:21167-1779192000-1779192420@weimar-evangelisch.de
SUMMARY:Mittagsgebet
DESCRIPTION:7-Minuten-Gebet
URL:https://weimar-evangelisch.de/veranstaltung/mittagsgebet/2026-05-19/
LOCATION:Herderkirche\, Herderplatz 8\, Weimar\, 99423\, Deutschland
CATEGORIES:Gottesdienste,Veranstaltungen
ATTACH;FMTTYPE=image/jpeg:https://weimar-evangelisch.de/wp-content/uploads/2022/04/ChorWebsite.jpg
END:VEVENT
END:VCALENDAR