BEGIN:VCALENDAR
VERSION:2.0
PRODID:-//Weimar Evangelisch - ECPv6.6.1//NONSGML v1.0//EN
CALSCALE:GREGORIAN
METHOD:PUBLISH
X-ORIGINAL-URL:https://weimar-evangelisch.de
X-WR-CALDESC:Veranstaltungen für Weimar Evangelisch
REFRESH-INTERVAL;VALUE=DURATION:PT1H
X-Robots-Tag:noindex
X-PUBLISHED-TTL:PT1H
BEGIN:VTIMEZONE
TZID:Europe/Berlin
BEGIN:DAYLIGHT
TZOFFSETFROM:+0100
TZOFFSETTO:+0200
TZNAME:CEST
DTSTART:20260329T010000
END:DAYLIGHT
BEGIN:STANDARD
TZOFFSETFROM:+0200
TZOFFSETTO:+0100
TZNAME:CET
DTSTART:20261025T010000
END:STANDARD
END:VTIMEZONE
BEGIN:VEVENT
DTSTART;TZID=Europe/Berlin:20261207T120000
DTEND;TZID=Europe/Berlin:20261207T120700
DTSTAMP:20260425T022816
CREATED:20220419T114300Z
LAST-MODIFIED:20260316T131051Z
UID:21311-1796644800-1796645220@weimar-evangelisch.de
SUMMARY:Mittagsgebet
DESCRIPTION:7-Minuten-Gebet
URL:https://weimar-evangelisch.de/veranstaltung/mittagsgebet/2026-12-07/
LOCATION:Herderkirche\, Herderplatz 8\, Weimar\, 99423\, Deutschland
CATEGORIES:Gottesdienste,Veranstaltungen
ATTACH;FMTTYPE=image/jpeg:https://weimar-evangelisch.de/wp-content/uploads/2022/04/ChorWebsite.jpg
END:VEVENT
BEGIN:VEVENT
DTSTART;TZID=Europe/Berlin:20261207T170000
DTEND;TZID=Europe/Berlin:20261207T173000
DTSTAMP:20260425T022816
CREATED:20251015T113929Z
LAST-MODIFIED:20251015T113929Z
UID:20328-1796662800-1796664600@weimar-evangelisch.de
SUMMARY:„Wir sagen Euch an den lieben Advent“
DESCRIPTION:Singen im Advent für Groß und Klein zum Mitsingen und Zuhören \nKMD Johannes Kleinjung – Leitung
URL:https://weimar-evangelisch.de/veranstaltung/wir-sagen-euch-an-den-lieben-advent-4/2026-12-07/
LOCATION:Herderkirche\, Herderplatz 8\, Weimar\, 99423\, Deutschland
CATEGORIES:Gottesdienste,Veranstaltungen
ATTACH;FMTTYPE=image/jpeg:https://weimar-evangelisch.de/wp-content/uploads/2022/11/AdventsliedersingenQuer-scaled.jpg
END:VEVENT
END:VCALENDAR