BEGIN:VCALENDAR
VERSION:2.0
PRODID:-//Weimar Evangelisch - ECPv6.6.1//NONSGML v1.0//EN
CALSCALE:GREGORIAN
METHOD:PUBLISH
X-ORIGINAL-URL:https://weimar-evangelisch.de
X-WR-CALDESC:Veranstaltungen für Weimar Evangelisch
REFRESH-INTERVAL;VALUE=DURATION:PT1H
X-Robots-Tag:noindex
X-PUBLISHED-TTL:PT1H
BEGIN:VTIMEZONE
TZID:Europe/Berlin
BEGIN:DAYLIGHT
TZOFFSETFROM:+0100
TZOFFSETTO:+0200
TZNAME:CEST
DTSTART:20260329T010000
END:DAYLIGHT
BEGIN:STANDARD
TZOFFSETFROM:+0200
TZOFFSETTO:+0100
TZNAME:CET
DTSTART:20261025T010000
END:STANDARD
END:VTIMEZONE
BEGIN:VEVENT
DTSTART;TZID=Europe/Berlin:20261129T093000
DTEND;TZID=Europe/Berlin:20261129T103000
DTSTAMP:20260424T234304
CREATED:20251016T100810Z
LAST-MODIFIED:20251016T100810Z
UID:18781-1795944600-1795948200@weimar-evangelisch.de
SUMMARY:Gottesdienst
DESCRIPTION:  \n 
URL:https://weimar-evangelisch.de/veranstaltung/gottesdienst-175/2026-11-29/
LOCATION:Evangelisches Gemeindezentrum „Paul Schneider“\, Moskauer Straße 1a\, Weimar\, Thüringen\, 99427\, Deutschland
CATEGORIES:Gottesdienste
ATTACH;FMTTYPE=image/jpeg:https://weimar-evangelisch.de/wp-content/uploads/2021/06/weimarer_kirchen2_klein.jpg
END:VEVENT
BEGIN:VEVENT
DTSTART;TZID=Europe/Berlin:20261129T100000
DTEND;TZID=Europe/Berlin:20261129T110000
DTSTAMP:20260424T234304
CREATED:20250311T095924Z
LAST-MODIFIED:20250311T095924Z
UID:18524-1795946400-1795950000@weimar-evangelisch.de
SUMMARY:Gottesdienst
DESCRIPTION:
URL:https://weimar-evangelisch.de/veranstaltung/gottesdienst-133-2025-05-04-2/2026-11-29/
LOCATION:Jakobskirche\, Am Jakobskirchhof 9\, Weimar\, Thüringen\, 99423\, Deutschland
CATEGORIES:Gottesdienste
ATTACH;FMTTYPE=image/jpeg:https://weimar-evangelisch.de/wp-content/uploads/2022/01/Jakobskirche_Weimar_s2528_0048.jpg
END:VEVENT
BEGIN:VEVENT
DTSTART;TZID=Europe/Berlin:20261129T100000
DTEND;TZID=Europe/Berlin:20261129T110000
DTSTAMP:20260424T234304
CREATED:20250603T135629Z
LAST-MODIFIED:20250603T135629Z
UID:18643-1795946400-1795950000@weimar-evangelisch.de
SUMMARY:Gottesdienst
DESCRIPTION:
URL:https://weimar-evangelisch.de/veranstaltung/gottesdienst-162/2026-11-29/
LOCATION:Kreuzkirche\, Böhlaustraße 2\, Weimar\, Thüringen\, 99423\, Deutschland
CATEGORIES:Gottesdienste
ATTACH;FMTTYPE=image/jpeg:https://weimar-evangelisch.de/wp-content/uploads/2021/05/1090366.jpg
END:VEVENT
BEGIN:VEVENT
DTSTART;TZID=Europe/Berlin:20261129T100000
DTEND;TZID=Europe/Berlin:20261129T110000
DTSTAMP:20260424T234304
CREATED:20251016T093147Z
LAST-MODIFIED:20260113T150058Z
UID:18590-1795946400-1795950000@weimar-evangelisch.de
SUMMARY:Kantatengottesdienst zum 1. Advent
DESCRIPTION:Johann Sebastian Bach\, Kantate BWV 62\n„Nun komm\, der Heiden Heiland“\nBachkantatenensemble Weimar\nEnsemble Hofmusik Weimar\nKMD Johannes Kleinjung – Leitung und Orgel
URL:https://weimar-evangelisch.de/veranstaltung/gottesdienst-168-2026-11-29/
LOCATION:Herderkirche\, Herderplatz 8\, Weimar\, 99423\, Deutschland
CATEGORIES:Gottesdienste
ATTACH;FMTTYPE=image/jpeg:https://weimar-evangelisch.de/wp-content/uploads/2022/04/Herderkirche_Weimar_Guido_Werner_s2594_0542-scaled-e1652940186688.jpg
END:VEVENT
BEGIN:VEVENT
DTSTART;TZID=Europe/Berlin:20261129T100000
DTEND;TZID=Europe/Berlin:20261129T110000
DTSTAMP:20260424T234304
CREATED:20251016T095629Z
LAST-MODIFIED:20260114T085132Z
UID:20357-1795946400-1795950000@weimar-evangelisch.de
SUMMARY:Gottesdienst
DESCRIPTION:
URL:https://weimar-evangelisch.de/veranstaltung/gottesdienst-171/2026-11-29/
LOCATION:Kapelle im Sophien- und Hufelandklinikum\, Henry-van-de-Velde-Straße 2\, Weimar\, Thüringen\, 99425\, Deutschland
CATEGORIES:Gottesdienste
ATTACH;FMTTYPE=image/jpeg:https://weimar-evangelisch.de/wp-content/uploads/2023/05/Klinikum_co_Neuwirt.jpg
END:VEVENT
BEGIN:VEVENT
DTSTART;TZID=Europe/Berlin:20261129T170000
DTEND;TZID=Europe/Berlin:20261129T180000
DTSTAMP:20260424T234304
CREATED:20260113T150823Z
LAST-MODIFIED:20260113T151335Z
UID:20295-1795971600-1795975200@weimar-evangelisch.de
SUMMARY:Adventsmusik
DESCRIPTION:Chormusik zum Advent \nFrauenchor VocaLisa Weimar\nClaudia Zohm – Leitung \nEintritt frei
URL:https://weimar-evangelisch.de/veranstaltung/adventsmusik-18/
LOCATION:Herderkirche\, Herderplatz 8\, Weimar\, 99423\, Deutschland
CATEGORIES:Konzerte
ATTACH;FMTTYPE=image/jpeg:https://weimar-evangelisch.de/wp-content/uploads/2022/10/zweiKerzen1-BUm8he.tmp_.jpg
END:VEVENT
END:VCALENDAR