BEGIN:VCALENDAR
VERSION:2.0
PRODID:-//Weimar Evangelisch - ECPv6.6.1//NONSGML v1.0//EN
CALSCALE:GREGORIAN
METHOD:PUBLISH
X-WR-CALNAME:Weimar Evangelisch
X-ORIGINAL-URL:https://weimar-evangelisch.de
X-WR-CALDESC:Veranstaltungen für Weimar Evangelisch
REFRESH-INTERVAL;VALUE=DURATION:PT1H
X-Robots-Tag:noindex
X-PUBLISHED-TTL:PT1H
BEGIN:VTIMEZONE
TZID:Europe/Berlin
BEGIN:DAYLIGHT
TZOFFSETFROM:+0100
TZOFFSETTO:+0200
TZNAME:CEST
DTSTART:20260329T010000
END:DAYLIGHT
BEGIN:STANDARD
TZOFFSETFROM:+0200
TZOFFSETTO:+0100
TZNAME:CET
DTSTART:20261025T010000
END:STANDARD
END:VTIMEZONE
BEGIN:VEVENT
DTSTART;TZID=Europe/Berlin:20260426T100000
DTEND;TZID=Europe/Berlin:20260426T110000
DTSTAMP:20260420T155051
CREATED:20250311T095924Z
LAST-MODIFIED:20260316T124311Z
UID:18493-1777197600-1777201200@weimar-evangelisch.de
SUMMARY:Gottesdienst
DESCRIPTION:Pfarrer Hardy Rylke
URL:https://weimar-evangelisch.de/veranstaltung/gottesdienst-133-2025-05-04-2-2026-04-26/
LOCATION:Jakobskirche\, Am Jakobskirchhof 9\, Weimar\, Thüringen\, 99423\, Deutschland
CATEGORIES:Gottesdienste
ATTACH;FMTTYPE=image/jpeg:https://weimar-evangelisch.de/wp-content/uploads/2022/01/Jakobskirche_Weimar_s2528_0048.jpg
END:VEVENT
BEGIN:VEVENT
DTSTART;TZID=Europe/Berlin:20260426T100000
DTEND;TZID=Europe/Berlin:20260426T110000
DTSTAMP:20260420T155051
CREATED:20250603T135629Z
LAST-MODIFIED:20260324T143756Z
UID:18612-1777197600-1777201200@weimar-evangelisch.de
SUMMARY:Gottesdienst
DESCRIPTION:Pfarrerin Anne Puhr
URL:https://weimar-evangelisch.de/veranstaltung/gottesdienst-162-2026-04-26/
LOCATION:Kreuzkirche\, Böhlaustraße 2\, Weimar\, Thüringen\, 99423\, Deutschland
CATEGORIES:Gottesdienste
ATTACH;FMTTYPE=image/jpeg:https://weimar-evangelisch.de/wp-content/uploads/2021/05/1090366.jpg
END:VEVENT
BEGIN:VEVENT
DTSTART;TZID=Europe/Berlin:20260426T100000
DTEND;TZID=Europe/Berlin:20260426T110000
DTSTAMP:20260420T155051
CREATED:20251016T093147Z
LAST-MODIFIED:20260316T124241Z
UID:18559-1777197600-1777201200@weimar-evangelisch.de
SUMMARY:Gottesdienst
DESCRIPTION:Rektor Ramón Seliger
URL:https://weimar-evangelisch.de/veranstaltung/gottesdienst-168-2026-04-26/
LOCATION:Herderkirche\, Herderplatz 8\, Weimar\, 99423\, Deutschland
CATEGORIES:Gottesdienste
ATTACH;FMTTYPE=image/jpeg:https://weimar-evangelisch.de/wp-content/uploads/2022/04/Herderkirche_Weimar_Guido_Werner_s2594_0542-scaled-e1652940186688.jpg
END:VEVENT
BEGIN:VEVENT
DTSTART;TZID=Europe/Berlin:20260426T100000
DTEND;TZID=Europe/Berlin:20260426T110000
DTSTAMP:20260420T155051
CREATED:20251016T095629Z
LAST-MODIFIED:20260316T124209Z
UID:18690-1777197600-1777201200@weimar-evangelisch.de
SUMMARY:Gottesdienst
DESCRIPTION:Pfarrer i.R. Axel Kramme
URL:https://weimar-evangelisch.de/veranstaltung/gottesdienst-171-2026-04-26/
LOCATION:Kapelle im Sophien- und Hufelandklinikum\, Henry-van-de-Velde-Straße 2\, Weimar\, Thüringen\, 99425\, Deutschland
CATEGORIES:Gottesdienste
ATTACH;FMTTYPE=image/jpeg:https://weimar-evangelisch.de/wp-content/uploads/2023/05/Klinikum_co_Neuwirt.jpg
END:VEVENT
BEGIN:VEVENT
DTSTART;TZID=Europe/Berlin:20260426T113000
DTEND;TZID=Europe/Berlin:20260426T120000
DTSTAMP:20260420T155051
CREATED:20241108T102333Z
LAST-MODIFIED:20241108T102333Z
UID:20071-1777203000-1777204800@weimar-evangelisch.de
SUMMARY:Familienkirche
DESCRIPTION:
URL:https://weimar-evangelisch.de/veranstaltung/familienkirche-9/2026-04-26/
LOCATION:Jakobskirche\, Am Jakobskirchhof 9\, Weimar\, Thüringen\, 99423\, Deutschland
CATEGORIES:Gottesdienste
ATTACH;FMTTYPE=image/jpeg:https://weimar-evangelisch.de/wp-content/uploads/2022/03/Angebote_Kinder_und_Familie_jelleke-vanooteghem-uNWuSF4WwXc-unsplash.jpg
END:VEVENT
BEGIN:VEVENT
DTSTART;TZID=Europe/Berlin:20260426T170000
DTEND;TZID=Europe/Berlin:20260426T180000
DTSTAMP:20260420T155051
CREATED:20251016T100810Z
LAST-MODIFIED:20260407T101851Z
UID:18750-1777222800-1777226400@weimar-evangelisch.de
SUMMARY:Musik und Wort
DESCRIPTION:Pfarrer Peter Gümbel \nJohannes Leonardy (Lübben) und Stephan Gümbel (Cottbus) an Orgel und Horn.
URL:https://weimar-evangelisch.de/veranstaltung/gottesdienst-175-2026-04-26/
LOCATION:Evangelisches Gemeindezentrum „Paul Schneider“\, Moskauer Straße 1a\, Weimar\, Thüringen\, 99427\, Deutschland
CATEGORIES:Gottesdienste
ATTACH;FMTTYPE=image/jpeg:https://weimar-evangelisch.de/wp-content/uploads/2021/06/weimarer_kirchen2_klein.jpg
END:VEVENT
BEGIN:VEVENT
DTSTART;TZID=Europe/Berlin:20260426T170000
DTEND;TZID=Europe/Berlin:20260426T180000
DTSTAMP:20260420T155051
CREATED:20260316T124438Z
LAST-MODIFIED:20260316T124438Z
UID:21039-1777222800-1777226400@weimar-evangelisch.de
SUMMARY:Gottesdienst
DESCRIPTION:Pfarrer Sebastian Kircheis
URL:https://weimar-evangelisch.de/veranstaltung/gottesdienst-198/
LOCATION:Johanneskirche\, Tiefurter Allee 2b\, Weimar\, Thüringen\, 99425\, Deutschland
CATEGORIES:Gottesdienste
ATTACH;FMTTYPE=image/jpeg:https://weimar-evangelisch.de/wp-content/uploads/2022/03/johanneskirche_weimar.jpg
END:VEVENT
END:VCALENDAR