BEGIN:VCALENDAR
VERSION:2.0
PRODID:-//Weimar Evangelisch - ECPv6.6.1//NONSGML v1.0//EN
CALSCALE:GREGORIAN
METHOD:PUBLISH
X-WR-CALNAME:Weimar Evangelisch
X-ORIGINAL-URL:https://weimar-evangelisch.de
X-WR-CALDESC:Veranstaltungen für Weimar Evangelisch
REFRESH-INTERVAL;VALUE=DURATION:PT1H
X-Robots-Tag:noindex
X-PUBLISHED-TTL:PT1H
BEGIN:VTIMEZONE
TZID:Europe/Berlin
BEGIN:DAYLIGHT
TZOFFSETFROM:+0100
TZOFFSETTO:+0200
TZNAME:CEST
DTSTART:20260329T010000
END:DAYLIGHT
BEGIN:STANDARD
TZOFFSETFROM:+0200
TZOFFSETTO:+0100
TZNAME:CET
DTSTART:20261025T010000
END:STANDARD
END:VTIMEZONE
BEGIN:VEVENT
DTSTART;TZID=Europe/Berlin:20260329T100000
DTEND;TZID=Europe/Berlin:20260329T110000
DTSTAMP:20260424T171932
CREATED:20250311T095924Z
LAST-MODIFIED:20260218T101141Z
UID:18489-1774778400-1774782000@weimar-evangelisch.de
SUMMARY:Gottesdienst
DESCRIPTION:Pfarrer Hardy Rylke
URL:https://weimar-evangelisch.de/veranstaltung/gottesdienst-133-2025-05-04-2-2026-03-29/
LOCATION:Jakobskirche\, Am Jakobskirchhof 9\, Weimar\, Thüringen\, 99423\, Deutschland
CATEGORIES:Gottesdienste
ATTACH;FMTTYPE=image/jpeg:https://weimar-evangelisch.de/wp-content/uploads/2022/01/Jakobskirche_Weimar_s2528_0048.jpg
END:VEVENT
BEGIN:VEVENT
DTSTART;TZID=Europe/Berlin:20260329T100000
DTEND;TZID=Europe/Berlin:20260329T110000
DTSTAMP:20260424T171932
CREATED:20250603T135629Z
LAST-MODIFIED:20260218T100717Z
UID:18608-1774778400-1774782000@weimar-evangelisch.de
SUMMARY:Gottesdienst
DESCRIPTION:Pfarrerin Anne Puhr
URL:https://weimar-evangelisch.de/veranstaltung/gottesdienst-162-2026-03-29/
LOCATION:Kreuzkirche\, Böhlaustraße 2\, Weimar\, Thüringen\, 99423\, Deutschland
CATEGORIES:Gottesdienste
ATTACH;FMTTYPE=image/jpeg:https://weimar-evangelisch.de/wp-content/uploads/2021/05/1090366.jpg
END:VEVENT
BEGIN:VEVENT
DTSTART;TZID=Europe/Berlin:20260329T100000
DTEND;TZID=Europe/Berlin:20260329T110000
DTSTAMP:20260424T171932
CREATED:20251016T093147Z
LAST-MODIFIED:20260218T100643Z
UID:18555-1774778400-1774782000@weimar-evangelisch.de
SUMMARY:Gottesdienst
DESCRIPTION:Pfarrerin Dr. Teresa Tenbergen
URL:https://weimar-evangelisch.de/veranstaltung/gottesdienst-168-2026-03-29/
LOCATION:Herderkirche\, Herderplatz 8\, Weimar\, 99423\, Deutschland
CATEGORIES:Gottesdienste
ATTACH;FMTTYPE=image/jpeg:https://weimar-evangelisch.de/wp-content/uploads/2022/04/Herderkirche_Weimar_Guido_Werner_s2594_0542-scaled-e1652940186688.jpg
END:VEVENT
BEGIN:VEVENT
DTSTART;TZID=Europe/Berlin:20260329T100000
DTEND;TZID=Europe/Berlin:20260329T110000
DTSTAMP:20260424T171932
CREATED:20251016T095629Z
LAST-MODIFIED:20260218T100547Z
UID:18686-1774778400-1774782000@weimar-evangelisch.de
SUMMARY:Gottesdienst
DESCRIPTION:Rektor Ramón Seliger
URL:https://weimar-evangelisch.de/veranstaltung/gottesdienst-171-2026-03-29/
LOCATION:Kapelle im Sophien- und Hufelandklinikum\, Henry-van-de-Velde-Straße 2\, Weimar\, Thüringen\, 99425\, Deutschland
CATEGORIES:Gottesdienste
ATTACH;FMTTYPE=image/jpeg:https://weimar-evangelisch.de/wp-content/uploads/2023/05/Klinikum_co_Neuwirt.jpg
END:VEVENT
BEGIN:VEVENT
DTSTART;TZID=Europe/Berlin:20260329T170000
DTEND;TZID=Europe/Berlin:20260329T180000
DTSTAMP:20260424T171932
CREATED:20260218T084433Z
LAST-MODIFIED:20260218T084433Z
UID:20727-1774803600-1774807200@weimar-evangelisch.de
SUMMARY:Musik und Wort
DESCRIPTION:Konzertant gestalteter Gottesdienst mit dem „Duo Klassik Weimar“ mit Yakov Geller (Flöte) und Natascha Trofimova (Klavier). Sie spielen Werke von J. S. Bach\, W. A.\nMozart\, L. van Beethoven\, F. Schubert und J. Brahms. \n 
URL:https://weimar-evangelisch.de/veranstaltung/musik-und-wort-2/
LOCATION:Evangelisches Gemeindezentrum „Paul Schneider“\, Moskauer Straße 1a\, Weimar\, Thüringen\, 99427\, Deutschland
CATEGORIES:Gottesdienste
ATTACH;FMTTYPE=image/jpeg:https://weimar-evangelisch.de/wp-content/uploads/2021/06/weimarer_kirchen2_klein.jpg
END:VEVENT
BEGIN:VEVENT
DTSTART;TZID=Europe/Berlin:20260329T170000
DTEND;TZID=Europe/Berlin:20260329T180000
DTSTAMP:20260424T171932
CREATED:20260218T094829Z
LAST-MODIFIED:20260218T100340Z
UID:20775-1774803600-1774807200@weimar-evangelisch.de
SUMMARY:Gottesdienst
DESCRIPTION:Pfarrer Sebastian Kircheis
URL:https://weimar-evangelisch.de/veranstaltung/gottesdienst-189-2026-03-29/
LOCATION:Johanneskirche\, Tiefurter Allee 2b\, Weimar\, Thüringen\, 99425\, Deutschland
CATEGORIES:Gottesdienste
ATTACH;FMTTYPE=image/jpeg:https://weimar-evangelisch.de/wp-content/uploads/2022/03/johanneskirche_weimar.jpg
END:VEVENT
END:VCALENDAR