BEGIN:VCALENDAR
VERSION:2.0
PRODID:-//Weimar Evangelisch - ECPv6.6.1//NONSGML v1.0//EN
CALSCALE:GREGORIAN
METHOD:PUBLISH
X-WR-CALNAME:Weimar Evangelisch
X-ORIGINAL-URL:https://weimar-evangelisch.de
X-WR-CALDESC:Veranstaltungen für Weimar Evangelisch
REFRESH-INTERVAL;VALUE=DURATION:PT1H
X-Robots-Tag:noindex
X-PUBLISHED-TTL:PT1H
BEGIN:VTIMEZONE
TZID:Europe/Berlin
BEGIN:DAYLIGHT
TZOFFSETFROM:+0100
TZOFFSETTO:+0200
TZNAME:CEST
DTSTART:20230326T010000
END:DAYLIGHT
BEGIN:STANDARD
TZOFFSETFROM:+0200
TZOFFSETTO:+0100
TZNAME:CET
DTSTART:20231029T010000
END:STANDARD
END:VTIMEZONE
BEGIN:VEVENT
DTSTART;TZID=Europe/Berlin:20230529T100000
DTEND;TZID=Europe/Berlin:20230529T110000
DTSTAMP:20260421T112409
CREATED:20230412T091548Z
LAST-MODIFIED:20230412T091548Z
UID:7780-1685354400-1685358000@weimar-evangelisch.de
SUMMARY:Abendmahlsgottesdienst zu Pfingstmontag
DESCRIPTION:Pfarrer Sebastian Kircheis
URL:https://weimar-evangelisch.de/veranstaltung/abendmahlsgottesdienst-zu-pfingstmontag/
LOCATION:Herderkirche\, Herderplatz 8\, Weimar\, 99423\, Deutschland
CATEGORIES:Gottesdienste
ATTACH;FMTTYPE=image/jpeg:https://weimar-evangelisch.de/wp-content/uploads/2022/04/Herderkirche_Weimar_Guido_Werner_s2594_0542-scaled-e1652940186688.jpg
END:VEVENT
BEGIN:VEVENT
DTSTART;TZID=Europe/Berlin:20230529T100000
DTEND;TZID=Europe/Berlin:20230529T110000
DTSTAMP:20260421T112409
CREATED:20230412T114944Z
LAST-MODIFIED:20230412T114944Z
UID:7805-1685354400-1685358000@weimar-evangelisch.de
SUMMARY:Familiengottesdienst zum Mehrgenerationentag
DESCRIPTION:Gemeindepädagoge Franz Schmiedt und Pfarrerin Dr. Teresa Tenbergen
URL:https://weimar-evangelisch.de/veranstaltung/familiengottesdienst-zum-mehrgenerationentag/
LOCATION:Kreuzkirche\, Böhlaustraße 2\, Weimar\, Thüringen\, 99423\, Deutschland
CATEGORIES:Gottesdienste
ATTACH;FMTTYPE=image/jpeg:https://weimar-evangelisch.de/wp-content/uploads/2022/01/Kreuzkirche_Weimar_s2528_0023.jpg
END:VEVENT
BEGIN:VEVENT
DTSTART;TZID=Europe/Berlin:20230529T110000
DTEND;TZID=Europe/Berlin:20230529T120000
DTSTAMP:20260421T112409
CREATED:20230412T092107Z
LAST-MODIFIED:20230412T092107Z
UID:7782-1685358000-1685361600@weimar-evangelisch.de
SUMMARY:Service on Pentecost
DESCRIPTION:englischsprachiger Gottesdienst mit Prof. Dr. Michael Haspel \nJakob Singers
URL:https://weimar-evangelisch.de/veranstaltung/service-on-pentecost/
LOCATION:Jakobskirche\, Am Jakobskirchhof 9\, Weimar\, Thüringen\, 99423\, Deutschland
CATEGORIES:Gottesdienste
ATTACH;FMTTYPE=image/jpeg:https://weimar-evangelisch.de/wp-content/uploads/2022/03/jakobskirche_weimar_07.jpg
END:VEVENT
BEGIN:VEVENT
DTSTART;TZID=Europe/Berlin:20230529T170000
DTEND;TZID=Europe/Berlin:20230529T180000
DTSTAMP:20260421T112409
CREATED:20230412T120219Z
LAST-MODIFIED:20230425T091229Z
UID:7807-1685379600-1685383200@weimar-evangelisch.de
SUMMARY:Waldgottesdienst
DESCRIPTION:Pfarrer Sebastian Kircheis \n  \nBei Regenwetter findet der Gottesdienst in der Johanneskirche statt.
URL:https://weimar-evangelisch.de/veranstaltung/waldgottesdienst/
LOCATION:Webicht\, Thüringen\, Deutschland
CATEGORIES:Gottesdienste
ATTACH;FMTTYPE=image/jpeg:https://weimar-evangelisch.de/wp-content/uploads/2023/04/IMG_0840-scaled.jpeg
END:VEVENT
BEGIN:VEVENT
DTSTART;TZID=Europe/Berlin:20230529T170000
DTEND;TZID=Europe/Berlin:20230529T183000
DTSTAMP:20260421T112409
CREATED:20230502T090419Z
LAST-MODIFIED:20230524T113714Z
UID:8122-1685379600-1685385000@weimar-evangelisch.de
SUMMARY:Orgel & Winddrossel
DESCRIPTION:Michael von Hintzenstern\, Orgel \nMusik aus fünf Jahrhunderten\n \n  \n 
URL:https://weimar-evangelisch.de/veranstaltung/orgel-winddrossel/
LOCATION:Denstedt\, Karl-Marx-Straße\, Denstedt\, Thüringen\, 99441\, Deutschland
CATEGORIES:Veranstaltungen
ATTACH;FMTTYPE=image/jpeg:https://weimar-evangelisch.de/wp-content/uploads/2023/04/RNE_2614_co_Neuwirt.jpg
END:VEVENT
END:VCALENDAR