BEGIN:VCALENDAR
VERSION:2.0
PRODID:-//Weimar Evangelisch - ECPv6.6.1//NONSGML v1.0//EN
CALSCALE:GREGORIAN
METHOD:PUBLISH
X-WR-CALNAME:Weimar Evangelisch
X-ORIGINAL-URL:https://weimar-evangelisch.de
X-WR-CALDESC:Veranstaltungen für Weimar Evangelisch
REFRESH-INTERVAL;VALUE=DURATION:PT1H
X-Robots-Tag:noindex
X-PUBLISHED-TTL:PT1H
BEGIN:VTIMEZONE
TZID:Europe/Berlin
BEGIN:DAYLIGHT
TZOFFSETFROM:+0100
TZOFFSETTO:+0200
TZNAME:CEST
DTSTART:20260329T010000
END:DAYLIGHT
BEGIN:STANDARD
TZOFFSETFROM:+0200
TZOFFSETTO:+0100
TZNAME:CET
DTSTART:20261025T010000
END:STANDARD
END:VTIMEZONE
BEGIN:VEVENT
DTSTART;TZID=Europe/Berlin:20260619T200000
DTEND;TZID=Europe/Berlin:20260619T213000
DTSTAMP:20260421T100536
CREATED:20260107T122601Z
LAST-MODIFIED:20260218T085047Z
UID:20096-1781899200-1781904600@weimar-evangelisch.de
SUMMARY:Wohnzimmerkirche
DESCRIPTION:
URL:https://weimar-evangelisch.de/veranstaltung/wohnzimmerkirche-11-2026-06-19/2026-06-19/
LOCATION:Café Bauhausmuseum\, Stéphane-Hessel-Platz 1\, Weimar\, 99423\, Deutschland
CATEGORIES:Gottesdienste,Veranstaltungen
ATTACH;FMTTYPE=image/jpeg:https://weimar-evangelisch.de/wp-content/uploads/2026/01/Insta_2026_allgemein.jpg
END:VEVENT
BEGIN:VEVENT
DTSTART;TZID=Europe/Berlin:20260911T200000
DTEND;TZID=Europe/Berlin:20260911T213000
DTSTAMP:20260421T100536
CREATED:20260107T122601Z
LAST-MODIFIED:20260218T085047Z
UID:20097-1789156800-1789162200@weimar-evangelisch.de
SUMMARY:Wohnzimmerkirche
DESCRIPTION:
URL:https://weimar-evangelisch.de/veranstaltung/wohnzimmerkirche-11-2026-06-19/2026-09-11/
LOCATION:Café Bauhausmuseum\, Stéphane-Hessel-Platz 1\, Weimar\, 99423\, Deutschland
CATEGORIES:Gottesdienste,Veranstaltungen
ATTACH;FMTTYPE=image/jpeg:https://weimar-evangelisch.de/wp-content/uploads/2026/01/Insta_2026_allgemein.jpg
END:VEVENT
BEGIN:VEVENT
DTSTART;TZID=Europe/Berlin:20261127T200000
DTEND;TZID=Europe/Berlin:20261127T213000
DTSTAMP:20260421T100536
CREATED:20260107T122601Z
LAST-MODIFIED:20260218T085047Z
UID:20098-1795809600-1795815000@weimar-evangelisch.de
SUMMARY:Wohnzimmerkirche
DESCRIPTION:
URL:https://weimar-evangelisch.de/veranstaltung/wohnzimmerkirche-11-2026-06-19/2026-11-27/
LOCATION:Café Bauhausmuseum\, Stéphane-Hessel-Platz 1\, Weimar\, 99423\, Deutschland
CATEGORIES:Gottesdienste,Veranstaltungen
ATTACH;FMTTYPE=image/jpeg:https://weimar-evangelisch.de/wp-content/uploads/2026/01/Insta_2026_allgemein.jpg
END:VEVENT
END:VCALENDAR