BEGIN:VCALENDAR
VERSION:2.0
PRODID:-//Weimar Evangelisch - ECPv6.6.1//NONSGML v1.0//EN
CALSCALE:GREGORIAN
METHOD:PUBLISH
X-ORIGINAL-URL:https://weimar-evangelisch.de
X-WR-CALDESC:Veranstaltungen für Weimar Evangelisch
REFRESH-INTERVAL;VALUE=DURATION:PT1H
X-Robots-Tag:noindex
X-PUBLISHED-TTL:PT1H
BEGIN:VTIMEZONE
TZID:Europe/Berlin
BEGIN:DAYLIGHT
TZOFFSETFROM:+0100
TZOFFSETTO:+0200
TZNAME:CEST
DTSTART:20260329T010000
END:DAYLIGHT
BEGIN:STANDARD
TZOFFSETFROM:+0200
TZOFFSETTO:+0100
TZNAME:CET
DTSTART:20261025T010000
END:STANDARD
END:VTIMEZONE
BEGIN:VEVENT
DTSTART;TZID=Europe/Berlin:20261130T170000
DTEND;TZID=Europe/Berlin:20261130T173000
DTSTAMP:20260419T234538
CREATED:20251015T113929Z
LAST-MODIFIED:20260114T082458Z
UID:18396-1796058000-1796059800@weimar-evangelisch.de
SUMMARY:„Wir sagen Euch an den lieben Advent“
DESCRIPTION:Singen im Advent für Groß und Klein zum Mitsingen und Zuhören \nKMD Johannes Kleinjung – Leitung
URL:https://weimar-evangelisch.de/veranstaltung/wir-sagen-euch-an-den-lieben-advent-4/2026-11-30/
LOCATION:Herderkirche\, Herderplatz 8\, Weimar\, 99423\, Deutschland
CATEGORIES:Gottesdienste,Veranstaltungen
ATTACH;FMTTYPE=image/jpeg:https://weimar-evangelisch.de/wp-content/uploads/2022/11/AdventsliedersingenQuer-scaled.jpg
END:VEVENT
BEGIN:VEVENT
DTSTART;TZID=Europe/Berlin:20261201T170000
DTEND;TZID=Europe/Berlin:20261201T173000
DTSTAMP:20260419T234538
CREATED:20251015T113929Z
LAST-MODIFIED:20251015T113929Z
UID:20324-1796144400-1796146200@weimar-evangelisch.de
SUMMARY:„Wir sagen Euch an den lieben Advent“
DESCRIPTION:Singen im Advent für Groß und Klein zum Mitsingen und Zuhören \nKMD Johannes Kleinjung – Leitung
URL:https://weimar-evangelisch.de/veranstaltung/wir-sagen-euch-an-den-lieben-advent-4/2026-12-01/
LOCATION:Herderkirche\, Herderplatz 8\, Weimar\, 99423\, Deutschland
CATEGORIES:Gottesdienste,Veranstaltungen
ATTACH;FMTTYPE=image/jpeg:https://weimar-evangelisch.de/wp-content/uploads/2022/11/AdventsliedersingenQuer-scaled.jpg
END:VEVENT
BEGIN:VEVENT
DTSTART;TZID=Europe/Berlin:20261202T170000
DTEND;TZID=Europe/Berlin:20261202T173000
DTSTAMP:20260419T234538
CREATED:20251015T113929Z
LAST-MODIFIED:20251015T113929Z
UID:20325-1796230800-1796232600@weimar-evangelisch.de
SUMMARY:„Wir sagen Euch an den lieben Advent“
DESCRIPTION:Singen im Advent für Groß und Klein zum Mitsingen und Zuhören \nKMD Johannes Kleinjung – Leitung
URL:https://weimar-evangelisch.de/veranstaltung/wir-sagen-euch-an-den-lieben-advent-4/2026-12-02/
LOCATION:Herderkirche\, Herderplatz 8\, Weimar\, 99423\, Deutschland
CATEGORIES:Gottesdienste,Veranstaltungen
ATTACH;FMTTYPE=image/jpeg:https://weimar-evangelisch.de/wp-content/uploads/2022/11/AdventsliedersingenQuer-scaled.jpg
END:VEVENT
BEGIN:VEVENT
DTSTART;TZID=Europe/Berlin:20261203T170000
DTEND;TZID=Europe/Berlin:20261203T173000
DTSTAMP:20260419T234538
CREATED:20251015T113929Z
LAST-MODIFIED:20251015T113929Z
UID:20326-1796317200-1796319000@weimar-evangelisch.de
SUMMARY:„Wir sagen Euch an den lieben Advent“
DESCRIPTION:Singen im Advent für Groß und Klein zum Mitsingen und Zuhören \nKMD Johannes Kleinjung – Leitung
URL:https://weimar-evangelisch.de/veranstaltung/wir-sagen-euch-an-den-lieben-advent-4/2026-12-03/
LOCATION:Herderkirche\, Herderplatz 8\, Weimar\, 99423\, Deutschland
CATEGORIES:Gottesdienste,Veranstaltungen
ATTACH;FMTTYPE=image/jpeg:https://weimar-evangelisch.de/wp-content/uploads/2022/11/AdventsliedersingenQuer-scaled.jpg
END:VEVENT
BEGIN:VEVENT
DTSTART;TZID=Europe/Berlin:20261204T170000
DTEND;TZID=Europe/Berlin:20261204T173000
DTSTAMP:20260419T234538
CREATED:20251015T113929Z
LAST-MODIFIED:20251015T113929Z
UID:20327-1796403600-1796405400@weimar-evangelisch.de
SUMMARY:„Wir sagen Euch an den lieben Advent“
DESCRIPTION:Singen im Advent für Groß und Klein zum Mitsingen und Zuhören \nKMD Johannes Kleinjung – Leitung
URL:https://weimar-evangelisch.de/veranstaltung/wir-sagen-euch-an-den-lieben-advent-4/2026-12-04/
LOCATION:Herderkirche\, Herderplatz 8\, Weimar\, 99423\, Deutschland
CATEGORIES:Gottesdienste,Veranstaltungen
ATTACH;FMTTYPE=image/jpeg:https://weimar-evangelisch.de/wp-content/uploads/2022/11/AdventsliedersingenQuer-scaled.jpg
END:VEVENT
BEGIN:VEVENT
DTSTART;TZID=Europe/Berlin:20261207T170000
DTEND;TZID=Europe/Berlin:20261207T173000
DTSTAMP:20260419T234538
CREATED:20251015T113929Z
LAST-MODIFIED:20251015T113929Z
UID:20328-1796662800-1796664600@weimar-evangelisch.de
SUMMARY:„Wir sagen Euch an den lieben Advent“
DESCRIPTION:Singen im Advent für Groß und Klein zum Mitsingen und Zuhören \nKMD Johannes Kleinjung – Leitung
URL:https://weimar-evangelisch.de/veranstaltung/wir-sagen-euch-an-den-lieben-advent-4/2026-12-07/
LOCATION:Herderkirche\, Herderplatz 8\, Weimar\, 99423\, Deutschland
CATEGORIES:Gottesdienste,Veranstaltungen
ATTACH;FMTTYPE=image/jpeg:https://weimar-evangelisch.de/wp-content/uploads/2022/11/AdventsliedersingenQuer-scaled.jpg
END:VEVENT
BEGIN:VEVENT
DTSTART;TZID=Europe/Berlin:20261208T170000
DTEND;TZID=Europe/Berlin:20261208T173000
DTSTAMP:20260419T234538
CREATED:20251015T113929Z
LAST-MODIFIED:20251015T113929Z
UID:20329-1796749200-1796751000@weimar-evangelisch.de
SUMMARY:„Wir sagen Euch an den lieben Advent“
DESCRIPTION:Singen im Advent für Groß und Klein zum Mitsingen und Zuhören \nKMD Johannes Kleinjung – Leitung
URL:https://weimar-evangelisch.de/veranstaltung/wir-sagen-euch-an-den-lieben-advent-4/2026-12-08/
LOCATION:Herderkirche\, Herderplatz 8\, Weimar\, 99423\, Deutschland
CATEGORIES:Gottesdienste,Veranstaltungen
ATTACH;FMTTYPE=image/jpeg:https://weimar-evangelisch.de/wp-content/uploads/2022/11/AdventsliedersingenQuer-scaled.jpg
END:VEVENT
BEGIN:VEVENT
DTSTART;TZID=Europe/Berlin:20261209T170000
DTEND;TZID=Europe/Berlin:20261209T173000
DTSTAMP:20260419T234538
CREATED:20251015T113929Z
LAST-MODIFIED:20251015T113929Z
UID:20330-1796835600-1796837400@weimar-evangelisch.de
SUMMARY:„Wir sagen Euch an den lieben Advent“
DESCRIPTION:Singen im Advent für Groß und Klein zum Mitsingen und Zuhören \nKMD Johannes Kleinjung – Leitung
URL:https://weimar-evangelisch.de/veranstaltung/wir-sagen-euch-an-den-lieben-advent-4/2026-12-09/
LOCATION:Herderkirche\, Herderplatz 8\, Weimar\, 99423\, Deutschland
CATEGORIES:Gottesdienste,Veranstaltungen
ATTACH;FMTTYPE=image/jpeg:https://weimar-evangelisch.de/wp-content/uploads/2022/11/AdventsliedersingenQuer-scaled.jpg
END:VEVENT
BEGIN:VEVENT
DTSTART;TZID=Europe/Berlin:20261210T170000
DTEND;TZID=Europe/Berlin:20261210T173000
DTSTAMP:20260419T234538
CREATED:20251015T113929Z
LAST-MODIFIED:20251015T113929Z
UID:20331-1796922000-1796923800@weimar-evangelisch.de
SUMMARY:„Wir sagen Euch an den lieben Advent“
DESCRIPTION:Singen im Advent für Groß und Klein zum Mitsingen und Zuhören \nKMD Johannes Kleinjung – Leitung
URL:https://weimar-evangelisch.de/veranstaltung/wir-sagen-euch-an-den-lieben-advent-4/2026-12-10/
LOCATION:Herderkirche\, Herderplatz 8\, Weimar\, 99423\, Deutschland
CATEGORIES:Gottesdienste,Veranstaltungen
ATTACH;FMTTYPE=image/jpeg:https://weimar-evangelisch.de/wp-content/uploads/2022/11/AdventsliedersingenQuer-scaled.jpg
END:VEVENT
BEGIN:VEVENT
DTSTART;TZID=Europe/Berlin:20261211T170000
DTEND;TZID=Europe/Berlin:20261211T173000
DTSTAMP:20260419T234538
CREATED:20251015T113929Z
LAST-MODIFIED:20251015T113929Z
UID:20332-1797008400-1797010200@weimar-evangelisch.de
SUMMARY:„Wir sagen Euch an den lieben Advent“
DESCRIPTION:Singen im Advent für Groß und Klein zum Mitsingen und Zuhören \nKMD Johannes Kleinjung – Leitung
URL:https://weimar-evangelisch.de/veranstaltung/wir-sagen-euch-an-den-lieben-advent-4/2026-12-11/
LOCATION:Herderkirche\, Herderplatz 8\, Weimar\, 99423\, Deutschland
CATEGORIES:Gottesdienste,Veranstaltungen
ATTACH;FMTTYPE=image/jpeg:https://weimar-evangelisch.de/wp-content/uploads/2022/11/AdventsliedersingenQuer-scaled.jpg
END:VEVENT
BEGIN:VEVENT
DTSTART;TZID=Europe/Berlin:20261214T170000
DTEND;TZID=Europe/Berlin:20261214T173000
DTSTAMP:20260419T234538
CREATED:20251015T113929Z
LAST-MODIFIED:20251015T113929Z
UID:20333-1797267600-1797269400@weimar-evangelisch.de
SUMMARY:„Wir sagen Euch an den lieben Advent“
DESCRIPTION:Singen im Advent für Groß und Klein zum Mitsingen und Zuhören \nKMD Johannes Kleinjung – Leitung
URL:https://weimar-evangelisch.de/veranstaltung/wir-sagen-euch-an-den-lieben-advent-4/2026-12-14/
LOCATION:Herderkirche\, Herderplatz 8\, Weimar\, 99423\, Deutschland
CATEGORIES:Gottesdienste,Veranstaltungen
ATTACH;FMTTYPE=image/jpeg:https://weimar-evangelisch.de/wp-content/uploads/2022/11/AdventsliedersingenQuer-scaled.jpg
END:VEVENT
BEGIN:VEVENT
DTSTART;TZID=Europe/Berlin:20261215T170000
DTEND;TZID=Europe/Berlin:20261215T173000
DTSTAMP:20260419T234538
CREATED:20251015T113929Z
LAST-MODIFIED:20251015T113929Z
UID:20334-1797354000-1797355800@weimar-evangelisch.de
SUMMARY:„Wir sagen Euch an den lieben Advent“
DESCRIPTION:Singen im Advent für Groß und Klein zum Mitsingen und Zuhören \nKMD Johannes Kleinjung – Leitung
URL:https://weimar-evangelisch.de/veranstaltung/wir-sagen-euch-an-den-lieben-advent-4/2026-12-15/
LOCATION:Herderkirche\, Herderplatz 8\, Weimar\, 99423\, Deutschland
CATEGORIES:Gottesdienste,Veranstaltungen
ATTACH;FMTTYPE=image/jpeg:https://weimar-evangelisch.de/wp-content/uploads/2022/11/AdventsliedersingenQuer-scaled.jpg
END:VEVENT
BEGIN:VEVENT
DTSTART;TZID=Europe/Berlin:20261216T170000
DTEND;TZID=Europe/Berlin:20261216T173000
DTSTAMP:20260419T234538
CREATED:20251015T113929Z
LAST-MODIFIED:20251015T113929Z
UID:20335-1797440400-1797442200@weimar-evangelisch.de
SUMMARY:„Wir sagen Euch an den lieben Advent“
DESCRIPTION:Singen im Advent für Groß und Klein zum Mitsingen und Zuhören \nKMD Johannes Kleinjung – Leitung
URL:https://weimar-evangelisch.de/veranstaltung/wir-sagen-euch-an-den-lieben-advent-4/2026-12-16/
LOCATION:Herderkirche\, Herderplatz 8\, Weimar\, 99423\, Deutschland
CATEGORIES:Gottesdienste,Veranstaltungen
ATTACH;FMTTYPE=image/jpeg:https://weimar-evangelisch.de/wp-content/uploads/2022/11/AdventsliedersingenQuer-scaled.jpg
END:VEVENT
BEGIN:VEVENT
DTSTART;TZID=Europe/Berlin:20261217T170000
DTEND;TZID=Europe/Berlin:20261217T173000
DTSTAMP:20260419T234538
CREATED:20251015T113929Z
LAST-MODIFIED:20251015T113929Z
UID:20336-1797526800-1797528600@weimar-evangelisch.de
SUMMARY:„Wir sagen Euch an den lieben Advent“
DESCRIPTION:Singen im Advent für Groß und Klein zum Mitsingen und Zuhören \nKMD Johannes Kleinjung – Leitung
URL:https://weimar-evangelisch.de/veranstaltung/wir-sagen-euch-an-den-lieben-advent-4/2026-12-17/
LOCATION:Herderkirche\, Herderplatz 8\, Weimar\, 99423\, Deutschland
CATEGORIES:Gottesdienste,Veranstaltungen
ATTACH;FMTTYPE=image/jpeg:https://weimar-evangelisch.de/wp-content/uploads/2022/11/AdventsliedersingenQuer-scaled.jpg
END:VEVENT
BEGIN:VEVENT
DTSTART;TZID=Europe/Berlin:20261218T170000
DTEND;TZID=Europe/Berlin:20261218T173000
DTSTAMP:20260419T234538
CREATED:20251015T113929Z
LAST-MODIFIED:20251015T113929Z
UID:20337-1797613200-1797615000@weimar-evangelisch.de
SUMMARY:„Wir sagen Euch an den lieben Advent“
DESCRIPTION:Singen im Advent für Groß und Klein zum Mitsingen und Zuhören \nKMD Johannes Kleinjung – Leitung
URL:https://weimar-evangelisch.de/veranstaltung/wir-sagen-euch-an-den-lieben-advent-4/2026-12-18/
LOCATION:Herderkirche\, Herderplatz 8\, Weimar\, 99423\, Deutschland
CATEGORIES:Gottesdienste,Veranstaltungen
ATTACH;FMTTYPE=image/jpeg:https://weimar-evangelisch.de/wp-content/uploads/2022/11/AdventsliedersingenQuer-scaled.jpg
END:VEVENT
BEGIN:VEVENT
DTSTART;TZID=Europe/Berlin:20261221T170000
DTEND;TZID=Europe/Berlin:20261221T173000
DTSTAMP:20260419T234538
CREATED:20251015T113929Z
LAST-MODIFIED:20251015T113929Z
UID:20338-1797872400-1797874200@weimar-evangelisch.de
SUMMARY:„Wir sagen Euch an den lieben Advent“
DESCRIPTION:Singen im Advent für Groß und Klein zum Mitsingen und Zuhören \nKMD Johannes Kleinjung – Leitung
URL:https://weimar-evangelisch.de/veranstaltung/wir-sagen-euch-an-den-lieben-advent-4/2026-12-21/
LOCATION:Herderkirche\, Herderplatz 8\, Weimar\, 99423\, Deutschland
CATEGORIES:Gottesdienste,Veranstaltungen
ATTACH;FMTTYPE=image/jpeg:https://weimar-evangelisch.de/wp-content/uploads/2022/11/AdventsliedersingenQuer-scaled.jpg
END:VEVENT
BEGIN:VEVENT
DTSTART;TZID=Europe/Berlin:20261222T170000
DTEND;TZID=Europe/Berlin:20261222T173000
DTSTAMP:20260419T234538
CREATED:20251015T113929Z
LAST-MODIFIED:20251015T113929Z
UID:20339-1797958800-1797960600@weimar-evangelisch.de
SUMMARY:„Wir sagen Euch an den lieben Advent“
DESCRIPTION:Singen im Advent für Groß und Klein zum Mitsingen und Zuhören \nKMD Johannes Kleinjung – Leitung
URL:https://weimar-evangelisch.de/veranstaltung/wir-sagen-euch-an-den-lieben-advent-4/2026-12-22/
LOCATION:Herderkirche\, Herderplatz 8\, Weimar\, 99423\, Deutschland
CATEGORIES:Gottesdienste,Veranstaltungen
ATTACH;FMTTYPE=image/jpeg:https://weimar-evangelisch.de/wp-content/uploads/2022/11/AdventsliedersingenQuer-scaled.jpg
END:VEVENT
BEGIN:VEVENT
DTSTART;TZID=Europe/Berlin:20261223T170000
DTEND;TZID=Europe/Berlin:20261223T173000
DTSTAMP:20260419T234538
CREATED:20251015T113929Z
LAST-MODIFIED:20251015T113929Z
UID:20340-1798045200-1798047000@weimar-evangelisch.de
SUMMARY:„Wir sagen Euch an den lieben Advent“
DESCRIPTION:Singen im Advent für Groß und Klein zum Mitsingen und Zuhören \nKMD Johannes Kleinjung – Leitung
URL:https://weimar-evangelisch.de/veranstaltung/wir-sagen-euch-an-den-lieben-advent-4/2026-12-23/
LOCATION:Herderkirche\, Herderplatz 8\, Weimar\, 99423\, Deutschland
CATEGORIES:Gottesdienste,Veranstaltungen
ATTACH;FMTTYPE=image/jpeg:https://weimar-evangelisch.de/wp-content/uploads/2022/11/AdventsliedersingenQuer-scaled.jpg
END:VEVENT
END:VCALENDAR