BEGIN:VCALENDAR
VERSION:2.0
PRODID:-//Weimar Evangelisch - ECPv6.6.1//NONSGML v1.0//EN
CALSCALE:GREGORIAN
METHOD:PUBLISH
X-ORIGINAL-URL:https://weimar-evangelisch.de
X-WR-CALDESC:Veranstaltungen für Weimar Evangelisch
REFRESH-INTERVAL;VALUE=DURATION:PT1H
X-Robots-Tag:noindex
X-PUBLISHED-TTL:PT1H
BEGIN:VTIMEZONE
TZID:Europe/Berlin
BEGIN:DAYLIGHT
TZOFFSETFROM:+0100
TZOFFSETTO:+0200
TZNAME:CEST
DTSTART:20230326T010000
END:DAYLIGHT
BEGIN:STANDARD
TZOFFSETFROM:+0200
TZOFFSETTO:+0100
TZNAME:CET
DTSTART:20231029T010000
END:STANDARD
END:VTIMEZONE
BEGIN:VEVENT
DTSTART;TZID=Europe/Berlin:20231204T170000
DTEND;TZID=Europe/Berlin:20231204T173000
DTSTAMP:20260425T015505
CREATED:20221007T110751Z
LAST-MODIFIED:20230822T105300Z
UID:5772-1701709200-1701711000@weimar-evangelisch.de
SUMMARY:„Wir sagen Euch an den lieben Advent“
DESCRIPTION:Singen im Advent für Groß und Klein\nzum Mitsingen und Zuhören \nKMD Johannes Kleinjung – Leitung
URL:https://weimar-evangelisch.de/veranstaltung/wir-sagen-euch-an-den-lieben-advent-2/2023-12-04/
LOCATION:Herderkirche\, Herderplatz 8\, Weimar\, 99423\, Deutschland
CATEGORIES:Kirchenmusik Herderkirche,Veranstaltungen
ATTACH;FMTTYPE=image/jpeg:https://weimar-evangelisch.de/wp-content/uploads/2022/10/Stars-qeFdSx.tmp_.jpg
END:VEVENT
END:VCALENDAR