BEGIN:VCALENDAR
VERSION:2.0
PRODID:-//Weimar Evangelisch - ECPv6.6.1//NONSGML v1.0//EN
CALSCALE:GREGORIAN
METHOD:PUBLISH
X-ORIGINAL-URL:https://weimar-evangelisch.de
X-WR-CALDESC:Veranstaltungen für Weimar Evangelisch
REFRESH-INTERVAL;VALUE=DURATION:PT1H
X-Robots-Tag:noindex
X-PUBLISHED-TTL:PT1H
BEGIN:VTIMEZONE
TZID:Europe/Berlin
BEGIN:DAYLIGHT
TZOFFSETFROM:+0100
TZOFFSETTO:+0200
TZNAME:CEST
DTSTART:20240331T010000
END:DAYLIGHT
BEGIN:STANDARD
TZOFFSETFROM:+0200
TZOFFSETTO:+0100
TZNAME:CET
DTSTART:20241027T010000
END:STANDARD
END:VTIMEZONE
BEGIN:VEVENT
DTSTART;TZID=Europe/Berlin:20241227T120000
DTEND;TZID=Europe/Berlin:20241227T121000
DTSTAMP:20260424T230510
CREATED:20220419T114716Z
LAST-MODIFIED:20220419T114716Z
UID:10699-1735300800-1735301400@weimar-evangelisch.de
SUMMARY:Versöhnungsgebet
DESCRIPTION:Liturgie der Nagelkreuzgemeinde von Coventry
URL:https://weimar-evangelisch.de/veranstaltung/versoehnungsgebet/2024-12-27/
LOCATION:Herderkirche\, Herderplatz 8\, Weimar\, 99423\, Deutschland
CATEGORIES:Gottesdienste
ATTACH;FMTTYPE=image/jpeg:https://weimar-evangelisch.de/wp-content/uploads/2022/04/Nagelkreuz5.jpg
END:VEVENT
BEGIN:VEVENT
DTSTART;TZID=Europe/Berlin:20241220T120000
DTEND;TZID=Europe/Berlin:20241220T121000
DTSTAMP:20260424T230510
CREATED:20220419T114716Z
LAST-MODIFIED:20220419T114716Z
UID:10698-1734696000-1734696600@weimar-evangelisch.de
SUMMARY:Versöhnungsgebet
DESCRIPTION:Liturgie der Nagelkreuzgemeinde von Coventry
URL:https://weimar-evangelisch.de/veranstaltung/versoehnungsgebet/2024-12-20/
LOCATION:Herderkirche\, Herderplatz 8\, Weimar\, 99423\, Deutschland
CATEGORIES:Gottesdienste
ATTACH;FMTTYPE=image/jpeg:https://weimar-evangelisch.de/wp-content/uploads/2022/04/Nagelkreuz5.jpg
END:VEVENT
BEGIN:VEVENT
DTSTART;TZID=Europe/Berlin:20241213T120000
DTEND;TZID=Europe/Berlin:20241213T121000
DTSTAMP:20260424T230510
CREATED:20220419T114716Z
LAST-MODIFIED:20220419T114716Z
UID:10697-1734091200-1734091800@weimar-evangelisch.de
SUMMARY:Versöhnungsgebet
DESCRIPTION:Liturgie der Nagelkreuzgemeinde von Coventry
URL:https://weimar-evangelisch.de/veranstaltung/versoehnungsgebet/2024-12-13/
LOCATION:Herderkirche\, Herderplatz 8\, Weimar\, 99423\, Deutschland
CATEGORIES:Gottesdienste
ATTACH;FMTTYPE=image/jpeg:https://weimar-evangelisch.de/wp-content/uploads/2022/04/Nagelkreuz5.jpg
END:VEVENT
BEGIN:VEVENT
DTSTART;TZID=Europe/Berlin:20241206T120000
DTEND;TZID=Europe/Berlin:20241206T121000
DTSTAMP:20260424T230510
CREATED:20220419T114716Z
LAST-MODIFIED:20220419T114716Z
UID:10696-1733486400-1733487000@weimar-evangelisch.de
SUMMARY:Versöhnungsgebet
DESCRIPTION:Liturgie der Nagelkreuzgemeinde von Coventry
URL:https://weimar-evangelisch.de/veranstaltung/versoehnungsgebet/2024-12-06/
LOCATION:Herderkirche\, Herderplatz 8\, Weimar\, 99423\, Deutschland
CATEGORIES:Gottesdienste
ATTACH;FMTTYPE=image/jpeg:https://weimar-evangelisch.de/wp-content/uploads/2022/04/Nagelkreuz5.jpg
END:VEVENT
BEGIN:VEVENT
DTSTART;TZID=Europe/Berlin:20241129T120000
DTEND;TZID=Europe/Berlin:20241129T121000
DTSTAMP:20260424T230510
CREATED:20220419T114716Z
LAST-MODIFIED:20220419T114716Z
UID:10695-1732881600-1732882200@weimar-evangelisch.de
SUMMARY:Versöhnungsgebet
DESCRIPTION:Liturgie der Nagelkreuzgemeinde von Coventry
URL:https://weimar-evangelisch.de/veranstaltung/versoehnungsgebet/2024-11-29/
LOCATION:Herderkirche\, Herderplatz 8\, Weimar\, 99423\, Deutschland
CATEGORIES:Gottesdienste
ATTACH;FMTTYPE=image/jpeg:https://weimar-evangelisch.de/wp-content/uploads/2022/04/Nagelkreuz5.jpg
END:VEVENT
BEGIN:VEVENT
DTSTART;TZID=Europe/Berlin:20241122T120000
DTEND;TZID=Europe/Berlin:20241122T121000
DTSTAMP:20260424T230510
CREATED:20220419T114716Z
LAST-MODIFIED:20220419T114716Z
UID:10694-1732276800-1732277400@weimar-evangelisch.de
SUMMARY:Versöhnungsgebet
DESCRIPTION:Liturgie der Nagelkreuzgemeinde von Coventry
URL:https://weimar-evangelisch.de/veranstaltung/versoehnungsgebet/2024-11-22/
LOCATION:Herderkirche\, Herderplatz 8\, Weimar\, 99423\, Deutschland
CATEGORIES:Gottesdienste
ATTACH;FMTTYPE=image/jpeg:https://weimar-evangelisch.de/wp-content/uploads/2022/04/Nagelkreuz5.jpg
END:VEVENT
BEGIN:VEVENT
DTSTART;TZID=Europe/Berlin:20241115T120000
DTEND;TZID=Europe/Berlin:20241115T121000
DTSTAMP:20260424T230510
CREATED:20220419T114716Z
LAST-MODIFIED:20220419T114716Z
UID:10693-1731672000-1731672600@weimar-evangelisch.de
SUMMARY:Versöhnungsgebet
DESCRIPTION:Liturgie der Nagelkreuzgemeinde von Coventry
URL:https://weimar-evangelisch.de/veranstaltung/versoehnungsgebet/2024-11-15/
LOCATION:Herderkirche\, Herderplatz 8\, Weimar\, 99423\, Deutschland
CATEGORIES:Gottesdienste
ATTACH;FMTTYPE=image/jpeg:https://weimar-evangelisch.de/wp-content/uploads/2022/04/Nagelkreuz5.jpg
END:VEVENT
BEGIN:VEVENT
DTSTART;TZID=Europe/Berlin:20241108T120000
DTEND;TZID=Europe/Berlin:20241108T121000
DTSTAMP:20260424T230510
CREATED:20220419T114716Z
LAST-MODIFIED:20220419T114716Z
UID:10692-1731067200-1731067800@weimar-evangelisch.de
SUMMARY:Versöhnungsgebet
DESCRIPTION:Liturgie der Nagelkreuzgemeinde von Coventry
URL:https://weimar-evangelisch.de/veranstaltung/versoehnungsgebet/2024-11-08/
LOCATION:Herderkirche\, Herderplatz 8\, Weimar\, 99423\, Deutschland
CATEGORIES:Gottesdienste
ATTACH;FMTTYPE=image/jpeg:https://weimar-evangelisch.de/wp-content/uploads/2022/04/Nagelkreuz5.jpg
END:VEVENT
BEGIN:VEVENT
DTSTART;TZID=Europe/Berlin:20241101T120000
DTEND;TZID=Europe/Berlin:20241101T121000
DTSTAMP:20260424T230510
CREATED:20220419T114716Z
LAST-MODIFIED:20220419T114716Z
UID:10691-1730462400-1730463000@weimar-evangelisch.de
SUMMARY:Versöhnungsgebet
DESCRIPTION:Liturgie der Nagelkreuzgemeinde von Coventry
URL:https://weimar-evangelisch.de/veranstaltung/versoehnungsgebet/2024-11-01/
LOCATION:Herderkirche\, Herderplatz 8\, Weimar\, 99423\, Deutschland
CATEGORIES:Gottesdienste
ATTACH;FMTTYPE=image/jpeg:https://weimar-evangelisch.de/wp-content/uploads/2022/04/Nagelkreuz5.jpg
END:VEVENT
BEGIN:VEVENT
DTSTART;TZID=Europe/Berlin:20241025T120000
DTEND;TZID=Europe/Berlin:20241025T121000
DTSTAMP:20260424T230510
CREATED:20220419T114716Z
LAST-MODIFIED:20220419T114716Z
UID:10690-1729857600-1729858200@weimar-evangelisch.de
SUMMARY:Versöhnungsgebet
DESCRIPTION:Liturgie der Nagelkreuzgemeinde von Coventry
URL:https://weimar-evangelisch.de/veranstaltung/versoehnungsgebet/2024-10-25/
LOCATION:Herderkirche\, Herderplatz 8\, Weimar\, 99423\, Deutschland
CATEGORIES:Gottesdienste
ATTACH;FMTTYPE=image/jpeg:https://weimar-evangelisch.de/wp-content/uploads/2022/04/Nagelkreuz5.jpg
END:VEVENT
BEGIN:VEVENT
DTSTART;TZID=Europe/Berlin:20241018T120000
DTEND;TZID=Europe/Berlin:20241018T121000
DTSTAMP:20260424T230510
CREATED:20220419T114716Z
LAST-MODIFIED:20220419T114716Z
UID:10689-1729252800-1729253400@weimar-evangelisch.de
SUMMARY:Versöhnungsgebet
DESCRIPTION:Liturgie der Nagelkreuzgemeinde von Coventry
URL:https://weimar-evangelisch.de/veranstaltung/versoehnungsgebet/2024-10-18/
LOCATION:Herderkirche\, Herderplatz 8\, Weimar\, 99423\, Deutschland
CATEGORIES:Gottesdienste
ATTACH;FMTTYPE=image/jpeg:https://weimar-evangelisch.de/wp-content/uploads/2022/04/Nagelkreuz5.jpg
END:VEVENT
BEGIN:VEVENT
DTSTART;TZID=Europe/Berlin:20241011T120000
DTEND;TZID=Europe/Berlin:20241011T121000
DTSTAMP:20260424T230510
CREATED:20220419T114716Z
LAST-MODIFIED:20220419T114716Z
UID:10688-1728648000-1728648600@weimar-evangelisch.de
SUMMARY:Versöhnungsgebet
DESCRIPTION:Liturgie der Nagelkreuzgemeinde von Coventry
URL:https://weimar-evangelisch.de/veranstaltung/versoehnungsgebet/2024-10-11/
LOCATION:Herderkirche\, Herderplatz 8\, Weimar\, 99423\, Deutschland
CATEGORIES:Gottesdienste
ATTACH;FMTTYPE=image/jpeg:https://weimar-evangelisch.de/wp-content/uploads/2022/04/Nagelkreuz5.jpg
END:VEVENT
BEGIN:VEVENT
DTSTART;TZID=Europe/Berlin:20241004T120000
DTEND;TZID=Europe/Berlin:20241004T121000
DTSTAMP:20260424T230510
CREATED:20220419T114716Z
LAST-MODIFIED:20220419T114716Z
UID:10687-1728043200-1728043800@weimar-evangelisch.de
SUMMARY:Versöhnungsgebet
DESCRIPTION:Liturgie der Nagelkreuzgemeinde von Coventry
URL:https://weimar-evangelisch.de/veranstaltung/versoehnungsgebet/2024-10-04/
LOCATION:Herderkirche\, Herderplatz 8\, Weimar\, 99423\, Deutschland
CATEGORIES:Gottesdienste
ATTACH;FMTTYPE=image/jpeg:https://weimar-evangelisch.de/wp-content/uploads/2022/04/Nagelkreuz5.jpg
END:VEVENT
BEGIN:VEVENT
DTSTART;TZID=Europe/Berlin:20240927T120000
DTEND;TZID=Europe/Berlin:20240927T121000
DTSTAMP:20260424T230510
CREATED:20220419T114716Z
LAST-MODIFIED:20220419T114716Z
UID:10686-1727438400-1727439000@weimar-evangelisch.de
SUMMARY:Versöhnungsgebet
DESCRIPTION:Liturgie der Nagelkreuzgemeinde von Coventry
URL:https://weimar-evangelisch.de/veranstaltung/versoehnungsgebet/2024-09-27/
LOCATION:Herderkirche\, Herderplatz 8\, Weimar\, 99423\, Deutschland
CATEGORIES:Gottesdienste
ATTACH;FMTTYPE=image/jpeg:https://weimar-evangelisch.de/wp-content/uploads/2022/04/Nagelkreuz5.jpg
END:VEVENT
BEGIN:VEVENT
DTSTART;TZID=Europe/Berlin:20240920T120000
DTEND;TZID=Europe/Berlin:20240920T121000
DTSTAMP:20260424T230510
CREATED:20220419T114716Z
LAST-MODIFIED:20220419T114716Z
UID:10685-1726833600-1726834200@weimar-evangelisch.de
SUMMARY:Versöhnungsgebet
DESCRIPTION:Liturgie der Nagelkreuzgemeinde von Coventry
URL:https://weimar-evangelisch.de/veranstaltung/versoehnungsgebet/2024-09-20/
LOCATION:Herderkirche\, Herderplatz 8\, Weimar\, 99423\, Deutschland
CATEGORIES:Gottesdienste
ATTACH;FMTTYPE=image/jpeg:https://weimar-evangelisch.de/wp-content/uploads/2022/04/Nagelkreuz5.jpg
END:VEVENT
BEGIN:VEVENT
DTSTART;TZID=Europe/Berlin:20240913T120000
DTEND;TZID=Europe/Berlin:20240913T121000
DTSTAMP:20260424T230510
CREATED:20220419T114716Z
LAST-MODIFIED:20220419T114716Z
UID:10684-1726228800-1726229400@weimar-evangelisch.de
SUMMARY:Versöhnungsgebet
DESCRIPTION:Liturgie der Nagelkreuzgemeinde von Coventry
URL:https://weimar-evangelisch.de/veranstaltung/versoehnungsgebet/2024-09-13/
LOCATION:Herderkirche\, Herderplatz 8\, Weimar\, 99423\, Deutschland
CATEGORIES:Gottesdienste
ATTACH;FMTTYPE=image/jpeg:https://weimar-evangelisch.de/wp-content/uploads/2022/04/Nagelkreuz5.jpg
END:VEVENT
BEGIN:VEVENT
DTSTART;TZID=Europe/Berlin:20240906T120000
DTEND;TZID=Europe/Berlin:20240906T121000
DTSTAMP:20260424T230510
CREATED:20220419T114716Z
LAST-MODIFIED:20220419T114716Z
UID:10683-1725624000-1725624600@weimar-evangelisch.de
SUMMARY:Versöhnungsgebet
DESCRIPTION:Liturgie der Nagelkreuzgemeinde von Coventry
URL:https://weimar-evangelisch.de/veranstaltung/versoehnungsgebet/2024-09-06/
LOCATION:Herderkirche\, Herderplatz 8\, Weimar\, 99423\, Deutschland
CATEGORIES:Gottesdienste
ATTACH;FMTTYPE=image/jpeg:https://weimar-evangelisch.de/wp-content/uploads/2022/04/Nagelkreuz5.jpg
END:VEVENT
BEGIN:VEVENT
DTSTART;TZID=Europe/Berlin:20240830T120000
DTEND;TZID=Europe/Berlin:20240830T121000
DTSTAMP:20260424T230510
CREATED:20220419T114716Z
LAST-MODIFIED:20220419T114716Z
UID:10682-1725019200-1725019800@weimar-evangelisch.de
SUMMARY:Versöhnungsgebet
DESCRIPTION:Liturgie der Nagelkreuzgemeinde von Coventry
URL:https://weimar-evangelisch.de/veranstaltung/versoehnungsgebet/2024-08-30/
LOCATION:Herderkirche\, Herderplatz 8\, Weimar\, 99423\, Deutschland
CATEGORIES:Gottesdienste
ATTACH;FMTTYPE=image/jpeg:https://weimar-evangelisch.de/wp-content/uploads/2022/04/Nagelkreuz5.jpg
END:VEVENT
BEGIN:VEVENT
DTSTART;TZID=Europe/Berlin:20240823T120000
DTEND;TZID=Europe/Berlin:20240823T121000
DTSTAMP:20260424T230510
CREATED:20220419T114716Z
LAST-MODIFIED:20220419T114716Z
UID:10681-1724414400-1724415000@weimar-evangelisch.de
SUMMARY:Versöhnungsgebet
DESCRIPTION:Liturgie der Nagelkreuzgemeinde von Coventry
URL:https://weimar-evangelisch.de/veranstaltung/versoehnungsgebet/2024-08-23/
LOCATION:Herderkirche\, Herderplatz 8\, Weimar\, 99423\, Deutschland
CATEGORIES:Gottesdienste
ATTACH;FMTTYPE=image/jpeg:https://weimar-evangelisch.de/wp-content/uploads/2022/04/Nagelkreuz5.jpg
END:VEVENT
BEGIN:VEVENT
DTSTART;TZID=Europe/Berlin:20240816T120000
DTEND;TZID=Europe/Berlin:20240816T121000
DTSTAMP:20260424T230510
CREATED:20220419T114716Z
LAST-MODIFIED:20220419T114716Z
UID:10680-1723809600-1723810200@weimar-evangelisch.de
SUMMARY:Versöhnungsgebet
DESCRIPTION:Liturgie der Nagelkreuzgemeinde von Coventry
URL:https://weimar-evangelisch.de/veranstaltung/versoehnungsgebet/2024-08-16/
LOCATION:Herderkirche\, Herderplatz 8\, Weimar\, 99423\, Deutschland
CATEGORIES:Gottesdienste
ATTACH;FMTTYPE=image/jpeg:https://weimar-evangelisch.de/wp-content/uploads/2022/04/Nagelkreuz5.jpg
END:VEVENT
BEGIN:VEVENT
DTSTART;TZID=Europe/Berlin:20240809T120000
DTEND;TZID=Europe/Berlin:20240809T121000
DTSTAMP:20260424T230510
CREATED:20220419T114716Z
LAST-MODIFIED:20220419T114716Z
UID:10679-1723204800-1723205400@weimar-evangelisch.de
SUMMARY:Versöhnungsgebet
DESCRIPTION:Liturgie der Nagelkreuzgemeinde von Coventry
URL:https://weimar-evangelisch.de/veranstaltung/versoehnungsgebet/2024-08-09/
LOCATION:Herderkirche\, Herderplatz 8\, Weimar\, 99423\, Deutschland
CATEGORIES:Gottesdienste
ATTACH;FMTTYPE=image/jpeg:https://weimar-evangelisch.de/wp-content/uploads/2022/04/Nagelkreuz5.jpg
END:VEVENT
BEGIN:VEVENT
DTSTART;TZID=Europe/Berlin:20240802T120000
DTEND;TZID=Europe/Berlin:20240802T121000
DTSTAMP:20260424T230510
CREATED:20220419T114716Z
LAST-MODIFIED:20220419T114716Z
UID:10678-1722600000-1722600600@weimar-evangelisch.de
SUMMARY:Versöhnungsgebet
DESCRIPTION:Liturgie der Nagelkreuzgemeinde von Coventry
URL:https://weimar-evangelisch.de/veranstaltung/versoehnungsgebet/2024-08-02/
LOCATION:Herderkirche\, Herderplatz 8\, Weimar\, 99423\, Deutschland
CATEGORIES:Gottesdienste
ATTACH;FMTTYPE=image/jpeg:https://weimar-evangelisch.de/wp-content/uploads/2022/04/Nagelkreuz5.jpg
END:VEVENT
BEGIN:VEVENT
DTSTART;TZID=Europe/Berlin:20240726T120000
DTEND;TZID=Europe/Berlin:20240726T121000
DTSTAMP:20260424T230510
CREATED:20220419T114716Z
LAST-MODIFIED:20220419T114716Z
UID:10677-1721995200-1721995800@weimar-evangelisch.de
SUMMARY:Versöhnungsgebet
DESCRIPTION:Liturgie der Nagelkreuzgemeinde von Coventry
URL:https://weimar-evangelisch.de/veranstaltung/versoehnungsgebet/2024-07-26/
LOCATION:Herderkirche\, Herderplatz 8\, Weimar\, 99423\, Deutschland
CATEGORIES:Gottesdienste
ATTACH;FMTTYPE=image/jpeg:https://weimar-evangelisch.de/wp-content/uploads/2022/04/Nagelkreuz5.jpg
END:VEVENT
BEGIN:VEVENT
DTSTART;TZID=Europe/Berlin:20240719T120000
DTEND;TZID=Europe/Berlin:20240719T121000
DTSTAMP:20260424T230510
CREATED:20220419T114716Z
LAST-MODIFIED:20220419T114716Z
UID:10676-1721390400-1721391000@weimar-evangelisch.de
SUMMARY:Versöhnungsgebet
DESCRIPTION:Liturgie der Nagelkreuzgemeinde von Coventry
URL:https://weimar-evangelisch.de/veranstaltung/versoehnungsgebet/2024-07-19/
LOCATION:Herderkirche\, Herderplatz 8\, Weimar\, 99423\, Deutschland
CATEGORIES:Gottesdienste
ATTACH;FMTTYPE=image/jpeg:https://weimar-evangelisch.de/wp-content/uploads/2022/04/Nagelkreuz5.jpg
END:VEVENT
BEGIN:VEVENT
DTSTART;TZID=Europe/Berlin:20240712T120000
DTEND;TZID=Europe/Berlin:20240712T121000
DTSTAMP:20260424T230510
CREATED:20220419T114716Z
LAST-MODIFIED:20220419T114716Z
UID:10675-1720785600-1720786200@weimar-evangelisch.de
SUMMARY:Versöhnungsgebet
DESCRIPTION:Liturgie der Nagelkreuzgemeinde von Coventry
URL:https://weimar-evangelisch.de/veranstaltung/versoehnungsgebet/2024-07-12/
LOCATION:Herderkirche\, Herderplatz 8\, Weimar\, 99423\, Deutschland
CATEGORIES:Gottesdienste
ATTACH;FMTTYPE=image/jpeg:https://weimar-evangelisch.de/wp-content/uploads/2022/04/Nagelkreuz5.jpg
END:VEVENT
BEGIN:VEVENT
DTSTART;TZID=Europe/Berlin:20240705T120000
DTEND;TZID=Europe/Berlin:20240705T121000
DTSTAMP:20260424T230510
CREATED:20220419T114716Z
LAST-MODIFIED:20220419T114716Z
UID:10674-1720180800-1720181400@weimar-evangelisch.de
SUMMARY:Versöhnungsgebet
DESCRIPTION:Liturgie der Nagelkreuzgemeinde von Coventry
URL:https://weimar-evangelisch.de/veranstaltung/versoehnungsgebet/2024-07-05/
LOCATION:Herderkirche\, Herderplatz 8\, Weimar\, 99423\, Deutschland
CATEGORIES:Gottesdienste
ATTACH;FMTTYPE=image/jpeg:https://weimar-evangelisch.de/wp-content/uploads/2022/04/Nagelkreuz5.jpg
END:VEVENT
BEGIN:VEVENT
DTSTART;TZID=Europe/Berlin:20240628T120000
DTEND;TZID=Europe/Berlin:20240628T121000
DTSTAMP:20260424T230510
CREATED:20220419T114716Z
LAST-MODIFIED:20220419T114716Z
UID:10673-1719576000-1719576600@weimar-evangelisch.de
SUMMARY:Versöhnungsgebet
DESCRIPTION:Liturgie der Nagelkreuzgemeinde von Coventry
URL:https://weimar-evangelisch.de/veranstaltung/versoehnungsgebet/2024-06-28/
LOCATION:Herderkirche\, Herderplatz 8\, Weimar\, 99423\, Deutschland
CATEGORIES:Gottesdienste
ATTACH;FMTTYPE=image/jpeg:https://weimar-evangelisch.de/wp-content/uploads/2022/04/Nagelkreuz5.jpg
END:VEVENT
BEGIN:VEVENT
DTSTART;TZID=Europe/Berlin:20240621T120000
DTEND;TZID=Europe/Berlin:20240621T121000
DTSTAMP:20260424T230510
CREATED:20220419T114716Z
LAST-MODIFIED:20220419T114716Z
UID:10672-1718971200-1718971800@weimar-evangelisch.de
SUMMARY:Versöhnungsgebet
DESCRIPTION:Liturgie der Nagelkreuzgemeinde von Coventry
URL:https://weimar-evangelisch.de/veranstaltung/versoehnungsgebet/2024-06-21/
LOCATION:Herderkirche\, Herderplatz 8\, Weimar\, 99423\, Deutschland
CATEGORIES:Gottesdienste
ATTACH;FMTTYPE=image/jpeg:https://weimar-evangelisch.de/wp-content/uploads/2022/04/Nagelkreuz5.jpg
END:VEVENT
BEGIN:VEVENT
DTSTART;TZID=Europe/Berlin:20240614T120000
DTEND;TZID=Europe/Berlin:20240614T121000
DTSTAMP:20260424T230510
CREATED:20220419T114716Z
LAST-MODIFIED:20220419T114716Z
UID:10671-1718366400-1718367000@weimar-evangelisch.de
SUMMARY:Versöhnungsgebet
DESCRIPTION:Liturgie der Nagelkreuzgemeinde von Coventry
URL:https://weimar-evangelisch.de/veranstaltung/versoehnungsgebet/2024-06-14/
LOCATION:Herderkirche\, Herderplatz 8\, Weimar\, 99423\, Deutschland
CATEGORIES:Gottesdienste
ATTACH;FMTTYPE=image/jpeg:https://weimar-evangelisch.de/wp-content/uploads/2022/04/Nagelkreuz5.jpg
END:VEVENT
BEGIN:VEVENT
DTSTART;TZID=Europe/Berlin:20240607T120000
DTEND;TZID=Europe/Berlin:20240607T121000
DTSTAMP:20260424T230510
CREATED:20220419T114716Z
LAST-MODIFIED:20220419T114716Z
UID:10670-1717761600-1717762200@weimar-evangelisch.de
SUMMARY:Versöhnungsgebet
DESCRIPTION:Liturgie der Nagelkreuzgemeinde von Coventry
URL:https://weimar-evangelisch.de/veranstaltung/versoehnungsgebet/2024-06-07/
LOCATION:Herderkirche\, Herderplatz 8\, Weimar\, 99423\, Deutschland
CATEGORIES:Gottesdienste
ATTACH;FMTTYPE=image/jpeg:https://weimar-evangelisch.de/wp-content/uploads/2022/04/Nagelkreuz5.jpg
END:VEVENT
END:VCALENDAR