BEGIN:VCALENDAR
VERSION:2.0
PRODID:-//Weimar Evangelisch - ECPv6.6.1//NONSGML v1.0//EN
CALSCALE:GREGORIAN
METHOD:PUBLISH
X-ORIGINAL-URL:https://weimar-evangelisch.de
X-WR-CALDESC:Veranstaltungen für Weimar Evangelisch
REFRESH-INTERVAL;VALUE=DURATION:PT1H
X-Robots-Tag:noindex
X-PUBLISHED-TTL:PT1H
BEGIN:VTIMEZONE
TZID:Europe/Berlin
BEGIN:DAYLIGHT
TZOFFSETFROM:+0100
TZOFFSETTO:+0200
TZNAME:CEST
DTSTART:20240331T010000
END:DAYLIGHT
BEGIN:STANDARD
TZOFFSETFROM:+0200
TZOFFSETTO:+0100
TZNAME:CET
DTSTART:20241027T010000
END:STANDARD
END:VTIMEZONE
BEGIN:VEVENT
DTSTART;TZID=Europe/Berlin:20241028T170000
DTEND;TZID=Europe/Berlin:20241028T180000
DTSTAMP:20260424T183805
CREATED:20220411T074416Z
LAST-MODIFIED:20220411T074416Z
UID:11985-1730134800-1730138400@weimar-evangelisch.de
SUMMARY:Kirchenführung
DESCRIPTION:Eine Führung durch die Geschichte der Stadtkirche mit dem berühmten Cranachaltar.
URL:https://weimar-evangelisch.de/veranstaltung/kirchenfuehrung/2024-10-28/
LOCATION:Herderkirche\, Herderplatz 8\, Weimar\, 99423\, Deutschland
CATEGORIES:Führungen,Veranstaltungen
ATTACH;FMTTYPE=image/jpeg:https://weimar-evangelisch.de/wp-content/uploads/2022/04/ChorWebsite.jpg
END:VEVENT
BEGIN:VEVENT
DTSTART;TZID=Europe/Berlin:20241025T170000
DTEND;TZID=Europe/Berlin:20241025T180000
DTSTAMP:20260424T183805
CREATED:20220411T074416Z
LAST-MODIFIED:20220411T074416Z
UID:11984-1729875600-1729879200@weimar-evangelisch.de
SUMMARY:Kirchenführung
DESCRIPTION:Eine Führung durch die Geschichte der Stadtkirche mit dem berühmten Cranachaltar.
URL:https://weimar-evangelisch.de/veranstaltung/kirchenfuehrung/2024-10-25/
LOCATION:Herderkirche\, Herderplatz 8\, Weimar\, 99423\, Deutschland
CATEGORIES:Führungen,Veranstaltungen
ATTACH;FMTTYPE=image/jpeg:https://weimar-evangelisch.de/wp-content/uploads/2022/04/ChorWebsite.jpg
END:VEVENT
BEGIN:VEVENT
DTSTART;TZID=Europe/Berlin:20241021T170000
DTEND;TZID=Europe/Berlin:20241021T180000
DTSTAMP:20260424T183805
CREATED:20220411T074416Z
LAST-MODIFIED:20220411T074416Z
UID:11983-1729530000-1729533600@weimar-evangelisch.de
SUMMARY:Kirchenführung
DESCRIPTION:Eine Führung durch die Geschichte der Stadtkirche mit dem berühmten Cranachaltar.
URL:https://weimar-evangelisch.de/veranstaltung/kirchenfuehrung/2024-10-21/
LOCATION:Herderkirche\, Herderplatz 8\, Weimar\, 99423\, Deutschland
CATEGORIES:Führungen,Veranstaltungen
ATTACH;FMTTYPE=image/jpeg:https://weimar-evangelisch.de/wp-content/uploads/2022/04/ChorWebsite.jpg
END:VEVENT
BEGIN:VEVENT
DTSTART;TZID=Europe/Berlin:20241018T170000
DTEND;TZID=Europe/Berlin:20241018T180000
DTSTAMP:20260424T183805
CREATED:20220411T074416Z
LAST-MODIFIED:20220411T074416Z
UID:11982-1729270800-1729274400@weimar-evangelisch.de
SUMMARY:Kirchenführung
DESCRIPTION:Eine Führung durch die Geschichte der Stadtkirche mit dem berühmten Cranachaltar.
URL:https://weimar-evangelisch.de/veranstaltung/kirchenfuehrung/2024-10-18/
LOCATION:Herderkirche\, Herderplatz 8\, Weimar\, 99423\, Deutschland
CATEGORIES:Führungen,Veranstaltungen
ATTACH;FMTTYPE=image/jpeg:https://weimar-evangelisch.de/wp-content/uploads/2022/04/ChorWebsite.jpg
END:VEVENT
BEGIN:VEVENT
DTSTART;TZID=Europe/Berlin:20241014T170000
DTEND;TZID=Europe/Berlin:20241014T180000
DTSTAMP:20260424T183805
CREATED:20220411T074416Z
LAST-MODIFIED:20220411T074416Z
UID:11981-1728925200-1728928800@weimar-evangelisch.de
SUMMARY:Kirchenführung
DESCRIPTION:Eine Führung durch die Geschichte der Stadtkirche mit dem berühmten Cranachaltar.
URL:https://weimar-evangelisch.de/veranstaltung/kirchenfuehrung/2024-10-14/
LOCATION:Herderkirche\, Herderplatz 8\, Weimar\, 99423\, Deutschland
CATEGORIES:Führungen,Veranstaltungen
ATTACH;FMTTYPE=image/jpeg:https://weimar-evangelisch.de/wp-content/uploads/2022/04/ChorWebsite.jpg
END:VEVENT
BEGIN:VEVENT
DTSTART;TZID=Europe/Berlin:20241011T170000
DTEND;TZID=Europe/Berlin:20241011T180000
DTSTAMP:20260424T183805
CREATED:20220411T074416Z
LAST-MODIFIED:20220411T074416Z
UID:11980-1728666000-1728669600@weimar-evangelisch.de
SUMMARY:Kirchenführung
DESCRIPTION:Eine Führung durch die Geschichte der Stadtkirche mit dem berühmten Cranachaltar.
URL:https://weimar-evangelisch.de/veranstaltung/kirchenfuehrung/2024-10-11/
LOCATION:Herderkirche\, Herderplatz 8\, Weimar\, 99423\, Deutschland
CATEGORIES:Führungen,Veranstaltungen
ATTACH;FMTTYPE=image/jpeg:https://weimar-evangelisch.de/wp-content/uploads/2022/04/ChorWebsite.jpg
END:VEVENT
BEGIN:VEVENT
DTSTART;TZID=Europe/Berlin:20241007T170000
DTEND;TZID=Europe/Berlin:20241007T180000
DTSTAMP:20260424T183805
CREATED:20220411T074416Z
LAST-MODIFIED:20220411T074416Z
UID:11979-1728320400-1728324000@weimar-evangelisch.de
SUMMARY:Kirchenführung
DESCRIPTION:Eine Führung durch die Geschichte der Stadtkirche mit dem berühmten Cranachaltar.
URL:https://weimar-evangelisch.de/veranstaltung/kirchenfuehrung/2024-10-07/
LOCATION:Herderkirche\, Herderplatz 8\, Weimar\, 99423\, Deutschland
CATEGORIES:Führungen,Veranstaltungen
ATTACH;FMTTYPE=image/jpeg:https://weimar-evangelisch.de/wp-content/uploads/2022/04/ChorWebsite.jpg
END:VEVENT
BEGIN:VEVENT
DTSTART;TZID=Europe/Berlin:20241004T170000
DTEND;TZID=Europe/Berlin:20241004T180000
DTSTAMP:20260424T183805
CREATED:20220411T074416Z
LAST-MODIFIED:20220411T074416Z
UID:11978-1728061200-1728064800@weimar-evangelisch.de
SUMMARY:Kirchenführung
DESCRIPTION:Eine Führung durch die Geschichte der Stadtkirche mit dem berühmten Cranachaltar.
URL:https://weimar-evangelisch.de/veranstaltung/kirchenfuehrung/2024-10-04/
LOCATION:Herderkirche\, Herderplatz 8\, Weimar\, 99423\, Deutschland
CATEGORIES:Führungen,Veranstaltungen
ATTACH;FMTTYPE=image/jpeg:https://weimar-evangelisch.de/wp-content/uploads/2022/04/ChorWebsite.jpg
END:VEVENT
BEGIN:VEVENT
DTSTART;TZID=Europe/Berlin:20240930T170000
DTEND;TZID=Europe/Berlin:20240930T180000
DTSTAMP:20260424T183805
CREATED:20220411T074416Z
LAST-MODIFIED:20220411T074416Z
UID:11977-1727715600-1727719200@weimar-evangelisch.de
SUMMARY:Kirchenführung
DESCRIPTION:Eine Führung durch die Geschichte der Stadtkirche mit dem berühmten Cranachaltar.
URL:https://weimar-evangelisch.de/veranstaltung/kirchenfuehrung/2024-09-30/
LOCATION:Herderkirche\, Herderplatz 8\, Weimar\, 99423\, Deutschland
CATEGORIES:Führungen,Veranstaltungen
ATTACH;FMTTYPE=image/jpeg:https://weimar-evangelisch.de/wp-content/uploads/2022/04/ChorWebsite.jpg
END:VEVENT
BEGIN:VEVENT
DTSTART;TZID=Europe/Berlin:20240927T170000
DTEND;TZID=Europe/Berlin:20240927T180000
DTSTAMP:20260424T183805
CREATED:20220411T074416Z
LAST-MODIFIED:20220411T074416Z
UID:11976-1727456400-1727460000@weimar-evangelisch.de
SUMMARY:Kirchenführung
DESCRIPTION:Eine Führung durch die Geschichte der Stadtkirche mit dem berühmten Cranachaltar.
URL:https://weimar-evangelisch.de/veranstaltung/kirchenfuehrung/2024-09-27/
LOCATION:Herderkirche\, Herderplatz 8\, Weimar\, 99423\, Deutschland
CATEGORIES:Führungen,Veranstaltungen
ATTACH;FMTTYPE=image/jpeg:https://weimar-evangelisch.de/wp-content/uploads/2022/04/ChorWebsite.jpg
END:VEVENT
BEGIN:VEVENT
DTSTART;TZID=Europe/Berlin:20240923T170000
DTEND;TZID=Europe/Berlin:20240923T180000
DTSTAMP:20260424T183805
CREATED:20220411T074416Z
LAST-MODIFIED:20220411T074416Z
UID:11975-1727110800-1727114400@weimar-evangelisch.de
SUMMARY:Kirchenführung
DESCRIPTION:Eine Führung durch die Geschichte der Stadtkirche mit dem berühmten Cranachaltar.
URL:https://weimar-evangelisch.de/veranstaltung/kirchenfuehrung/2024-09-23/
LOCATION:Herderkirche\, Herderplatz 8\, Weimar\, 99423\, Deutschland
CATEGORIES:Führungen,Veranstaltungen
ATTACH;FMTTYPE=image/jpeg:https://weimar-evangelisch.de/wp-content/uploads/2022/04/ChorWebsite.jpg
END:VEVENT
BEGIN:VEVENT
DTSTART;TZID=Europe/Berlin:20240920T170000
DTEND;TZID=Europe/Berlin:20240920T180000
DTSTAMP:20260424T183805
CREATED:20220411T074416Z
LAST-MODIFIED:20220411T074416Z
UID:11974-1726851600-1726855200@weimar-evangelisch.de
SUMMARY:Kirchenführung
DESCRIPTION:Eine Führung durch die Geschichte der Stadtkirche mit dem berühmten Cranachaltar.
URL:https://weimar-evangelisch.de/veranstaltung/kirchenfuehrung/2024-09-20/
LOCATION:Herderkirche\, Herderplatz 8\, Weimar\, 99423\, Deutschland
CATEGORIES:Führungen,Veranstaltungen
ATTACH;FMTTYPE=image/jpeg:https://weimar-evangelisch.de/wp-content/uploads/2022/04/ChorWebsite.jpg
END:VEVENT
BEGIN:VEVENT
DTSTART;TZID=Europe/Berlin:20240916T170000
DTEND;TZID=Europe/Berlin:20240916T180000
DTSTAMP:20260424T183805
CREATED:20220411T074416Z
LAST-MODIFIED:20220411T074416Z
UID:11973-1726506000-1726509600@weimar-evangelisch.de
SUMMARY:Kirchenführung
DESCRIPTION:Eine Führung durch die Geschichte der Stadtkirche mit dem berühmten Cranachaltar.
URL:https://weimar-evangelisch.de/veranstaltung/kirchenfuehrung/2024-09-16/
LOCATION:Herderkirche\, Herderplatz 8\, Weimar\, 99423\, Deutschland
CATEGORIES:Führungen,Veranstaltungen
ATTACH;FMTTYPE=image/jpeg:https://weimar-evangelisch.de/wp-content/uploads/2022/04/ChorWebsite.jpg
END:VEVENT
BEGIN:VEVENT
DTSTART;TZID=Europe/Berlin:20240913T170000
DTEND;TZID=Europe/Berlin:20240913T180000
DTSTAMP:20260424T183805
CREATED:20220411T074416Z
LAST-MODIFIED:20220411T074416Z
UID:11972-1726246800-1726250400@weimar-evangelisch.de
SUMMARY:Kirchenführung
DESCRIPTION:Eine Führung durch die Geschichte der Stadtkirche mit dem berühmten Cranachaltar.
URL:https://weimar-evangelisch.de/veranstaltung/kirchenfuehrung/2024-09-13/
LOCATION:Herderkirche\, Herderplatz 8\, Weimar\, 99423\, Deutschland
CATEGORIES:Führungen,Veranstaltungen
ATTACH;FMTTYPE=image/jpeg:https://weimar-evangelisch.de/wp-content/uploads/2022/04/ChorWebsite.jpg
END:VEVENT
BEGIN:VEVENT
DTSTART;TZID=Europe/Berlin:20240909T170000
DTEND;TZID=Europe/Berlin:20240909T180000
DTSTAMP:20260424T183805
CREATED:20220411T074416Z
LAST-MODIFIED:20220411T074416Z
UID:11971-1725901200-1725904800@weimar-evangelisch.de
SUMMARY:Kirchenführung
DESCRIPTION:Eine Führung durch die Geschichte der Stadtkirche mit dem berühmten Cranachaltar.
URL:https://weimar-evangelisch.de/veranstaltung/kirchenfuehrung/2024-09-09/
LOCATION:Herderkirche\, Herderplatz 8\, Weimar\, 99423\, Deutschland
CATEGORIES:Führungen,Veranstaltungen
ATTACH;FMTTYPE=image/jpeg:https://weimar-evangelisch.de/wp-content/uploads/2022/04/ChorWebsite.jpg
END:VEVENT
BEGIN:VEVENT
DTSTART;TZID=Europe/Berlin:20240906T170000
DTEND;TZID=Europe/Berlin:20240906T180000
DTSTAMP:20260424T183805
CREATED:20220411T074416Z
LAST-MODIFIED:20220411T074416Z
UID:11970-1725642000-1725645600@weimar-evangelisch.de
SUMMARY:Kirchenführung
DESCRIPTION:Eine Führung durch die Geschichte der Stadtkirche mit dem berühmten Cranachaltar.
URL:https://weimar-evangelisch.de/veranstaltung/kirchenfuehrung/2024-09-06/
LOCATION:Herderkirche\, Herderplatz 8\, Weimar\, 99423\, Deutschland
CATEGORIES:Führungen,Veranstaltungen
ATTACH;FMTTYPE=image/jpeg:https://weimar-evangelisch.de/wp-content/uploads/2022/04/ChorWebsite.jpg
END:VEVENT
BEGIN:VEVENT
DTSTART;TZID=Europe/Berlin:20240902T170000
DTEND;TZID=Europe/Berlin:20240902T180000
DTSTAMP:20260424T183805
CREATED:20220411T074416Z
LAST-MODIFIED:20220411T074416Z
UID:11969-1725296400-1725300000@weimar-evangelisch.de
SUMMARY:Kirchenführung
DESCRIPTION:Eine Führung durch die Geschichte der Stadtkirche mit dem berühmten Cranachaltar.
URL:https://weimar-evangelisch.de/veranstaltung/kirchenfuehrung/2024-09-02/
LOCATION:Herderkirche\, Herderplatz 8\, Weimar\, 99423\, Deutschland
CATEGORIES:Führungen,Veranstaltungen
ATTACH;FMTTYPE=image/jpeg:https://weimar-evangelisch.de/wp-content/uploads/2022/04/ChorWebsite.jpg
END:VEVENT
BEGIN:VEVENT
DTSTART;TZID=Europe/Berlin:20240830T170000
DTEND;TZID=Europe/Berlin:20240830T180000
DTSTAMP:20260424T183805
CREATED:20220411T074416Z
LAST-MODIFIED:20220411T074416Z
UID:11968-1725037200-1725040800@weimar-evangelisch.de
SUMMARY:Kirchenführung
DESCRIPTION:Eine Führung durch die Geschichte der Stadtkirche mit dem berühmten Cranachaltar.
URL:https://weimar-evangelisch.de/veranstaltung/kirchenfuehrung/2024-08-30/
LOCATION:Herderkirche\, Herderplatz 8\, Weimar\, 99423\, Deutschland
CATEGORIES:Führungen,Veranstaltungen
ATTACH;FMTTYPE=image/jpeg:https://weimar-evangelisch.de/wp-content/uploads/2022/04/ChorWebsite.jpg
END:VEVENT
BEGIN:VEVENT
DTSTART;TZID=Europe/Berlin:20240823T170000
DTEND;TZID=Europe/Berlin:20240823T180000
DTSTAMP:20260424T183805
CREATED:20220411T074416Z
LAST-MODIFIED:20220411T074416Z
UID:11966-1724432400-1724436000@weimar-evangelisch.de
SUMMARY:Kirchenführung
DESCRIPTION:Eine Führung durch die Geschichte der Stadtkirche mit dem berühmten Cranachaltar.
URL:https://weimar-evangelisch.de/veranstaltung/kirchenfuehrung/2024-08-23/
LOCATION:Herderkirche\, Herderplatz 8\, Weimar\, 99423\, Deutschland
CATEGORIES:Führungen,Veranstaltungen
ATTACH;FMTTYPE=image/jpeg:https://weimar-evangelisch.de/wp-content/uploads/2022/04/ChorWebsite.jpg
END:VEVENT
BEGIN:VEVENT
DTSTART;TZID=Europe/Berlin:20240819T170000
DTEND;TZID=Europe/Berlin:20240819T180000
DTSTAMP:20260424T183805
CREATED:20220411T074416Z
LAST-MODIFIED:20220411T074416Z
UID:11965-1724086800-1724090400@weimar-evangelisch.de
SUMMARY:Kirchenführung
DESCRIPTION:Eine Führung durch die Geschichte der Stadtkirche mit dem berühmten Cranachaltar.
URL:https://weimar-evangelisch.de/veranstaltung/kirchenfuehrung/2024-08-19/
LOCATION:Herderkirche\, Herderplatz 8\, Weimar\, 99423\, Deutschland
CATEGORIES:Führungen,Veranstaltungen
ATTACH;FMTTYPE=image/jpeg:https://weimar-evangelisch.de/wp-content/uploads/2022/04/ChorWebsite.jpg
END:VEVENT
BEGIN:VEVENT
DTSTART;TZID=Europe/Berlin:20240816T170000
DTEND;TZID=Europe/Berlin:20240816T180000
DTSTAMP:20260424T183805
CREATED:20220411T074416Z
LAST-MODIFIED:20220411T074416Z
UID:11964-1723827600-1723831200@weimar-evangelisch.de
SUMMARY:Kirchenführung
DESCRIPTION:Eine Führung durch die Geschichte der Stadtkirche mit dem berühmten Cranachaltar.
URL:https://weimar-evangelisch.de/veranstaltung/kirchenfuehrung/2024-08-16/
LOCATION:Herderkirche\, Herderplatz 8\, Weimar\, 99423\, Deutschland
CATEGORIES:Führungen,Veranstaltungen
ATTACH;FMTTYPE=image/jpeg:https://weimar-evangelisch.de/wp-content/uploads/2022/04/ChorWebsite.jpg
END:VEVENT
BEGIN:VEVENT
DTSTART;TZID=Europe/Berlin:20240812T170000
DTEND;TZID=Europe/Berlin:20240812T180000
DTSTAMP:20260424T183805
CREATED:20220411T074416Z
LAST-MODIFIED:20220411T074416Z
UID:11963-1723482000-1723485600@weimar-evangelisch.de
SUMMARY:Kirchenführung
DESCRIPTION:Eine Führung durch die Geschichte der Stadtkirche mit dem berühmten Cranachaltar.
URL:https://weimar-evangelisch.de/veranstaltung/kirchenfuehrung/2024-08-12/
LOCATION:Herderkirche\, Herderplatz 8\, Weimar\, 99423\, Deutschland
CATEGORIES:Führungen,Veranstaltungen
ATTACH;FMTTYPE=image/jpeg:https://weimar-evangelisch.de/wp-content/uploads/2022/04/ChorWebsite.jpg
END:VEVENT
BEGIN:VEVENT
DTSTART;TZID=Europe/Berlin:20240809T170000
DTEND;TZID=Europe/Berlin:20240809T180000
DTSTAMP:20260424T183805
CREATED:20220411T074416Z
LAST-MODIFIED:20220411T074416Z
UID:11962-1723222800-1723226400@weimar-evangelisch.de
SUMMARY:Kirchenführung
DESCRIPTION:Eine Führung durch die Geschichte der Stadtkirche mit dem berühmten Cranachaltar.
URL:https://weimar-evangelisch.de/veranstaltung/kirchenfuehrung/2024-08-09/
LOCATION:Herderkirche\, Herderplatz 8\, Weimar\, 99423\, Deutschland
CATEGORIES:Führungen,Veranstaltungen
ATTACH;FMTTYPE=image/jpeg:https://weimar-evangelisch.de/wp-content/uploads/2022/04/ChorWebsite.jpg
END:VEVENT
BEGIN:VEVENT
DTSTART;TZID=Europe/Berlin:20240805T170000
DTEND;TZID=Europe/Berlin:20240805T180000
DTSTAMP:20260424T183805
CREATED:20220411T074416Z
LAST-MODIFIED:20220411T074416Z
UID:11961-1722877200-1722880800@weimar-evangelisch.de
SUMMARY:Kirchenführung
DESCRIPTION:Eine Führung durch die Geschichte der Stadtkirche mit dem berühmten Cranachaltar.
URL:https://weimar-evangelisch.de/veranstaltung/kirchenfuehrung/2024-08-05/
LOCATION:Herderkirche\, Herderplatz 8\, Weimar\, 99423\, Deutschland
CATEGORIES:Führungen,Veranstaltungen
ATTACH;FMTTYPE=image/jpeg:https://weimar-evangelisch.de/wp-content/uploads/2022/04/ChorWebsite.jpg
END:VEVENT
BEGIN:VEVENT
DTSTART;TZID=Europe/Berlin:20240802T170000
DTEND;TZID=Europe/Berlin:20240802T180000
DTSTAMP:20260424T183805
CREATED:20220411T074416Z
LAST-MODIFIED:20220411T074416Z
UID:11960-1722618000-1722621600@weimar-evangelisch.de
SUMMARY:Kirchenführung
DESCRIPTION:Eine Führung durch die Geschichte der Stadtkirche mit dem berühmten Cranachaltar.
URL:https://weimar-evangelisch.de/veranstaltung/kirchenfuehrung/2024-08-02/
LOCATION:Herderkirche\, Herderplatz 8\, Weimar\, 99423\, Deutschland
CATEGORIES:Führungen,Veranstaltungen
ATTACH;FMTTYPE=image/jpeg:https://weimar-evangelisch.de/wp-content/uploads/2022/04/ChorWebsite.jpg
END:VEVENT
BEGIN:VEVENT
DTSTART;TZID=Europe/Berlin:20240729T170000
DTEND;TZID=Europe/Berlin:20240729T180000
DTSTAMP:20260424T183805
CREATED:20220411T074416Z
LAST-MODIFIED:20220411T074416Z
UID:11959-1722272400-1722276000@weimar-evangelisch.de
SUMMARY:Kirchenführung
DESCRIPTION:Eine Führung durch die Geschichte der Stadtkirche mit dem berühmten Cranachaltar.
URL:https://weimar-evangelisch.de/veranstaltung/kirchenfuehrung/2024-07-29/
LOCATION:Herderkirche\, Herderplatz 8\, Weimar\, 99423\, Deutschland
CATEGORIES:Führungen,Veranstaltungen
ATTACH;FMTTYPE=image/jpeg:https://weimar-evangelisch.de/wp-content/uploads/2022/04/ChorWebsite.jpg
END:VEVENT
BEGIN:VEVENT
DTSTART;TZID=Europe/Berlin:20240726T170000
DTEND;TZID=Europe/Berlin:20240726T180000
DTSTAMP:20260424T183805
CREATED:20220411T074416Z
LAST-MODIFIED:20220411T074416Z
UID:11958-1722013200-1722016800@weimar-evangelisch.de
SUMMARY:Kirchenführung
DESCRIPTION:Eine Führung durch die Geschichte der Stadtkirche mit dem berühmten Cranachaltar.
URL:https://weimar-evangelisch.de/veranstaltung/kirchenfuehrung/2024-07-26/
LOCATION:Herderkirche\, Herderplatz 8\, Weimar\, 99423\, Deutschland
CATEGORIES:Führungen,Veranstaltungen
ATTACH;FMTTYPE=image/jpeg:https://weimar-evangelisch.de/wp-content/uploads/2022/04/ChorWebsite.jpg
END:VEVENT
BEGIN:VEVENT
DTSTART;TZID=Europe/Berlin:20240722T170000
DTEND;TZID=Europe/Berlin:20240722T180000
DTSTAMP:20260424T183805
CREATED:20220411T074416Z
LAST-MODIFIED:20220411T074416Z
UID:11957-1721667600-1721671200@weimar-evangelisch.de
SUMMARY:Kirchenführung
DESCRIPTION:Eine Führung durch die Geschichte der Stadtkirche mit dem berühmten Cranachaltar.
URL:https://weimar-evangelisch.de/veranstaltung/kirchenfuehrung/2024-07-22/
LOCATION:Herderkirche\, Herderplatz 8\, Weimar\, 99423\, Deutschland
CATEGORIES:Führungen,Veranstaltungen
ATTACH;FMTTYPE=image/jpeg:https://weimar-evangelisch.de/wp-content/uploads/2022/04/ChorWebsite.jpg
END:VEVENT
BEGIN:VEVENT
DTSTART;TZID=Europe/Berlin:20240719T170000
DTEND;TZID=Europe/Berlin:20240719T180000
DTSTAMP:20260424T183805
CREATED:20220411T074416Z
LAST-MODIFIED:20220411T074416Z
UID:11956-1721408400-1721412000@weimar-evangelisch.de
SUMMARY:Kirchenführung
DESCRIPTION:Eine Führung durch die Geschichte der Stadtkirche mit dem berühmten Cranachaltar.
URL:https://weimar-evangelisch.de/veranstaltung/kirchenfuehrung/2024-07-19/
LOCATION:Herderkirche\, Herderplatz 8\, Weimar\, 99423\, Deutschland
CATEGORIES:Führungen,Veranstaltungen
ATTACH;FMTTYPE=image/jpeg:https://weimar-evangelisch.de/wp-content/uploads/2022/04/ChorWebsite.jpg
END:VEVENT
BEGIN:VEVENT
DTSTART;TZID=Europe/Berlin:20240715T170000
DTEND;TZID=Europe/Berlin:20240715T180000
DTSTAMP:20260424T183805
CREATED:20220411T074416Z
LAST-MODIFIED:20220411T074416Z
UID:11955-1721062800-1721066400@weimar-evangelisch.de
SUMMARY:Kirchenführung
DESCRIPTION:Eine Führung durch die Geschichte der Stadtkirche mit dem berühmten Cranachaltar.
URL:https://weimar-evangelisch.de/veranstaltung/kirchenfuehrung/2024-07-15/
LOCATION:Herderkirche\, Herderplatz 8\, Weimar\, 99423\, Deutschland
CATEGORIES:Führungen,Veranstaltungen
ATTACH;FMTTYPE=image/jpeg:https://weimar-evangelisch.de/wp-content/uploads/2022/04/ChorWebsite.jpg
END:VEVENT
END:VCALENDAR