BEGIN:VCALENDAR
VERSION:2.0
PRODID:-//Weimar Evangelisch - ECPv6.6.1//NONSGML v1.0//EN
CALSCALE:GREGORIAN
METHOD:PUBLISH
X-ORIGINAL-URL:https://weimar-evangelisch.de
X-WR-CALDESC:Veranstaltungen für Weimar Evangelisch
REFRESH-INTERVAL;VALUE=DURATION:PT1H
X-Robots-Tag:noindex
X-PUBLISHED-TTL:PT1H
BEGIN:VTIMEZONE
TZID:Europe/Berlin
BEGIN:DAYLIGHT
TZOFFSETFROM:+0100
TZOFFSETTO:+0200
TZNAME:CEST
DTSTART:20250330T010000
END:DAYLIGHT
BEGIN:STANDARD
TZOFFSETFROM:+0200
TZOFFSETTO:+0100
TZNAME:CET
DTSTART:20251026T010000
END:STANDARD
END:VTIMEZONE
BEGIN:VEVENT
DTSTART;TZID=Europe/Berlin:20251027T170000
DTEND;TZID=Europe/Berlin:20251027T180000
DTSTAMP:20260424T143655
CREATED:20250122T130444Z
LAST-MODIFIED:20250710T104452Z
UID:14843-1761584400-1761588000@weimar-evangelisch.de
SUMMARY:Kirchenführung
DESCRIPTION:Eine Führung durch die Geschichte der Stadtkirche mit dem berühmten Cranachaltar.
URL:https://weimar-evangelisch.de/veranstaltung/kirchenfuehrung-6-2025-04-07/2025-10-27/
LOCATION:Herderkirche\, Herderplatz 8\, Weimar\, 99423\, Deutschland
CATEGORIES:Führungen,Veranstaltungen
ATTACH;FMTTYPE=image/jpeg:https://weimar-evangelisch.de/wp-content/uploads/2022/04/ChorWebsite.jpg
END:VEVENT
BEGIN:VEVENT
DTSTART;TZID=Europe/Berlin:20251024T170000
DTEND;TZID=Europe/Berlin:20251024T180000
DTSTAMP:20260424T143655
CREATED:20250122T130444Z
LAST-MODIFIED:20250710T104452Z
UID:14842-1761325200-1761328800@weimar-evangelisch.de
SUMMARY:Kirchenführung
DESCRIPTION:Eine Führung durch die Geschichte der Stadtkirche mit dem berühmten Cranachaltar.
URL:https://weimar-evangelisch.de/veranstaltung/kirchenfuehrung-6-2025-04-07/2025-10-24/
LOCATION:Herderkirche\, Herderplatz 8\, Weimar\, 99423\, Deutschland
CATEGORIES:Führungen,Veranstaltungen
ATTACH;FMTTYPE=image/jpeg:https://weimar-evangelisch.de/wp-content/uploads/2022/04/ChorWebsite.jpg
END:VEVENT
BEGIN:VEVENT
DTSTART;TZID=Europe/Berlin:20251020T170000
DTEND;TZID=Europe/Berlin:20251020T180000
DTSTAMP:20260424T143655
CREATED:20250122T130444Z
LAST-MODIFIED:20250710T104451Z
UID:14841-1760979600-1760983200@weimar-evangelisch.de
SUMMARY:Kirchenführung
DESCRIPTION:Eine Führung durch die Geschichte der Stadtkirche mit dem berühmten Cranachaltar.
URL:https://weimar-evangelisch.de/veranstaltung/kirchenfuehrung-6-2025-04-07/2025-10-20/
LOCATION:Herderkirche\, Herderplatz 8\, Weimar\, 99423\, Deutschland
CATEGORIES:Führungen,Veranstaltungen
ATTACH;FMTTYPE=image/jpeg:https://weimar-evangelisch.de/wp-content/uploads/2022/04/ChorWebsite.jpg
END:VEVENT
BEGIN:VEVENT
DTSTART;TZID=Europe/Berlin:20251017T170000
DTEND;TZID=Europe/Berlin:20251017T180000
DTSTAMP:20260424T143655
CREATED:20250122T130444Z
LAST-MODIFIED:20250710T104451Z
UID:14840-1760720400-1760724000@weimar-evangelisch.de
SUMMARY:Kirchenführung
DESCRIPTION:Eine Führung durch die Geschichte der Stadtkirche mit dem berühmten Cranachaltar.
URL:https://weimar-evangelisch.de/veranstaltung/kirchenfuehrung-6-2025-04-07/2025-10-17/
LOCATION:Herderkirche\, Herderplatz 8\, Weimar\, 99423\, Deutschland
CATEGORIES:Führungen,Veranstaltungen
ATTACH;FMTTYPE=image/jpeg:https://weimar-evangelisch.de/wp-content/uploads/2022/04/ChorWebsite.jpg
END:VEVENT
BEGIN:VEVENT
DTSTART;TZID=Europe/Berlin:20251013T170000
DTEND;TZID=Europe/Berlin:20251013T180000
DTSTAMP:20260424T143655
CREATED:20250122T130444Z
LAST-MODIFIED:20250710T104451Z
UID:14839-1760374800-1760378400@weimar-evangelisch.de
SUMMARY:Kirchenführung
DESCRIPTION:Eine Führung durch die Geschichte der Stadtkirche mit dem berühmten Cranachaltar.
URL:https://weimar-evangelisch.de/veranstaltung/kirchenfuehrung-6-2025-04-07/2025-10-13/
LOCATION:Herderkirche\, Herderplatz 8\, Weimar\, 99423\, Deutschland
CATEGORIES:Führungen,Veranstaltungen
ATTACH;FMTTYPE=image/jpeg:https://weimar-evangelisch.de/wp-content/uploads/2022/04/ChorWebsite.jpg
END:VEVENT
BEGIN:VEVENT
DTSTART;TZID=Europe/Berlin:20251010T170000
DTEND;TZID=Europe/Berlin:20251010T180000
DTSTAMP:20260424T143655
CREATED:20250122T130444Z
LAST-MODIFIED:20250710T104449Z
UID:14838-1760115600-1760119200@weimar-evangelisch.de
SUMMARY:Kirchenführung
DESCRIPTION:Eine Führung durch die Geschichte der Stadtkirche mit dem berühmten Cranachaltar.
URL:https://weimar-evangelisch.de/veranstaltung/kirchenfuehrung-6-2025-04-07/2025-10-10/
LOCATION:Herderkirche\, Herderplatz 8\, Weimar\, 99423\, Deutschland
CATEGORIES:Führungen,Veranstaltungen
ATTACH;FMTTYPE=image/jpeg:https://weimar-evangelisch.de/wp-content/uploads/2022/04/ChorWebsite.jpg
END:VEVENT
BEGIN:VEVENT
DTSTART;TZID=Europe/Berlin:20251006T170000
DTEND;TZID=Europe/Berlin:20251006T180000
DTSTAMP:20260424T143655
CREATED:20250122T130444Z
LAST-MODIFIED:20250710T104449Z
UID:14837-1759770000-1759773600@weimar-evangelisch.de
SUMMARY:Kirchenführung
DESCRIPTION:Eine Führung durch die Geschichte der Stadtkirche mit dem berühmten Cranachaltar.
URL:https://weimar-evangelisch.de/veranstaltung/kirchenfuehrung-6-2025-04-07/2025-10-06/
LOCATION:Herderkirche\, Herderplatz 8\, Weimar\, 99423\, Deutschland
CATEGORIES:Führungen,Veranstaltungen
ATTACH;FMTTYPE=image/jpeg:https://weimar-evangelisch.de/wp-content/uploads/2022/04/ChorWebsite.jpg
END:VEVENT
BEGIN:VEVENT
DTSTART;TZID=Europe/Berlin:20251003T170000
DTEND;TZID=Europe/Berlin:20251003T180000
DTSTAMP:20260424T143655
CREATED:20250122T130444Z
LAST-MODIFIED:20250710T104449Z
UID:14836-1759510800-1759514400@weimar-evangelisch.de
SUMMARY:Kirchenführung
DESCRIPTION:Eine Führung durch die Geschichte der Stadtkirche mit dem berühmten Cranachaltar.
URL:https://weimar-evangelisch.de/veranstaltung/kirchenfuehrung-6-2025-04-07/2025-10-03/
LOCATION:Herderkirche\, Herderplatz 8\, Weimar\, 99423\, Deutschland
CATEGORIES:Führungen,Veranstaltungen
ATTACH;FMTTYPE=image/jpeg:https://weimar-evangelisch.de/wp-content/uploads/2022/04/ChorWebsite.jpg
END:VEVENT
BEGIN:VEVENT
DTSTART;TZID=Europe/Berlin:20250929T170000
DTEND;TZID=Europe/Berlin:20250929T180000
DTSTAMP:20260424T143655
CREATED:20250122T130444Z
LAST-MODIFIED:20250710T104448Z
UID:14835-1759165200-1759168800@weimar-evangelisch.de
SUMMARY:Kirchenführung
DESCRIPTION:Eine Führung durch die Geschichte der Stadtkirche mit dem berühmten Cranachaltar.
URL:https://weimar-evangelisch.de/veranstaltung/kirchenfuehrung-6-2025-04-07/2025-09-29/
LOCATION:Herderkirche\, Herderplatz 8\, Weimar\, 99423\, Deutschland
CATEGORIES:Führungen,Veranstaltungen
ATTACH;FMTTYPE=image/jpeg:https://weimar-evangelisch.de/wp-content/uploads/2022/04/ChorWebsite.jpg
END:VEVENT
BEGIN:VEVENT
DTSTART;TZID=Europe/Berlin:20250926T170000
DTEND;TZID=Europe/Berlin:20250926T180000
DTSTAMP:20260424T143655
CREATED:20250122T130444Z
LAST-MODIFIED:20250710T104448Z
UID:14834-1758906000-1758909600@weimar-evangelisch.de
SUMMARY:Kirchenführung
DESCRIPTION:Eine Führung durch die Geschichte der Stadtkirche mit dem berühmten Cranachaltar.
URL:https://weimar-evangelisch.de/veranstaltung/kirchenfuehrung-6-2025-04-07/2025-09-26/
LOCATION:Herderkirche\, Herderplatz 8\, Weimar\, 99423\, Deutschland
CATEGORIES:Führungen,Veranstaltungen
ATTACH;FMTTYPE=image/jpeg:https://weimar-evangelisch.de/wp-content/uploads/2022/04/ChorWebsite.jpg
END:VEVENT
BEGIN:VEVENT
DTSTART;TZID=Europe/Berlin:20250922T170000
DTEND;TZID=Europe/Berlin:20250922T180000
DTSTAMP:20260424T143655
CREATED:20250122T130444Z
LAST-MODIFIED:20250710T104448Z
UID:14833-1758560400-1758564000@weimar-evangelisch.de
SUMMARY:Kirchenführung
DESCRIPTION:Eine Führung durch die Geschichte der Stadtkirche mit dem berühmten Cranachaltar.
URL:https://weimar-evangelisch.de/veranstaltung/kirchenfuehrung-6-2025-04-07/2025-09-22/
LOCATION:Herderkirche\, Herderplatz 8\, Weimar\, 99423\, Deutschland
CATEGORIES:Führungen,Veranstaltungen
ATTACH;FMTTYPE=image/jpeg:https://weimar-evangelisch.de/wp-content/uploads/2022/04/ChorWebsite.jpg
END:VEVENT
BEGIN:VEVENT
DTSTART;TZID=Europe/Berlin:20250919T170000
DTEND;TZID=Europe/Berlin:20250919T180000
DTSTAMP:20260424T143655
CREATED:20250122T130444Z
LAST-MODIFIED:20250710T104447Z
UID:14832-1758301200-1758304800@weimar-evangelisch.de
SUMMARY:Kirchenführung
DESCRIPTION:Eine Führung durch die Geschichte der Stadtkirche mit dem berühmten Cranachaltar.
URL:https://weimar-evangelisch.de/veranstaltung/kirchenfuehrung-6-2025-04-07/2025-09-19/
LOCATION:Herderkirche\, Herderplatz 8\, Weimar\, 99423\, Deutschland
CATEGORIES:Führungen,Veranstaltungen
ATTACH;FMTTYPE=image/jpeg:https://weimar-evangelisch.de/wp-content/uploads/2022/04/ChorWebsite.jpg
END:VEVENT
BEGIN:VEVENT
DTSTART;TZID=Europe/Berlin:20250915T170000
DTEND;TZID=Europe/Berlin:20250915T180000
DTSTAMP:20260424T143655
CREATED:20250122T130444Z
LAST-MODIFIED:20250710T104447Z
UID:14831-1757955600-1757959200@weimar-evangelisch.de
SUMMARY:Kirchenführung
DESCRIPTION:Eine Führung durch die Geschichte der Stadtkirche mit dem berühmten Cranachaltar.
URL:https://weimar-evangelisch.de/veranstaltung/kirchenfuehrung-6-2025-04-07/2025-09-15/
LOCATION:Herderkirche\, Herderplatz 8\, Weimar\, 99423\, Deutschland
CATEGORIES:Führungen,Veranstaltungen
ATTACH;FMTTYPE=image/jpeg:https://weimar-evangelisch.de/wp-content/uploads/2022/04/ChorWebsite.jpg
END:VEVENT
BEGIN:VEVENT
DTSTART;TZID=Europe/Berlin:20250912T170000
DTEND;TZID=Europe/Berlin:20250912T180000
DTSTAMP:20260424T143655
CREATED:20250122T130444Z
LAST-MODIFIED:20250710T104447Z
UID:14830-1757696400-1757700000@weimar-evangelisch.de
SUMMARY:Kirchenführung
DESCRIPTION:Eine Führung durch die Geschichte der Stadtkirche mit dem berühmten Cranachaltar.
URL:https://weimar-evangelisch.de/veranstaltung/kirchenfuehrung-6-2025-04-07/2025-09-12/
LOCATION:Herderkirche\, Herderplatz 8\, Weimar\, 99423\, Deutschland
CATEGORIES:Führungen,Veranstaltungen
ATTACH;FMTTYPE=image/jpeg:https://weimar-evangelisch.de/wp-content/uploads/2022/04/ChorWebsite.jpg
END:VEVENT
BEGIN:VEVENT
DTSTART;TZID=Europe/Berlin:20250908T170000
DTEND;TZID=Europe/Berlin:20250908T180000
DTSTAMP:20260424T143655
CREATED:20250122T130444Z
LAST-MODIFIED:20250710T104446Z
UID:14829-1757350800-1757354400@weimar-evangelisch.de
SUMMARY:Kirchenführung
DESCRIPTION:Eine Führung durch die Geschichte der Stadtkirche mit dem berühmten Cranachaltar.
URL:https://weimar-evangelisch.de/veranstaltung/kirchenfuehrung-6-2025-04-07/2025-09-08/
LOCATION:Herderkirche\, Herderplatz 8\, Weimar\, 99423\, Deutschland
CATEGORIES:Führungen,Veranstaltungen
ATTACH;FMTTYPE=image/jpeg:https://weimar-evangelisch.de/wp-content/uploads/2022/04/ChorWebsite.jpg
END:VEVENT
BEGIN:VEVENT
DTSTART;TZID=Europe/Berlin:20250905T170000
DTEND;TZID=Europe/Berlin:20250905T180000
DTSTAMP:20260424T143655
CREATED:20250122T130444Z
LAST-MODIFIED:20250710T104445Z
UID:14828-1757091600-1757095200@weimar-evangelisch.de
SUMMARY:Kirchenführung
DESCRIPTION:Eine Führung durch die Geschichte der Stadtkirche mit dem berühmten Cranachaltar.
URL:https://weimar-evangelisch.de/veranstaltung/kirchenfuehrung-6-2025-04-07/2025-09-05/
LOCATION:Herderkirche\, Herderplatz 8\, Weimar\, 99423\, Deutschland
CATEGORIES:Führungen,Veranstaltungen
ATTACH;FMTTYPE=image/jpeg:https://weimar-evangelisch.de/wp-content/uploads/2022/04/ChorWebsite.jpg
END:VEVENT
BEGIN:VEVENT
DTSTART;TZID=Europe/Berlin:20250901T170000
DTEND;TZID=Europe/Berlin:20250901T180000
DTSTAMP:20260424T143655
CREATED:20250122T130444Z
LAST-MODIFIED:20250710T104444Z
UID:14827-1756746000-1756749600@weimar-evangelisch.de
SUMMARY:Kirchenführung
DESCRIPTION:Eine Führung durch die Geschichte der Stadtkirche mit dem berühmten Cranachaltar.
URL:https://weimar-evangelisch.de/veranstaltung/kirchenfuehrung-6-2025-04-07/2025-09-01/
LOCATION:Herderkirche\, Herderplatz 8\, Weimar\, 99423\, Deutschland
CATEGORIES:Führungen,Veranstaltungen
ATTACH;FMTTYPE=image/jpeg:https://weimar-evangelisch.de/wp-content/uploads/2022/04/ChorWebsite.jpg
END:VEVENT
BEGIN:VEVENT
DTSTART;TZID=Europe/Berlin:20250829T170000
DTEND;TZID=Europe/Berlin:20250829T180000
DTSTAMP:20260424T143655
CREATED:20250122T130444Z
LAST-MODIFIED:20250710T104444Z
UID:14826-1756486800-1756490400@weimar-evangelisch.de
SUMMARY:Kirchenführung
DESCRIPTION:Eine Führung durch die Geschichte der Stadtkirche mit dem berühmten Cranachaltar.
URL:https://weimar-evangelisch.de/veranstaltung/kirchenfuehrung-6-2025-04-07/2025-08-29/
LOCATION:Herderkirche\, Herderplatz 8\, Weimar\, 99423\, Deutschland
CATEGORIES:Führungen,Veranstaltungen
ATTACH;FMTTYPE=image/jpeg:https://weimar-evangelisch.de/wp-content/uploads/2022/04/ChorWebsite.jpg
END:VEVENT
BEGIN:VEVENT
DTSTART;TZID=Europe/Berlin:20250822T170000
DTEND;TZID=Europe/Berlin:20250822T180000
DTSTAMP:20260424T143655
CREATED:20250122T130444Z
LAST-MODIFIED:20250710T104444Z
UID:14824-1755882000-1755885600@weimar-evangelisch.de
SUMMARY:Kirchenführung
DESCRIPTION:Eine Führung durch die Geschichte der Stadtkirche mit dem berühmten Cranachaltar.
URL:https://weimar-evangelisch.de/veranstaltung/kirchenfuehrung-6-2025-04-07/2025-08-22/
LOCATION:Herderkirche\, Herderplatz 8\, Weimar\, 99423\, Deutschland
CATEGORIES:Führungen,Veranstaltungen
ATTACH;FMTTYPE=image/jpeg:https://weimar-evangelisch.de/wp-content/uploads/2022/04/ChorWebsite.jpg
END:VEVENT
BEGIN:VEVENT
DTSTART;TZID=Europe/Berlin:20250818T170000
DTEND;TZID=Europe/Berlin:20250818T180000
DTSTAMP:20260424T143655
CREATED:20250122T130444Z
LAST-MODIFIED:20250710T104443Z
UID:14823-1755536400-1755540000@weimar-evangelisch.de
SUMMARY:Kirchenführung
DESCRIPTION:Eine Führung durch die Geschichte der Stadtkirche mit dem berühmten Cranachaltar.
URL:https://weimar-evangelisch.de/veranstaltung/kirchenfuehrung-6-2025-04-07/2025-08-18/
LOCATION:Herderkirche\, Herderplatz 8\, Weimar\, 99423\, Deutschland
CATEGORIES:Führungen,Veranstaltungen
ATTACH;FMTTYPE=image/jpeg:https://weimar-evangelisch.de/wp-content/uploads/2022/04/ChorWebsite.jpg
END:VEVENT
BEGIN:VEVENT
DTSTART;TZID=Europe/Berlin:20250815T170000
DTEND;TZID=Europe/Berlin:20250815T180000
DTSTAMP:20260424T143655
CREATED:20250122T130444Z
LAST-MODIFIED:20250710T104443Z
UID:14822-1755277200-1755280800@weimar-evangelisch.de
SUMMARY:Kirchenführung
DESCRIPTION:Eine Führung durch die Geschichte der Stadtkirche mit dem berühmten Cranachaltar.
URL:https://weimar-evangelisch.de/veranstaltung/kirchenfuehrung-6-2025-04-07/2025-08-15/
LOCATION:Herderkirche\, Herderplatz 8\, Weimar\, 99423\, Deutschland
CATEGORIES:Führungen,Veranstaltungen
ATTACH;FMTTYPE=image/jpeg:https://weimar-evangelisch.de/wp-content/uploads/2022/04/ChorWebsite.jpg
END:VEVENT
BEGIN:VEVENT
DTSTART;TZID=Europe/Berlin:20250811T170000
DTEND;TZID=Europe/Berlin:20250811T180000
DTSTAMP:20260424T143655
CREATED:20250122T130444Z
LAST-MODIFIED:20250710T104443Z
UID:14821-1754931600-1754935200@weimar-evangelisch.de
SUMMARY:Kirchenführung
DESCRIPTION:Eine Führung durch die Geschichte der Stadtkirche mit dem berühmten Cranachaltar.
URL:https://weimar-evangelisch.de/veranstaltung/kirchenfuehrung-6-2025-04-07/2025-08-11/
LOCATION:Herderkirche\, Herderplatz 8\, Weimar\, 99423\, Deutschland
CATEGORIES:Führungen,Veranstaltungen
ATTACH;FMTTYPE=image/jpeg:https://weimar-evangelisch.de/wp-content/uploads/2022/04/ChorWebsite.jpg
END:VEVENT
BEGIN:VEVENT
DTSTART;TZID=Europe/Berlin:20250808T170000
DTEND;TZID=Europe/Berlin:20250808T180000
DTSTAMP:20260424T143655
CREATED:20250122T130444Z
LAST-MODIFIED:20250710T104442Z
UID:14820-1754672400-1754676000@weimar-evangelisch.de
SUMMARY:Kirchenführung
DESCRIPTION:Eine Führung durch die Geschichte der Stadtkirche mit dem berühmten Cranachaltar.
URL:https://weimar-evangelisch.de/veranstaltung/kirchenfuehrung-6-2025-04-07/2025-08-08/
LOCATION:Herderkirche\, Herderplatz 8\, Weimar\, 99423\, Deutschland
CATEGORIES:Führungen,Veranstaltungen
ATTACH;FMTTYPE=image/jpeg:https://weimar-evangelisch.de/wp-content/uploads/2022/04/ChorWebsite.jpg
END:VEVENT
BEGIN:VEVENT
DTSTART;TZID=Europe/Berlin:20250804T170000
DTEND;TZID=Europe/Berlin:20250804T180000
DTSTAMP:20260424T143655
CREATED:20250122T130444Z
LAST-MODIFIED:20250710T104442Z
UID:14819-1754326800-1754330400@weimar-evangelisch.de
SUMMARY:Kirchenführung
DESCRIPTION:Eine Führung durch die Geschichte der Stadtkirche mit dem berühmten Cranachaltar.
URL:https://weimar-evangelisch.de/veranstaltung/kirchenfuehrung-6-2025-04-07/2025-08-04/
LOCATION:Herderkirche\, Herderplatz 8\, Weimar\, 99423\, Deutschland
CATEGORIES:Führungen,Veranstaltungen
ATTACH;FMTTYPE=image/jpeg:https://weimar-evangelisch.de/wp-content/uploads/2022/04/ChorWebsite.jpg
END:VEVENT
BEGIN:VEVENT
DTSTART;TZID=Europe/Berlin:20250801T170000
DTEND;TZID=Europe/Berlin:20250801T180000
DTSTAMP:20260424T143655
CREATED:20250122T130444Z
LAST-MODIFIED:20250710T104442Z
UID:14818-1754067600-1754071200@weimar-evangelisch.de
SUMMARY:Kirchenführung
DESCRIPTION:Eine Führung durch die Geschichte der Stadtkirche mit dem berühmten Cranachaltar.
URL:https://weimar-evangelisch.de/veranstaltung/kirchenfuehrung-6-2025-04-07/2025-08-01/
LOCATION:Herderkirche\, Herderplatz 8\, Weimar\, 99423\, Deutschland
CATEGORIES:Führungen,Veranstaltungen
ATTACH;FMTTYPE=image/jpeg:https://weimar-evangelisch.de/wp-content/uploads/2022/04/ChorWebsite.jpg
END:VEVENT
BEGIN:VEVENT
DTSTART;TZID=Europe/Berlin:20250728T170000
DTEND;TZID=Europe/Berlin:20250728T180000
DTSTAMP:20260424T143655
CREATED:20250122T130444Z
LAST-MODIFIED:20250710T104440Z
UID:14817-1753722000-1753725600@weimar-evangelisch.de
SUMMARY:Kirchenführung
DESCRIPTION:Eine Führung durch die Geschichte der Stadtkirche mit dem berühmten Cranachaltar.
URL:https://weimar-evangelisch.de/veranstaltung/kirchenfuehrung-6-2025-04-07/2025-07-28/
LOCATION:Herderkirche\, Herderplatz 8\, Weimar\, 99423\, Deutschland
CATEGORIES:Führungen,Veranstaltungen
ATTACH;FMTTYPE=image/jpeg:https://weimar-evangelisch.de/wp-content/uploads/2022/04/ChorWebsite.jpg
END:VEVENT
BEGIN:VEVENT
DTSTART;TZID=Europe/Berlin:20250725T170000
DTEND;TZID=Europe/Berlin:20250725T180000
DTSTAMP:20260424T143655
CREATED:20250122T130444Z
LAST-MODIFIED:20250710T104440Z
UID:14816-1753462800-1753466400@weimar-evangelisch.de
SUMMARY:Kirchenführung
DESCRIPTION:Eine Führung durch die Geschichte der Stadtkirche mit dem berühmten Cranachaltar.
URL:https://weimar-evangelisch.de/veranstaltung/kirchenfuehrung-6-2025-04-07/2025-07-25/
LOCATION:Herderkirche\, Herderplatz 8\, Weimar\, 99423\, Deutschland
CATEGORIES:Führungen,Veranstaltungen
ATTACH;FMTTYPE=image/jpeg:https://weimar-evangelisch.de/wp-content/uploads/2022/04/ChorWebsite.jpg
END:VEVENT
BEGIN:VEVENT
DTSTART;TZID=Europe/Berlin:20250721T170000
DTEND;TZID=Europe/Berlin:20250721T180000
DTSTAMP:20260424T143655
CREATED:20250122T130444Z
LAST-MODIFIED:20250710T104439Z
UID:14815-1753117200-1753120800@weimar-evangelisch.de
SUMMARY:Kirchenführung
DESCRIPTION:Eine Führung durch die Geschichte der Stadtkirche mit dem berühmten Cranachaltar.
URL:https://weimar-evangelisch.de/veranstaltung/kirchenfuehrung-6-2025-04-07/2025-07-21/
LOCATION:Herderkirche\, Herderplatz 8\, Weimar\, 99423\, Deutschland
CATEGORIES:Führungen,Veranstaltungen
ATTACH;FMTTYPE=image/jpeg:https://weimar-evangelisch.de/wp-content/uploads/2022/04/ChorWebsite.jpg
END:VEVENT
BEGIN:VEVENT
DTSTART;TZID=Europe/Berlin:20250718T170000
DTEND;TZID=Europe/Berlin:20250718T180000
DTSTAMP:20260424T143655
CREATED:20250122T130444Z
LAST-MODIFIED:20250710T104439Z
UID:14814-1752858000-1752861600@weimar-evangelisch.de
SUMMARY:Kirchenführung
DESCRIPTION:Eine Führung durch die Geschichte der Stadtkirche mit dem berühmten Cranachaltar.
URL:https://weimar-evangelisch.de/veranstaltung/kirchenfuehrung-6-2025-04-07/2025-07-18/
LOCATION:Herderkirche\, Herderplatz 8\, Weimar\, 99423\, Deutschland
CATEGORIES:Führungen,Veranstaltungen
ATTACH;FMTTYPE=image/jpeg:https://weimar-evangelisch.de/wp-content/uploads/2022/04/ChorWebsite.jpg
END:VEVENT
BEGIN:VEVENT
DTSTART;TZID=Europe/Berlin:20250714T170000
DTEND;TZID=Europe/Berlin:20250714T180000
DTSTAMP:20260424T143655
CREATED:20250122T130444Z
LAST-MODIFIED:20250710T104439Z
UID:14813-1752512400-1752516000@weimar-evangelisch.de
SUMMARY:Kirchenführung
DESCRIPTION:Eine Führung durch die Geschichte der Stadtkirche mit dem berühmten Cranachaltar.
URL:https://weimar-evangelisch.de/veranstaltung/kirchenfuehrung-6-2025-04-07/2025-07-14/
LOCATION:Herderkirche\, Herderplatz 8\, Weimar\, 99423\, Deutschland
CATEGORIES:Führungen,Veranstaltungen
ATTACH;FMTTYPE=image/jpeg:https://weimar-evangelisch.de/wp-content/uploads/2022/04/ChorWebsite.jpg
END:VEVENT
END:VCALENDAR