BEGIN:VCALENDAR
VERSION:2.0
PRODID:-//Weimar Evangelisch - ECPv6.6.1//NONSGML v1.0//EN
CALSCALE:GREGORIAN
METHOD:PUBLISH
X-WR-CALNAME:Weimar Evangelisch
X-ORIGINAL-URL:https://weimar-evangelisch.de
X-WR-CALDESC:Veranstaltungen für Weimar Evangelisch
REFRESH-INTERVAL;VALUE=DURATION:PT1H
X-Robots-Tag:noindex
X-PUBLISHED-TTL:PT1H
BEGIN:VTIMEZONE
TZID:Europe/Berlin
BEGIN:DAYLIGHT
TZOFFSETFROM:+0100
TZOFFSETTO:+0200
TZNAME:CEST
DTSTART:20240331T010000
END:DAYLIGHT
BEGIN:STANDARD
TZOFFSETFROM:+0200
TZOFFSETTO:+0100
TZNAME:CET
DTSTART:20241027T010000
END:STANDARD
END:VTIMEZONE
BEGIN:VEVENT
DTSTART;TZID=Europe/Berlin:20241215T093000
DTEND;TZID=Europe/Berlin:20241215T103000
DTSTAMP:20260421T140524
CREATED:20231208T124004Z
LAST-MODIFIED:20231208T124004Z
UID:12161-1734255000-1734258600@weimar-evangelisch.de
SUMMARY:Gottesdienst
DESCRIPTION:Pfarrer i.R. Karl-Siegfried Melzer
URL:https://weimar-evangelisch.de/veranstaltung/gottesdienst-77/2024-12-15/
LOCATION:Gemeinderaum im Evangelischen Kinderhaus „Sonnenhügel“\, Bonhoefferstraße 73a\, Weimar\, Thüringen\, 99427\, Deutschland
CATEGORIES:Gottesdienste
ATTACH;FMTTYPE=image/jpeg:https://weimar-evangelisch.de/wp-content/uploads/2022/03/evangelischen_kinderhaus_sonnenhügel_weimar_adresse.jpg
END:VEVENT
BEGIN:VEVENT
DTSTART;TZID=Europe/Berlin:20241117T093000
DTEND;TZID=Europe/Berlin:20241117T103000
DTSTAMP:20260421T140524
CREATED:20231208T124004Z
LAST-MODIFIED:20240221T121920Z
UID:10784-1731835800-1731839400@weimar-evangelisch.de
SUMMARY:Gottesdienst
DESCRIPTION:Pfarrer i.R. Karl-Siegfried Melzer
URL:https://weimar-evangelisch.de/veranstaltung/gottesdienst-77/2024-11-17/
LOCATION:Gemeinderaum im Evangelischen Kinderhaus „Sonnenhügel“\, Bonhoefferstraße 73a\, Weimar\, Thüringen\, 99427\, Deutschland
CATEGORIES:Gottesdienste
ATTACH;FMTTYPE=image/jpeg:https://weimar-evangelisch.de/wp-content/uploads/2022/03/evangelischen_kinderhaus_sonnenhügel_weimar_adresse.jpg
END:VEVENT
BEGIN:VEVENT
DTSTART;TZID=Europe/Berlin:20240915T093000
DTEND;TZID=Europe/Berlin:20240915T103000
DTSTAMP:20260421T140524
CREATED:20231208T124004Z
LAST-MODIFIED:20240221T121915Z
UID:10782-1726392600-1726396200@weimar-evangelisch.de
SUMMARY:Gottesdienst
DESCRIPTION:Pfarrer i.R. Karl-Siegfried Melzer
URL:https://weimar-evangelisch.de/veranstaltung/gottesdienst-77/2024-09-15/
LOCATION:Gemeinderaum im Evangelischen Kinderhaus „Sonnenhügel“\, Bonhoefferstraße 73a\, Weimar\, Thüringen\, 99427\, Deutschland
CATEGORIES:Gottesdienste
ATTACH;FMTTYPE=image/jpeg:https://weimar-evangelisch.de/wp-content/uploads/2022/03/evangelischen_kinderhaus_sonnenhügel_weimar_adresse.jpg
END:VEVENT
BEGIN:VEVENT
DTSTART;TZID=Europe/Berlin:20240519T093000
DTEND;TZID=Europe/Berlin:20240519T103000
DTSTAMP:20260421T140524
CREATED:20231208T124004Z
LAST-MODIFIED:20240221T121914Z
UID:10778-1716111000-1716114600@weimar-evangelisch.de
SUMMARY:Gottesdienst
DESCRIPTION:Pfarrer i.R. Karl-Siegfried Melzer
URL:https://weimar-evangelisch.de/veranstaltung/gottesdienst-77/2024-05-19/
LOCATION:Gemeinderaum im Evangelischen Kinderhaus „Sonnenhügel“\, Bonhoefferstraße 73a\, Weimar\, Thüringen\, 99427\, Deutschland
CATEGORIES:Gottesdienste
ATTACH;FMTTYPE=image/jpeg:https://weimar-evangelisch.de/wp-content/uploads/2022/03/evangelischen_kinderhaus_sonnenhügel_weimar_adresse.jpg
END:VEVENT
BEGIN:VEVENT
DTSTART;TZID=Europe/Berlin:20240121T093000
DTEND;TZID=Europe/Berlin:20240121T103000
DTSTAMP:20260421T140524
CREATED:20231208T124004Z
LAST-MODIFIED:20240221T121913Z
UID:10774-1705829400-1705833000@weimar-evangelisch.de
SUMMARY:Gottesdienst
DESCRIPTION:Pfarrer i.R. Karl-Siegfried Melzer
URL:https://weimar-evangelisch.de/veranstaltung/gottesdienst-77/2024-01-21/
LOCATION:Gemeinderaum im Evangelischen Kinderhaus „Sonnenhügel“\, Bonhoefferstraße 73a\, Weimar\, Thüringen\, 99427\, Deutschland
CATEGORIES:Gottesdienste
ATTACH;FMTTYPE=image/jpeg:https://weimar-evangelisch.de/wp-content/uploads/2022/03/evangelischen_kinderhaus_sonnenhügel_weimar_adresse.jpg
END:VEVENT
END:VCALENDAR