BEGIN:VCALENDAR
VERSION:2.0
PRODID:-//Weimar Evangelisch - ECPv6.6.1//NONSGML v1.0//EN
CALSCALE:GREGORIAN
METHOD:PUBLISH
X-ORIGINAL-URL:https://weimar-evangelisch.de
X-WR-CALDESC:Veranstaltungen für Weimar Evangelisch
REFRESH-INTERVAL;VALUE=DURATION:PT1H
X-Robots-Tag:noindex
X-PUBLISHED-TTL:PT1H
BEGIN:VTIMEZONE
TZID:Europe/Berlin
BEGIN:DAYLIGHT
TZOFFSETFROM:+0100
TZOFFSETTO:+0200
TZNAME:CEST
DTSTART:20250330T010000
END:DAYLIGHT
BEGIN:STANDARD
TZOFFSETFROM:+0200
TZOFFSETTO:+0100
TZNAME:CET
DTSTART:20251026T010000
END:STANDARD
END:VTIMEZONE
BEGIN:VEVENT
DTSTART;TZID=Europe/Berlin:20250622T093000
DTEND;TZID=Europe/Berlin:20250622T103000
DTSTAMP:20260425T122652
CREATED:20250331T100221Z
LAST-MODIFIED:20250331T100221Z
UID:17443-1750584600-1750588200@weimar-evangelisch.de
SUMMARY:Gottesdienst
DESCRIPTION:Pfarrer Peter Gümbel \n 
URL:https://weimar-evangelisch.de/veranstaltung/gottesdienst-157/2025-06-22/
LOCATION:Evangelisches Gemeindezentrum „Paul Schneider“\, Moskauer Straße 1a\, Weimar\, Thüringen\, 99427\, Deutschland
CATEGORIES:Gottesdienste
ATTACH;FMTTYPE=image/jpeg:https://weimar-evangelisch.de/wp-content/uploads/2021/06/weimarer_kirchen2_klein.jpg
END:VEVENT
BEGIN:VEVENT
DTSTART;TZID=Europe/Berlin:20250615T093000
DTEND;TZID=Europe/Berlin:20250615T103000
DTSTAMP:20260425T122652
CREATED:20250331T100221Z
LAST-MODIFIED:20250331T100221Z
UID:17442-1749979800-1749983400@weimar-evangelisch.de
SUMMARY:Gottesdienst
DESCRIPTION:Pfarrer Peter Gümbel \n 
URL:https://weimar-evangelisch.de/veranstaltung/gottesdienst-157/2025-06-15/
LOCATION:Evangelisches Gemeindezentrum „Paul Schneider“\, Moskauer Straße 1a\, Weimar\, Thüringen\, 99427\, Deutschland
CATEGORIES:Gottesdienste
ATTACH;FMTTYPE=image/jpeg:https://weimar-evangelisch.de/wp-content/uploads/2021/06/weimarer_kirchen2_klein.jpg
END:VEVENT
BEGIN:VEVENT
DTSTART;TZID=Europe/Berlin:20250601T093000
DTEND;TZID=Europe/Berlin:20250601T103000
DTSTAMP:20260425T122652
CREATED:20250331T100221Z
LAST-MODIFIED:20250331T100221Z
UID:17440-1748770200-1748773800@weimar-evangelisch.de
SUMMARY:Gottesdienst
DESCRIPTION:Pfarrer Peter Gümbel \n 
URL:https://weimar-evangelisch.de/veranstaltung/gottesdienst-157/2025-06-01/
LOCATION:Evangelisches Gemeindezentrum „Paul Schneider“\, Moskauer Straße 1a\, Weimar\, Thüringen\, 99427\, Deutschland
CATEGORIES:Gottesdienste
ATTACH;FMTTYPE=image/jpeg:https://weimar-evangelisch.de/wp-content/uploads/2021/06/weimarer_kirchen2_klein.jpg
END:VEVENT
BEGIN:VEVENT
DTSTART;TZID=Europe/Berlin:20250504T093000
DTEND;TZID=Europe/Berlin:20250504T103000
DTSTAMP:20260425T122652
CREATED:20250331T100221Z
LAST-MODIFIED:20250331T100221Z
UID:17436-1746351000-1746354600@weimar-evangelisch.de
SUMMARY:Gottesdienst
DESCRIPTION:Pfarrer Peter Gümbel \n 
URL:https://weimar-evangelisch.de/veranstaltung/gottesdienst-157/2025-05-04/
LOCATION:Evangelisches Gemeindezentrum „Paul Schneider“\, Moskauer Straße 1a\, Weimar\, Thüringen\, 99427\, Deutschland
CATEGORIES:Gottesdienste
ATTACH;FMTTYPE=image/jpeg:https://weimar-evangelisch.de/wp-content/uploads/2021/06/weimarer_kirchen2_klein.jpg
END:VEVENT
BEGIN:VEVENT
DTSTART;TZID=Europe/Berlin:20250427T093000
DTEND;TZID=Europe/Berlin:20250427T103000
DTSTAMP:20260425T122652
CREATED:20250331T100221Z
LAST-MODIFIED:20250331T100221Z
UID:17435-1745746200-1745749800@weimar-evangelisch.de
SUMMARY:Gottesdienst
DESCRIPTION:Pfarrer Peter Gümbel \n 
URL:https://weimar-evangelisch.de/veranstaltung/gottesdienst-157/2025-04-27/
LOCATION:Evangelisches Gemeindezentrum „Paul Schneider“\, Moskauer Straße 1a\, Weimar\, Thüringen\, 99427\, Deutschland
CATEGORIES:Gottesdienste
ATTACH;FMTTYPE=image/jpeg:https://weimar-evangelisch.de/wp-content/uploads/2021/06/weimarer_kirchen2_klein.jpg
END:VEVENT
END:VCALENDAR