BEGIN:VCALENDAR
VERSION:2.0
PRODID:-//Weimar Evangelisch - ECPv6.6.1//NONSGML v1.0//EN
CALSCALE:GREGORIAN
METHOD:PUBLISH
X-WR-CALNAME:Weimar Evangelisch
X-ORIGINAL-URL:https://weimar-evangelisch.de
X-WR-CALDESC:Veranstaltungen für Weimar Evangelisch
REFRESH-INTERVAL;VALUE=DURATION:PT1H
X-Robots-Tag:noindex
X-PUBLISHED-TTL:PT1H
BEGIN:VTIMEZONE
TZID:Europe/Berlin
BEGIN:DAYLIGHT
TZOFFSETFROM:+0100
TZOFFSETTO:+0200
TZNAME:CEST
DTSTART:20260329T010000
END:DAYLIGHT
BEGIN:STANDARD
TZOFFSETFROM:+0200
TZOFFSETTO:+0100
TZNAME:CET
DTSTART:20261025T010000
END:STANDARD
END:VTIMEZONE
BEGIN:VEVENT
DTSTART;TZID=Europe/Berlin:20260517T100000
DTEND;TZID=Europe/Berlin:20260517T110000
DTSTAMP:20260422T104923
CREATED:20250311T095924Z
LAST-MODIFIED:20250311T095924Z
UID:18496-1779012000-1779015600@weimar-evangelisch.de
SUMMARY:Gottesdienst
DESCRIPTION:
URL:https://weimar-evangelisch.de/veranstaltung/gottesdienst-133-2025-05-04-2/2026-05-17/
LOCATION:Jakobskirche\, Am Jakobskirchhof 9\, Weimar\, Thüringen\, 99423\, Deutschland
CATEGORIES:Gottesdienste
ATTACH;FMTTYPE=image/jpeg:https://weimar-evangelisch.de/wp-content/uploads/2022/01/Jakobskirche_Weimar_s2528_0048.jpg
END:VEVENT
BEGIN:VEVENT
DTSTART;TZID=Europe/Berlin:20260524T100000
DTEND;TZID=Europe/Berlin:20260524T110000
DTSTAMP:20260422T104923
CREATED:20250311T095924Z
LAST-MODIFIED:20250311T095924Z
UID:18497-1779616800-1779620400@weimar-evangelisch.de
SUMMARY:Gottesdienst
DESCRIPTION:
URL:https://weimar-evangelisch.de/veranstaltung/gottesdienst-133-2025-05-04-2/2026-05-24/
LOCATION:Jakobskirche\, Am Jakobskirchhof 9\, Weimar\, Thüringen\, 99423\, Deutschland
CATEGORIES:Gottesdienste
ATTACH;FMTTYPE=image/jpeg:https://weimar-evangelisch.de/wp-content/uploads/2022/01/Jakobskirche_Weimar_s2528_0048.jpg
END:VEVENT
BEGIN:VEVENT
DTSTART;TZID=Europe/Berlin:20260531T100000
DTEND;TZID=Europe/Berlin:20260531T110000
DTSTAMP:20260422T104923
CREATED:20250311T095924Z
LAST-MODIFIED:20250311T095924Z
UID:18498-1780221600-1780225200@weimar-evangelisch.de
SUMMARY:Gottesdienst
DESCRIPTION:
URL:https://weimar-evangelisch.de/veranstaltung/gottesdienst-133-2025-05-04-2/2026-05-31/
LOCATION:Jakobskirche\, Am Jakobskirchhof 9\, Weimar\, Thüringen\, 99423\, Deutschland
CATEGORIES:Gottesdienste
ATTACH;FMTTYPE=image/jpeg:https://weimar-evangelisch.de/wp-content/uploads/2022/01/Jakobskirche_Weimar_s2528_0048.jpg
END:VEVENT
BEGIN:VEVENT
DTSTART;TZID=Europe/Berlin:20260607T100000
DTEND;TZID=Europe/Berlin:20260607T110000
DTSTAMP:20260422T104923
CREATED:20250311T095924Z
LAST-MODIFIED:20250311T095924Z
UID:18499-1780826400-1780830000@weimar-evangelisch.de
SUMMARY:Gottesdienst
DESCRIPTION:
URL:https://weimar-evangelisch.de/veranstaltung/gottesdienst-133-2025-05-04-2/2026-06-07/
LOCATION:Jakobskirche\, Am Jakobskirchhof 9\, Weimar\, Thüringen\, 99423\, Deutschland
CATEGORIES:Gottesdienste
ATTACH;FMTTYPE=image/jpeg:https://weimar-evangelisch.de/wp-content/uploads/2022/01/Jakobskirche_Weimar_s2528_0048.jpg
END:VEVENT
BEGIN:VEVENT
DTSTART;TZID=Europe/Berlin:20260614T100000
DTEND;TZID=Europe/Berlin:20260614T110000
DTSTAMP:20260422T104923
CREATED:20250311T095924Z
LAST-MODIFIED:20250311T095924Z
UID:18500-1781431200-1781434800@weimar-evangelisch.de
SUMMARY:Gottesdienst
DESCRIPTION:
URL:https://weimar-evangelisch.de/veranstaltung/gottesdienst-133-2025-05-04-2/2026-06-14/
LOCATION:Jakobskirche\, Am Jakobskirchhof 9\, Weimar\, Thüringen\, 99423\, Deutschland
CATEGORIES:Gottesdienste
ATTACH;FMTTYPE=image/jpeg:https://weimar-evangelisch.de/wp-content/uploads/2022/01/Jakobskirche_Weimar_s2528_0048.jpg
END:VEVENT
BEGIN:VEVENT
DTSTART;TZID=Europe/Berlin:20260621T100000
DTEND;TZID=Europe/Berlin:20260621T110000
DTSTAMP:20260422T104923
CREATED:20250311T095924Z
LAST-MODIFIED:20250311T095924Z
UID:18501-1782036000-1782039600@weimar-evangelisch.de
SUMMARY:Gottesdienst
DESCRIPTION:
URL:https://weimar-evangelisch.de/veranstaltung/gottesdienst-133-2025-05-04-2/2026-06-21/
LOCATION:Jakobskirche\, Am Jakobskirchhof 9\, Weimar\, Thüringen\, 99423\, Deutschland
CATEGORIES:Gottesdienste
ATTACH;FMTTYPE=image/jpeg:https://weimar-evangelisch.de/wp-content/uploads/2022/01/Jakobskirche_Weimar_s2528_0048.jpg
END:VEVENT
BEGIN:VEVENT
DTSTART;TZID=Europe/Berlin:20260628T100000
DTEND;TZID=Europe/Berlin:20260628T110000
DTSTAMP:20260422T104923
CREATED:20250311T095924Z
LAST-MODIFIED:20250311T095924Z
UID:18502-1782640800-1782644400@weimar-evangelisch.de
SUMMARY:Gottesdienst
DESCRIPTION:
URL:https://weimar-evangelisch.de/veranstaltung/gottesdienst-133-2025-05-04-2/2026-06-28/
LOCATION:Jakobskirche\, Am Jakobskirchhof 9\, Weimar\, Thüringen\, 99423\, Deutschland
CATEGORIES:Gottesdienste
ATTACH;FMTTYPE=image/jpeg:https://weimar-evangelisch.de/wp-content/uploads/2022/01/Jakobskirche_Weimar_s2528_0048.jpg
END:VEVENT
BEGIN:VEVENT
DTSTART;TZID=Europe/Berlin:20260705T100000
DTEND;TZID=Europe/Berlin:20260705T110000
DTSTAMP:20260422T104923
CREATED:20250311T095924Z
LAST-MODIFIED:20250311T095924Z
UID:18503-1783245600-1783249200@weimar-evangelisch.de
SUMMARY:Gottesdienst
DESCRIPTION:
URL:https://weimar-evangelisch.de/veranstaltung/gottesdienst-133-2025-05-04-2/2026-07-05/
LOCATION:Jakobskirche\, Am Jakobskirchhof 9\, Weimar\, Thüringen\, 99423\, Deutschland
CATEGORIES:Gottesdienste
ATTACH;FMTTYPE=image/jpeg:https://weimar-evangelisch.de/wp-content/uploads/2022/01/Jakobskirche_Weimar_s2528_0048.jpg
END:VEVENT
BEGIN:VEVENT
DTSTART;TZID=Europe/Berlin:20260712T100000
DTEND;TZID=Europe/Berlin:20260712T110000
DTSTAMP:20260422T104923
CREATED:20250311T095924Z
LAST-MODIFIED:20250311T095924Z
UID:18504-1783850400-1783854000@weimar-evangelisch.de
SUMMARY:Gottesdienst
DESCRIPTION:
URL:https://weimar-evangelisch.de/veranstaltung/gottesdienst-133-2025-05-04-2/2026-07-12/
LOCATION:Jakobskirche\, Am Jakobskirchhof 9\, Weimar\, Thüringen\, 99423\, Deutschland
CATEGORIES:Gottesdienste
ATTACH;FMTTYPE=image/jpeg:https://weimar-evangelisch.de/wp-content/uploads/2022/01/Jakobskirche_Weimar_s2528_0048.jpg
END:VEVENT
BEGIN:VEVENT
DTSTART;TZID=Europe/Berlin:20260719T100000
DTEND;TZID=Europe/Berlin:20260719T110000
DTSTAMP:20260422T104923
CREATED:20250311T095924Z
LAST-MODIFIED:20250311T095924Z
UID:18505-1784455200-1784458800@weimar-evangelisch.de
SUMMARY:Gottesdienst
DESCRIPTION:
URL:https://weimar-evangelisch.de/veranstaltung/gottesdienst-133-2025-05-04-2/2026-07-19/
LOCATION:Jakobskirche\, Am Jakobskirchhof 9\, Weimar\, Thüringen\, 99423\, Deutschland
CATEGORIES:Gottesdienste
ATTACH;FMTTYPE=image/jpeg:https://weimar-evangelisch.de/wp-content/uploads/2022/01/Jakobskirche_Weimar_s2528_0048.jpg
END:VEVENT
BEGIN:VEVENT
DTSTART;TZID=Europe/Berlin:20260726T100000
DTEND;TZID=Europe/Berlin:20260726T110000
DTSTAMP:20260422T104923
CREATED:20250311T095924Z
LAST-MODIFIED:20250311T095924Z
UID:18506-1785060000-1785063600@weimar-evangelisch.de
SUMMARY:Gottesdienst
DESCRIPTION:
URL:https://weimar-evangelisch.de/veranstaltung/gottesdienst-133-2025-05-04-2/2026-07-26/
LOCATION:Jakobskirche\, Am Jakobskirchhof 9\, Weimar\, Thüringen\, 99423\, Deutschland
CATEGORIES:Gottesdienste
ATTACH;FMTTYPE=image/jpeg:https://weimar-evangelisch.de/wp-content/uploads/2022/01/Jakobskirche_Weimar_s2528_0048.jpg
END:VEVENT
BEGIN:VEVENT
DTSTART;TZID=Europe/Berlin:20260802T100000
DTEND;TZID=Europe/Berlin:20260802T110000
DTSTAMP:20260422T104923
CREATED:20250311T095924Z
LAST-MODIFIED:20250311T095924Z
UID:18507-1785664800-1785668400@weimar-evangelisch.de
SUMMARY:Gottesdienst
DESCRIPTION:
URL:https://weimar-evangelisch.de/veranstaltung/gottesdienst-133-2025-05-04-2/2026-08-02/
LOCATION:Jakobskirche\, Am Jakobskirchhof 9\, Weimar\, Thüringen\, 99423\, Deutschland
CATEGORIES:Gottesdienste
ATTACH;FMTTYPE=image/jpeg:https://weimar-evangelisch.de/wp-content/uploads/2022/01/Jakobskirche_Weimar_s2528_0048.jpg
END:VEVENT
BEGIN:VEVENT
DTSTART;TZID=Europe/Berlin:20260809T100000
DTEND;TZID=Europe/Berlin:20260809T110000
DTSTAMP:20260422T104923
CREATED:20250311T095924Z
LAST-MODIFIED:20250311T095924Z
UID:18508-1786269600-1786273200@weimar-evangelisch.de
SUMMARY:Gottesdienst
DESCRIPTION:
URL:https://weimar-evangelisch.de/veranstaltung/gottesdienst-133-2025-05-04-2/2026-08-09/
LOCATION:Jakobskirche\, Am Jakobskirchhof 9\, Weimar\, Thüringen\, 99423\, Deutschland
CATEGORIES:Gottesdienste
ATTACH;FMTTYPE=image/jpeg:https://weimar-evangelisch.de/wp-content/uploads/2022/01/Jakobskirche_Weimar_s2528_0048.jpg
END:VEVENT
BEGIN:VEVENT
DTSTART;TZID=Europe/Berlin:20260816T100000
DTEND;TZID=Europe/Berlin:20260816T110000
DTSTAMP:20260422T104923
CREATED:20250311T095924Z
LAST-MODIFIED:20250311T095924Z
UID:18509-1786874400-1786878000@weimar-evangelisch.de
SUMMARY:Gottesdienst
DESCRIPTION:
URL:https://weimar-evangelisch.de/veranstaltung/gottesdienst-133-2025-05-04-2/2026-08-16/
LOCATION:Jakobskirche\, Am Jakobskirchhof 9\, Weimar\, Thüringen\, 99423\, Deutschland
CATEGORIES:Gottesdienste
ATTACH;FMTTYPE=image/jpeg:https://weimar-evangelisch.de/wp-content/uploads/2022/01/Jakobskirche_Weimar_s2528_0048.jpg
END:VEVENT
BEGIN:VEVENT
DTSTART;TZID=Europe/Berlin:20260823T100000
DTEND;TZID=Europe/Berlin:20260823T110000
DTSTAMP:20260422T104923
CREATED:20250311T095924Z
LAST-MODIFIED:20250311T095924Z
UID:18510-1787479200-1787482800@weimar-evangelisch.de
SUMMARY:Gottesdienst
DESCRIPTION:
URL:https://weimar-evangelisch.de/veranstaltung/gottesdienst-133-2025-05-04-2/2026-08-23/
LOCATION:Jakobskirche\, Am Jakobskirchhof 9\, Weimar\, Thüringen\, 99423\, Deutschland
CATEGORIES:Gottesdienste
ATTACH;FMTTYPE=image/jpeg:https://weimar-evangelisch.de/wp-content/uploads/2022/01/Jakobskirche_Weimar_s2528_0048.jpg
END:VEVENT
BEGIN:VEVENT
DTSTART;TZID=Europe/Berlin:20260830T100000
DTEND;TZID=Europe/Berlin:20260830T110000
DTSTAMP:20260422T104923
CREATED:20250311T095924Z
LAST-MODIFIED:20250311T095924Z
UID:18511-1788084000-1788087600@weimar-evangelisch.de
SUMMARY:Gottesdienst
DESCRIPTION:
URL:https://weimar-evangelisch.de/veranstaltung/gottesdienst-133-2025-05-04-2/2026-08-30/
LOCATION:Jakobskirche\, Am Jakobskirchhof 9\, Weimar\, Thüringen\, 99423\, Deutschland
CATEGORIES:Gottesdienste
ATTACH;FMTTYPE=image/jpeg:https://weimar-evangelisch.de/wp-content/uploads/2022/01/Jakobskirche_Weimar_s2528_0048.jpg
END:VEVENT
BEGIN:VEVENT
DTSTART;TZID=Europe/Berlin:20260906T100000
DTEND;TZID=Europe/Berlin:20260906T110000
DTSTAMP:20260422T104923
CREATED:20250311T095924Z
LAST-MODIFIED:20250311T095924Z
UID:18512-1788688800-1788692400@weimar-evangelisch.de
SUMMARY:Gottesdienst
DESCRIPTION:
URL:https://weimar-evangelisch.de/veranstaltung/gottesdienst-133-2025-05-04-2/2026-09-06/
LOCATION:Jakobskirche\, Am Jakobskirchhof 9\, Weimar\, Thüringen\, 99423\, Deutschland
CATEGORIES:Gottesdienste
ATTACH;FMTTYPE=image/jpeg:https://weimar-evangelisch.de/wp-content/uploads/2022/01/Jakobskirche_Weimar_s2528_0048.jpg
END:VEVENT
BEGIN:VEVENT
DTSTART;TZID=Europe/Berlin:20260913T100000
DTEND;TZID=Europe/Berlin:20260913T110000
DTSTAMP:20260422T104923
CREATED:20250311T095924Z
LAST-MODIFIED:20250311T095924Z
UID:18513-1789293600-1789297200@weimar-evangelisch.de
SUMMARY:Gottesdienst
DESCRIPTION:
URL:https://weimar-evangelisch.de/veranstaltung/gottesdienst-133-2025-05-04-2/2026-09-13/
LOCATION:Jakobskirche\, Am Jakobskirchhof 9\, Weimar\, Thüringen\, 99423\, Deutschland
CATEGORIES:Gottesdienste
ATTACH;FMTTYPE=image/jpeg:https://weimar-evangelisch.de/wp-content/uploads/2022/01/Jakobskirche_Weimar_s2528_0048.jpg
END:VEVENT
BEGIN:VEVENT
DTSTART;TZID=Europe/Berlin:20260920T100000
DTEND;TZID=Europe/Berlin:20260920T110000
DTSTAMP:20260422T104923
CREATED:20250311T095924Z
LAST-MODIFIED:20250311T095924Z
UID:18514-1789898400-1789902000@weimar-evangelisch.de
SUMMARY:Gottesdienst
DESCRIPTION:
URL:https://weimar-evangelisch.de/veranstaltung/gottesdienst-133-2025-05-04-2/2026-09-20/
LOCATION:Jakobskirche\, Am Jakobskirchhof 9\, Weimar\, Thüringen\, 99423\, Deutschland
CATEGORIES:Gottesdienste
ATTACH;FMTTYPE=image/jpeg:https://weimar-evangelisch.de/wp-content/uploads/2022/01/Jakobskirche_Weimar_s2528_0048.jpg
END:VEVENT
BEGIN:VEVENT
DTSTART;TZID=Europe/Berlin:20260927T100000
DTEND;TZID=Europe/Berlin:20260927T110000
DTSTAMP:20260422T104923
CREATED:20250311T095924Z
LAST-MODIFIED:20250311T095924Z
UID:18515-1790503200-1790506800@weimar-evangelisch.de
SUMMARY:Gottesdienst
DESCRIPTION:
URL:https://weimar-evangelisch.de/veranstaltung/gottesdienst-133-2025-05-04-2/2026-09-27/
LOCATION:Jakobskirche\, Am Jakobskirchhof 9\, Weimar\, Thüringen\, 99423\, Deutschland
CATEGORIES:Gottesdienste
ATTACH;FMTTYPE=image/jpeg:https://weimar-evangelisch.de/wp-content/uploads/2022/01/Jakobskirche_Weimar_s2528_0048.jpg
END:VEVENT
BEGIN:VEVENT
DTSTART;TZID=Europe/Berlin:20261004T100000
DTEND;TZID=Europe/Berlin:20261004T110000
DTSTAMP:20260422T104923
CREATED:20250311T095924Z
LAST-MODIFIED:20250311T095924Z
UID:18516-1791108000-1791111600@weimar-evangelisch.de
SUMMARY:Gottesdienst
DESCRIPTION:
URL:https://weimar-evangelisch.de/veranstaltung/gottesdienst-133-2025-05-04-2/2026-10-04/
LOCATION:Jakobskirche\, Am Jakobskirchhof 9\, Weimar\, Thüringen\, 99423\, Deutschland
CATEGORIES:Gottesdienste
ATTACH;FMTTYPE=image/jpeg:https://weimar-evangelisch.de/wp-content/uploads/2022/01/Jakobskirche_Weimar_s2528_0048.jpg
END:VEVENT
BEGIN:VEVENT
DTSTART;TZID=Europe/Berlin:20261011T100000
DTEND;TZID=Europe/Berlin:20261011T110000
DTSTAMP:20260422T104923
CREATED:20250311T095924Z
LAST-MODIFIED:20250311T095924Z
UID:18517-1791712800-1791716400@weimar-evangelisch.de
SUMMARY:Gottesdienst
DESCRIPTION:
URL:https://weimar-evangelisch.de/veranstaltung/gottesdienst-133-2025-05-04-2/2026-10-11/
LOCATION:Jakobskirche\, Am Jakobskirchhof 9\, Weimar\, Thüringen\, 99423\, Deutschland
CATEGORIES:Gottesdienste
ATTACH;FMTTYPE=image/jpeg:https://weimar-evangelisch.de/wp-content/uploads/2022/01/Jakobskirche_Weimar_s2528_0048.jpg
END:VEVENT
BEGIN:VEVENT
DTSTART;TZID=Europe/Berlin:20261018T100000
DTEND;TZID=Europe/Berlin:20261018T110000
DTSTAMP:20260422T104923
CREATED:20250311T095924Z
LAST-MODIFIED:20250311T095924Z
UID:18518-1792317600-1792321200@weimar-evangelisch.de
SUMMARY:Gottesdienst
DESCRIPTION:
URL:https://weimar-evangelisch.de/veranstaltung/gottesdienst-133-2025-05-04-2/2026-10-18/
LOCATION:Jakobskirche\, Am Jakobskirchhof 9\, Weimar\, Thüringen\, 99423\, Deutschland
CATEGORIES:Gottesdienste
ATTACH;FMTTYPE=image/jpeg:https://weimar-evangelisch.de/wp-content/uploads/2022/01/Jakobskirche_Weimar_s2528_0048.jpg
END:VEVENT
BEGIN:VEVENT
DTSTART;TZID=Europe/Berlin:20261025T100000
DTEND;TZID=Europe/Berlin:20261025T110000
DTSTAMP:20260422T104923
CREATED:20250311T095924Z
LAST-MODIFIED:20250311T095924Z
UID:18519-1792922400-1792926000@weimar-evangelisch.de
SUMMARY:Gottesdienst
DESCRIPTION:
URL:https://weimar-evangelisch.de/veranstaltung/gottesdienst-133-2025-05-04-2/2026-10-25/
LOCATION:Jakobskirche\, Am Jakobskirchhof 9\, Weimar\, Thüringen\, 99423\, Deutschland
CATEGORIES:Gottesdienste
ATTACH;FMTTYPE=image/jpeg:https://weimar-evangelisch.de/wp-content/uploads/2022/01/Jakobskirche_Weimar_s2528_0048.jpg
END:VEVENT
BEGIN:VEVENT
DTSTART;TZID=Europe/Berlin:20261101T100000
DTEND;TZID=Europe/Berlin:20261101T110000
DTSTAMP:20260422T104923
CREATED:20250311T095924Z
LAST-MODIFIED:20250311T095924Z
UID:18520-1793527200-1793530800@weimar-evangelisch.de
SUMMARY:Gottesdienst
DESCRIPTION:
URL:https://weimar-evangelisch.de/veranstaltung/gottesdienst-133-2025-05-04-2/2026-11-01/
LOCATION:Jakobskirche\, Am Jakobskirchhof 9\, Weimar\, Thüringen\, 99423\, Deutschland
CATEGORIES:Gottesdienste
ATTACH;FMTTYPE=image/jpeg:https://weimar-evangelisch.de/wp-content/uploads/2022/01/Jakobskirche_Weimar_s2528_0048.jpg
END:VEVENT
BEGIN:VEVENT
DTSTART;TZID=Europe/Berlin:20261108T100000
DTEND;TZID=Europe/Berlin:20261108T110000
DTSTAMP:20260422T104923
CREATED:20250311T095924Z
LAST-MODIFIED:20250311T095924Z
UID:18521-1794132000-1794135600@weimar-evangelisch.de
SUMMARY:Gottesdienst
DESCRIPTION:
URL:https://weimar-evangelisch.de/veranstaltung/gottesdienst-133-2025-05-04-2/2026-11-08/
LOCATION:Jakobskirche\, Am Jakobskirchhof 9\, Weimar\, Thüringen\, 99423\, Deutschland
CATEGORIES:Gottesdienste
ATTACH;FMTTYPE=image/jpeg:https://weimar-evangelisch.de/wp-content/uploads/2022/01/Jakobskirche_Weimar_s2528_0048.jpg
END:VEVENT
BEGIN:VEVENT
DTSTART;TZID=Europe/Berlin:20261115T100000
DTEND;TZID=Europe/Berlin:20261115T110000
DTSTAMP:20260422T104923
CREATED:20250311T095924Z
LAST-MODIFIED:20250311T095924Z
UID:18522-1794736800-1794740400@weimar-evangelisch.de
SUMMARY:Gottesdienst
DESCRIPTION:
URL:https://weimar-evangelisch.de/veranstaltung/gottesdienst-133-2025-05-04-2/2026-11-15/
LOCATION:Jakobskirche\, Am Jakobskirchhof 9\, Weimar\, Thüringen\, 99423\, Deutschland
CATEGORIES:Gottesdienste
ATTACH;FMTTYPE=image/jpeg:https://weimar-evangelisch.de/wp-content/uploads/2022/01/Jakobskirche_Weimar_s2528_0048.jpg
END:VEVENT
BEGIN:VEVENT
DTSTART;TZID=Europe/Berlin:20261122T100000
DTEND;TZID=Europe/Berlin:20261122T110000
DTSTAMP:20260422T104923
CREATED:20250311T095924Z
LAST-MODIFIED:20250311T095924Z
UID:18523-1795341600-1795345200@weimar-evangelisch.de
SUMMARY:Gottesdienst
DESCRIPTION:
URL:https://weimar-evangelisch.de/veranstaltung/gottesdienst-133-2025-05-04-2/2026-11-22/
LOCATION:Jakobskirche\, Am Jakobskirchhof 9\, Weimar\, Thüringen\, 99423\, Deutschland
CATEGORIES:Gottesdienste
ATTACH;FMTTYPE=image/jpeg:https://weimar-evangelisch.de/wp-content/uploads/2022/01/Jakobskirche_Weimar_s2528_0048.jpg
END:VEVENT
BEGIN:VEVENT
DTSTART;TZID=Europe/Berlin:20261129T100000
DTEND;TZID=Europe/Berlin:20261129T110000
DTSTAMP:20260422T104923
CREATED:20250311T095924Z
LAST-MODIFIED:20250311T095924Z
UID:18524-1795946400-1795950000@weimar-evangelisch.de
SUMMARY:Gottesdienst
DESCRIPTION:
URL:https://weimar-evangelisch.de/veranstaltung/gottesdienst-133-2025-05-04-2/2026-11-29/
LOCATION:Jakobskirche\, Am Jakobskirchhof 9\, Weimar\, Thüringen\, 99423\, Deutschland
CATEGORIES:Gottesdienste
ATTACH;FMTTYPE=image/jpeg:https://weimar-evangelisch.de/wp-content/uploads/2022/01/Jakobskirche_Weimar_s2528_0048.jpg
END:VEVENT
BEGIN:VEVENT
DTSTART;TZID=Europe/Berlin:20261206T100000
DTEND;TZID=Europe/Berlin:20261206T110000
DTSTAMP:20260422T104923
CREATED:20250311T095924Z
LAST-MODIFIED:20250311T095924Z
UID:18525-1796551200-1796554800@weimar-evangelisch.de
SUMMARY:Gottesdienst
DESCRIPTION:
URL:https://weimar-evangelisch.de/veranstaltung/gottesdienst-133-2025-05-04-2/2026-12-06/
LOCATION:Jakobskirche\, Am Jakobskirchhof 9\, Weimar\, Thüringen\, 99423\, Deutschland
CATEGORIES:Gottesdienste
ATTACH;FMTTYPE=image/jpeg:https://weimar-evangelisch.de/wp-content/uploads/2022/01/Jakobskirche_Weimar_s2528_0048.jpg
END:VEVENT
END:VCALENDAR