BEGIN:VCALENDAR
VERSION:2.0
PRODID:-//Weimar Evangelisch - ECPv6.6.1//NONSGML v1.0//EN
CALSCALE:GREGORIAN
METHOD:PUBLISH
X-ORIGINAL-URL:https://weimar-evangelisch.de
X-WR-CALDESC:Veranstaltungen für Weimar Evangelisch
REFRESH-INTERVAL;VALUE=DURATION:PT1H
X-Robots-Tag:noindex
X-PUBLISHED-TTL:PT1H
BEGIN:VTIMEZONE
TZID:Europe/Berlin
BEGIN:DAYLIGHT
TZOFFSETFROM:+0100
TZOFFSETTO:+0200
TZNAME:CEST
DTSTART:20220327T010000
END:DAYLIGHT
BEGIN:STANDARD
TZOFFSETFROM:+0200
TZOFFSETTO:+0100
TZNAME:CET
DTSTART:20221030T010000
END:STANDARD
END:VTIMEZONE
BEGIN:VEVENT
DTSTART;TZID=Europe/Berlin:20221224T160000
DTEND;TZID=Europe/Berlin:20221224T170000
DTSTAMP:20260422T144348
CREATED:20221202T105217Z
LAST-MODIFIED:20221202T105217Z
UID:6517-1671897600-1671901200@weimar-evangelisch.de
SUMMARY:Christvesper mit Krippenspiel
DESCRIPTION:Lektorin Dietlind Steinhöfel
URL:https://weimar-evangelisch.de/veranstaltung/christvesper-mit-krippenspiel-2/2022-12-24/
LOCATION:Süßenborn „Zu den Vierzehn Heiligen“\, Kirchweg 2\, Süßenborn\, Thüringen\, 99425\, Deutschland
CATEGORIES:Gottesdienste,Veranstaltungen
ATTACH;FMTTYPE=image/jpeg:https://weimar-evangelisch.de/wp-content/uploads/2022/03/vierzehn_heiligen_suessenborn_06.jpg
END:VEVENT
END:VCALENDAR