BEGIN:VCALENDAR
VERSION:2.0
PRODID:-//Weimar Evangelisch - ECPv6.6.1//NONSGML v1.0//EN
CALSCALE:GREGORIAN
METHOD:PUBLISH
X-WR-CALNAME:Weimar Evangelisch
X-ORIGINAL-URL:https://weimar-evangelisch.de
X-WR-CALDESC:Veranstaltungen für Weimar Evangelisch
REFRESH-INTERVAL;VALUE=DURATION:PT1H
X-Robots-Tag:noindex
X-PUBLISHED-TTL:PT1H
BEGIN:VTIMEZONE
TZID:Europe/Berlin
BEGIN:DAYLIGHT
TZOFFSETFROM:+0100
TZOFFSETTO:+0200
TZNAME:CEST
DTSTART:20260329T010000
END:DAYLIGHT
BEGIN:STANDARD
TZOFFSETFROM:+0200
TZOFFSETTO:+0100
TZNAME:CET
DTSTART:20261025T010000
END:STANDARD
END:VTIMEZONE
BEGIN:VEVENT
DTSTART;TZID=Europe/Berlin:20260425T150000
DTEND;TZID=Europe/Berlin:20260425T170000
DTSTAMP:20260422T124318
CREATED:20260407T101443Z
LAST-MODIFIED:20260407T101443Z
UID:21654-1777129200-1777136400@weimar-evangelisch.de
SUMMARY:Begrüßungsspaziergang
DESCRIPTION:Einmal im Quartal lädt die Kirchengemeinde Menschen\, die neu in Weimar sind\, zum Begrüßungsspaziergang ein. \nMitglieder des Innerkirchlichen Ausschusses nehmen sich an diesem Samstagnachmittag Zeit\, um mit den Zugezogenen ins Gespräch zu kommen\, die Angebote der Kirchengemeinde vorzustellen\, Kirchen und Lieblingsorte in der Stadt zu zeigen und eben zu spazieren. \nNach einer Runde durch die Stadt klingt das gemeinsame Unterwegssein bei einem Kaffee aus. Manche der Eingeladenen freuen sich einfach über die Idee\, andere spazieren mit und können durch den ersten Kontakt leichter Zugang zur Gemeinde finden. \nWir halten an der Einladung auch in diesem Monat fest und sagen wieder: \nHerzlich Willkommen!
URL:https://weimar-evangelisch.de/veranstaltung/begruessungsspaziergang-3/2026-04-25/
LOCATION:Jakobskirche\, Am Jakobskirchhof 9\, Weimar\, Thüringen\, 99423\, Deutschland
CATEGORIES:Veranstaltungen
ATTACH;FMTTYPE=image/jpeg:https://weimar-evangelisch.de/wp-content/uploads/2024/10/s2684_01_0067-scaled.jpg
END:VEVENT
BEGIN:VEVENT
DTSTART;TZID=Europe/Berlin:20260926T150000
DTEND;TZID=Europe/Berlin:20260926T170000
DTSTAMP:20260422T124318
CREATED:20260407T101443Z
LAST-MODIFIED:20260407T101443Z
UID:21655-1790434800-1790442000@weimar-evangelisch.de
SUMMARY:Begrüßungsspaziergang
DESCRIPTION:Einmal im Quartal lädt die Kirchengemeinde Menschen\, die neu in Weimar sind\, zum Begrüßungsspaziergang ein. \nMitglieder des Innerkirchlichen Ausschusses nehmen sich an diesem Samstagnachmittag Zeit\, um mit den Zugezogenen ins Gespräch zu kommen\, die Angebote der Kirchengemeinde vorzustellen\, Kirchen und Lieblingsorte in der Stadt zu zeigen und eben zu spazieren. \nNach einer Runde durch die Stadt klingt das gemeinsame Unterwegssein bei einem Kaffee aus. Manche der Eingeladenen freuen sich einfach über die Idee\, andere spazieren mit und können durch den ersten Kontakt leichter Zugang zur Gemeinde finden. \nWir halten an der Einladung auch in diesem Monat fest und sagen wieder: \nHerzlich Willkommen!
URL:https://weimar-evangelisch.de/veranstaltung/begruessungsspaziergang-3/2026-09-26/
LOCATION:Jakobskirche\, Am Jakobskirchhof 9\, Weimar\, Thüringen\, 99423\, Deutschland
CATEGORIES:Veranstaltungen
ATTACH;FMTTYPE=image/jpeg:https://weimar-evangelisch.de/wp-content/uploads/2024/10/s2684_01_0067-scaled.jpg
END:VEVENT
END:VCALENDAR