BEGIN:VCALENDAR
VERSION:2.0
PRODID:-//Weimar Evangelisch - ECPv6.6.1//NONSGML v1.0//EN
CALSCALE:GREGORIAN
METHOD:PUBLISH
X-ORIGINAL-URL:https://weimar-evangelisch.de
X-WR-CALDESC:Veranstaltungen für Weimar Evangelisch
REFRESH-INTERVAL;VALUE=DURATION:PT1H
X-Robots-Tag:noindex
X-PUBLISHED-TTL:PT1H
BEGIN:VTIMEZONE
TZID:Europe/Berlin
BEGIN:DAYLIGHT
TZOFFSETFROM:+0100
TZOFFSETTO:+0200
TZNAME:CEST
DTSTART:20250330T010000
END:DAYLIGHT
BEGIN:STANDARD
TZOFFSETFROM:+0200
TZOFFSETTO:+0100
TZNAME:CET
DTSTART:20251026T010000
END:STANDARD
END:VTIMEZONE
BEGIN:VEVENT
DTSTART;TZID=Europe/Berlin:20251025T160000
DTEND;TZID=Europe/Berlin:20251025T170000
DTSTAMP:20260424T103415
CREATED:20251024T092206Z
LAST-MODIFIED:20251024T092206Z
UID:18916-1761408000-1761411600@weimar-evangelisch.de
SUMMARY:Altar- und Kirchenführung
DESCRIPTION:Sie erleben eine protestantische Bilderpredigt und entdecken viele Details der Epitaphien im Chorraum der Stadtkirche.
URL:https://weimar-evangelisch.de/veranstaltung/altar-und-kirchenfuehrung-5/2025-10-25/
LOCATION:Herderkirche\, Herderplatz 8\, Weimar\, 99423\, Deutschland
CATEGORIES:Führungen,Veranstaltungen
ATTACH;FMTTYPE=image/jpeg:https://weimar-evangelisch.de/wp-content/uploads/2022/04/WECranachaltarMitte.jpg
END:VEVENT
BEGIN:VEVENT
DTSTART;TZID=Europe/Berlin:20251018T160000
DTEND;TZID=Europe/Berlin:20251018T170000
DTSTAMP:20260424T103415
CREATED:20251024T092206Z
LAST-MODIFIED:20251024T092206Z
UID:18915-1760803200-1760806800@weimar-evangelisch.de
SUMMARY:Altar- und Kirchenführung
DESCRIPTION:Sie erleben eine protestantische Bilderpredigt und entdecken viele Details der Epitaphien im Chorraum der Stadtkirche.
URL:https://weimar-evangelisch.de/veranstaltung/altar-und-kirchenfuehrung-5/2025-10-18/
LOCATION:Herderkirche\, Herderplatz 8\, Weimar\, 99423\, Deutschland
CATEGORIES:Führungen,Veranstaltungen
ATTACH;FMTTYPE=image/jpeg:https://weimar-evangelisch.de/wp-content/uploads/2022/04/WECranachaltarMitte.jpg
END:VEVENT
BEGIN:VEVENT
DTSTART;TZID=Europe/Berlin:20251011T160000
DTEND;TZID=Europe/Berlin:20251011T170000
DTSTAMP:20260424T103415
CREATED:20251024T092206Z
LAST-MODIFIED:20251024T092206Z
UID:18914-1760198400-1760202000@weimar-evangelisch.de
SUMMARY:Altar- und Kirchenführung
DESCRIPTION:Sie erleben eine protestantische Bilderpredigt und entdecken viele Details der Epitaphien im Chorraum der Stadtkirche.
URL:https://weimar-evangelisch.de/veranstaltung/altar-und-kirchenfuehrung-5/2025-10-11/
LOCATION:Herderkirche\, Herderplatz 8\, Weimar\, 99423\, Deutschland
CATEGORIES:Führungen,Veranstaltungen
ATTACH;FMTTYPE=image/jpeg:https://weimar-evangelisch.de/wp-content/uploads/2022/04/WECranachaltarMitte.jpg
END:VEVENT
BEGIN:VEVENT
DTSTART;TZID=Europe/Berlin:20251004T160000
DTEND;TZID=Europe/Berlin:20251004T170000
DTSTAMP:20260424T103415
CREATED:20251024T092206Z
LAST-MODIFIED:20251024T092206Z
UID:18913-1759593600-1759597200@weimar-evangelisch.de
SUMMARY:Altar- und Kirchenführung
DESCRIPTION:Sie erleben eine protestantische Bilderpredigt und entdecken viele Details der Epitaphien im Chorraum der Stadtkirche.
URL:https://weimar-evangelisch.de/veranstaltung/altar-und-kirchenfuehrung-5/2025-10-04/
LOCATION:Herderkirche\, Herderplatz 8\, Weimar\, 99423\, Deutschland
CATEGORIES:Führungen,Veranstaltungen
ATTACH;FMTTYPE=image/jpeg:https://weimar-evangelisch.de/wp-content/uploads/2022/04/WECranachaltarMitte.jpg
END:VEVENT
BEGIN:VEVENT
DTSTART;TZID=Europe/Berlin:20250927T160000
DTEND;TZID=Europe/Berlin:20250927T170000
DTSTAMP:20260424T103415
CREATED:20251024T092206Z
LAST-MODIFIED:20251024T092206Z
UID:18912-1758988800-1758992400@weimar-evangelisch.de
SUMMARY:Altar- und Kirchenführung
DESCRIPTION:Sie erleben eine protestantische Bilderpredigt und entdecken viele Details der Epitaphien im Chorraum der Stadtkirche.
URL:https://weimar-evangelisch.de/veranstaltung/altar-und-kirchenfuehrung-5/2025-09-27/
LOCATION:Herderkirche\, Herderplatz 8\, Weimar\, 99423\, Deutschland
CATEGORIES:Führungen,Veranstaltungen
ATTACH;FMTTYPE=image/jpeg:https://weimar-evangelisch.de/wp-content/uploads/2022/04/WECranachaltarMitte.jpg
END:VEVENT
BEGIN:VEVENT
DTSTART;TZID=Europe/Berlin:20250920T160000
DTEND;TZID=Europe/Berlin:20250920T170000
DTSTAMP:20260424T103415
CREATED:20251024T092206Z
LAST-MODIFIED:20251024T092206Z
UID:18911-1758384000-1758387600@weimar-evangelisch.de
SUMMARY:Altar- und Kirchenführung
DESCRIPTION:Sie erleben eine protestantische Bilderpredigt und entdecken viele Details der Epitaphien im Chorraum der Stadtkirche.
URL:https://weimar-evangelisch.de/veranstaltung/altar-und-kirchenfuehrung-5/2025-09-20/
LOCATION:Herderkirche\, Herderplatz 8\, Weimar\, 99423\, Deutschland
CATEGORIES:Führungen,Veranstaltungen
ATTACH;FMTTYPE=image/jpeg:https://weimar-evangelisch.de/wp-content/uploads/2022/04/WECranachaltarMitte.jpg
END:VEVENT
BEGIN:VEVENT
DTSTART;TZID=Europe/Berlin:20250913T160000
DTEND;TZID=Europe/Berlin:20250913T170000
DTSTAMP:20260424T103415
CREATED:20251024T092206Z
LAST-MODIFIED:20251024T092206Z
UID:18910-1757779200-1757782800@weimar-evangelisch.de
SUMMARY:Altar- und Kirchenführung
DESCRIPTION:Sie erleben eine protestantische Bilderpredigt und entdecken viele Details der Epitaphien im Chorraum der Stadtkirche.
URL:https://weimar-evangelisch.de/veranstaltung/altar-und-kirchenfuehrung-5/2025-09-13/
LOCATION:Herderkirche\, Herderplatz 8\, Weimar\, 99423\, Deutschland
CATEGORIES:Führungen,Veranstaltungen
ATTACH;FMTTYPE=image/jpeg:https://weimar-evangelisch.de/wp-content/uploads/2022/04/WECranachaltarMitte.jpg
END:VEVENT
BEGIN:VEVENT
DTSTART;TZID=Europe/Berlin:20250906T160000
DTEND;TZID=Europe/Berlin:20250906T170000
DTSTAMP:20260424T103415
CREATED:20251024T092206Z
LAST-MODIFIED:20251024T092206Z
UID:18909-1757174400-1757178000@weimar-evangelisch.de
SUMMARY:Altar- und Kirchenführung
DESCRIPTION:Sie erleben eine protestantische Bilderpredigt und entdecken viele Details der Epitaphien im Chorraum der Stadtkirche.
URL:https://weimar-evangelisch.de/veranstaltung/altar-und-kirchenfuehrung-5/2025-09-06/
LOCATION:Herderkirche\, Herderplatz 8\, Weimar\, 99423\, Deutschland
CATEGORIES:Führungen,Veranstaltungen
ATTACH;FMTTYPE=image/jpeg:https://weimar-evangelisch.de/wp-content/uploads/2022/04/WECranachaltarMitte.jpg
END:VEVENT
BEGIN:VEVENT
DTSTART;TZID=Europe/Berlin:20250830T160000
DTEND;TZID=Europe/Berlin:20250830T170000
DTSTAMP:20260424T103415
CREATED:20251024T092206Z
LAST-MODIFIED:20251024T092206Z
UID:18908-1756569600-1756573200@weimar-evangelisch.de
SUMMARY:Altar- und Kirchenführung
DESCRIPTION:Sie erleben eine protestantische Bilderpredigt und entdecken viele Details der Epitaphien im Chorraum der Stadtkirche.
URL:https://weimar-evangelisch.de/veranstaltung/altar-und-kirchenfuehrung-5/2025-08-30/
LOCATION:Herderkirche\, Herderplatz 8\, Weimar\, 99423\, Deutschland
CATEGORIES:Führungen,Veranstaltungen
ATTACH;FMTTYPE=image/jpeg:https://weimar-evangelisch.de/wp-content/uploads/2022/04/WECranachaltarMitte.jpg
END:VEVENT
BEGIN:VEVENT
DTSTART;TZID=Europe/Berlin:20250823T160000
DTEND;TZID=Europe/Berlin:20250823T170000
DTSTAMP:20260424T103415
CREATED:20251024T092206Z
LAST-MODIFIED:20251024T092206Z
UID:18907-1755964800-1755968400@weimar-evangelisch.de
SUMMARY:Altar- und Kirchenführung
DESCRIPTION:Sie erleben eine protestantische Bilderpredigt und entdecken viele Details der Epitaphien im Chorraum der Stadtkirche.
URL:https://weimar-evangelisch.de/veranstaltung/altar-und-kirchenfuehrung-5/2025-08-23/
LOCATION:Herderkirche\, Herderplatz 8\, Weimar\, 99423\, Deutschland
CATEGORIES:Führungen,Veranstaltungen
ATTACH;FMTTYPE=image/jpeg:https://weimar-evangelisch.de/wp-content/uploads/2022/04/WECranachaltarMitte.jpg
END:VEVENT
BEGIN:VEVENT
DTSTART;TZID=Europe/Berlin:20250816T160000
DTEND;TZID=Europe/Berlin:20250816T170000
DTSTAMP:20260424T103415
CREATED:20251024T092206Z
LAST-MODIFIED:20251024T092206Z
UID:18906-1755360000-1755363600@weimar-evangelisch.de
SUMMARY:Altar- und Kirchenführung
DESCRIPTION:Sie erleben eine protestantische Bilderpredigt und entdecken viele Details der Epitaphien im Chorraum der Stadtkirche.
URL:https://weimar-evangelisch.de/veranstaltung/altar-und-kirchenfuehrung-5/2025-08-16/
LOCATION:Herderkirche\, Herderplatz 8\, Weimar\, 99423\, Deutschland
CATEGORIES:Führungen,Veranstaltungen
ATTACH;FMTTYPE=image/jpeg:https://weimar-evangelisch.de/wp-content/uploads/2022/04/WECranachaltarMitte.jpg
END:VEVENT
BEGIN:VEVENT
DTSTART;TZID=Europe/Berlin:20250809T160000
DTEND;TZID=Europe/Berlin:20250809T170000
DTSTAMP:20260424T103415
CREATED:20251024T092206Z
LAST-MODIFIED:20251024T092206Z
UID:18905-1754755200-1754758800@weimar-evangelisch.de
SUMMARY:Altar- und Kirchenführung
DESCRIPTION:Sie erleben eine protestantische Bilderpredigt und entdecken viele Details der Epitaphien im Chorraum der Stadtkirche.
URL:https://weimar-evangelisch.de/veranstaltung/altar-und-kirchenfuehrung-5/2025-08-09/
LOCATION:Herderkirche\, Herderplatz 8\, Weimar\, 99423\, Deutschland
CATEGORIES:Führungen,Veranstaltungen
ATTACH;FMTTYPE=image/jpeg:https://weimar-evangelisch.de/wp-content/uploads/2022/04/WECranachaltarMitte.jpg
END:VEVENT
BEGIN:VEVENT
DTSTART;TZID=Europe/Berlin:20250802T160000
DTEND;TZID=Europe/Berlin:20250802T170000
DTSTAMP:20260424T103415
CREATED:20251024T092206Z
LAST-MODIFIED:20251024T092206Z
UID:18904-1754150400-1754154000@weimar-evangelisch.de
SUMMARY:Altar- und Kirchenführung
DESCRIPTION:Sie erleben eine protestantische Bilderpredigt und entdecken viele Details der Epitaphien im Chorraum der Stadtkirche.
URL:https://weimar-evangelisch.de/veranstaltung/altar-und-kirchenfuehrung-5/2025-08-02/
LOCATION:Herderkirche\, Herderplatz 8\, Weimar\, 99423\, Deutschland
CATEGORIES:Führungen,Veranstaltungen
ATTACH;FMTTYPE=image/jpeg:https://weimar-evangelisch.de/wp-content/uploads/2022/04/WECranachaltarMitte.jpg
END:VEVENT
BEGIN:VEVENT
DTSTART;TZID=Europe/Berlin:20250726T160000
DTEND;TZID=Europe/Berlin:20250726T170000
DTSTAMP:20260424T103415
CREATED:20251024T092206Z
LAST-MODIFIED:20251024T092206Z
UID:18903-1753545600-1753549200@weimar-evangelisch.de
SUMMARY:Altar- und Kirchenführung
DESCRIPTION:Sie erleben eine protestantische Bilderpredigt und entdecken viele Details der Epitaphien im Chorraum der Stadtkirche.
URL:https://weimar-evangelisch.de/veranstaltung/altar-und-kirchenfuehrung-5/2025-07-26/
LOCATION:Herderkirche\, Herderplatz 8\, Weimar\, 99423\, Deutschland
CATEGORIES:Führungen,Veranstaltungen
ATTACH;FMTTYPE=image/jpeg:https://weimar-evangelisch.de/wp-content/uploads/2022/04/WECranachaltarMitte.jpg
END:VEVENT
BEGIN:VEVENT
DTSTART;TZID=Europe/Berlin:20250719T160000
DTEND;TZID=Europe/Berlin:20250719T170000
DTSTAMP:20260424T103415
CREATED:20251024T092206Z
LAST-MODIFIED:20251024T092206Z
UID:18902-1752940800-1752944400@weimar-evangelisch.de
SUMMARY:Altar- und Kirchenführung
DESCRIPTION:Sie erleben eine protestantische Bilderpredigt und entdecken viele Details der Epitaphien im Chorraum der Stadtkirche.
URL:https://weimar-evangelisch.de/veranstaltung/altar-und-kirchenfuehrung-5/2025-07-19/
LOCATION:Herderkirche\, Herderplatz 8\, Weimar\, 99423\, Deutschland
CATEGORIES:Führungen,Veranstaltungen
ATTACH;FMTTYPE=image/jpeg:https://weimar-evangelisch.de/wp-content/uploads/2022/04/WECranachaltarMitte.jpg
END:VEVENT
BEGIN:VEVENT
DTSTART;TZID=Europe/Berlin:20250712T160000
DTEND;TZID=Europe/Berlin:20250712T170000
DTSTAMP:20260424T103415
CREATED:20251024T092206Z
LAST-MODIFIED:20251024T092206Z
UID:18901-1752336000-1752339600@weimar-evangelisch.de
SUMMARY:Altar- und Kirchenführung
DESCRIPTION:Sie erleben eine protestantische Bilderpredigt und entdecken viele Details der Epitaphien im Chorraum der Stadtkirche.
URL:https://weimar-evangelisch.de/veranstaltung/altar-und-kirchenfuehrung-5/2025-07-12/
LOCATION:Herderkirche\, Herderplatz 8\, Weimar\, 99423\, Deutschland
CATEGORIES:Führungen,Veranstaltungen
ATTACH;FMTTYPE=image/jpeg:https://weimar-evangelisch.de/wp-content/uploads/2022/04/WECranachaltarMitte.jpg
END:VEVENT
BEGIN:VEVENT
DTSTART;TZID=Europe/Berlin:20250705T160000
DTEND;TZID=Europe/Berlin:20250705T170000
DTSTAMP:20260424T103415
CREATED:20251024T092206Z
LAST-MODIFIED:20251024T092206Z
UID:18900-1751731200-1751734800@weimar-evangelisch.de
SUMMARY:Altar- und Kirchenführung
DESCRIPTION:Sie erleben eine protestantische Bilderpredigt und entdecken viele Details der Epitaphien im Chorraum der Stadtkirche.
URL:https://weimar-evangelisch.de/veranstaltung/altar-und-kirchenfuehrung-5/2025-07-05/
LOCATION:Herderkirche\, Herderplatz 8\, Weimar\, 99423\, Deutschland
CATEGORIES:Führungen,Veranstaltungen
ATTACH;FMTTYPE=image/jpeg:https://weimar-evangelisch.de/wp-content/uploads/2022/04/WECranachaltarMitte.jpg
END:VEVENT
BEGIN:VEVENT
DTSTART;TZID=Europe/Berlin:20250628T160000
DTEND;TZID=Europe/Berlin:20250628T170000
DTSTAMP:20260424T103415
CREATED:20251024T092206Z
LAST-MODIFIED:20251024T092206Z
UID:18899-1751126400-1751130000@weimar-evangelisch.de
SUMMARY:Altar- und Kirchenführung
DESCRIPTION:Sie erleben eine protestantische Bilderpredigt und entdecken viele Details der Epitaphien im Chorraum der Stadtkirche.
URL:https://weimar-evangelisch.de/veranstaltung/altar-und-kirchenfuehrung-5/2025-06-28/
LOCATION:Herderkirche\, Herderplatz 8\, Weimar\, 99423\, Deutschland
CATEGORIES:Führungen,Veranstaltungen
ATTACH;FMTTYPE=image/jpeg:https://weimar-evangelisch.de/wp-content/uploads/2022/04/WECranachaltarMitte.jpg
END:VEVENT
BEGIN:VEVENT
DTSTART;TZID=Europe/Berlin:20250621T160000
DTEND;TZID=Europe/Berlin:20250621T170000
DTSTAMP:20260424T103415
CREATED:20251024T092206Z
LAST-MODIFIED:20251024T092206Z
UID:18898-1750521600-1750525200@weimar-evangelisch.de
SUMMARY:Altar- und Kirchenführung
DESCRIPTION:Sie erleben eine protestantische Bilderpredigt und entdecken viele Details der Epitaphien im Chorraum der Stadtkirche.
URL:https://weimar-evangelisch.de/veranstaltung/altar-und-kirchenfuehrung-5/2025-06-21/
LOCATION:Herderkirche\, Herderplatz 8\, Weimar\, 99423\, Deutschland
CATEGORIES:Führungen,Veranstaltungen
ATTACH;FMTTYPE=image/jpeg:https://weimar-evangelisch.de/wp-content/uploads/2022/04/WECranachaltarMitte.jpg
END:VEVENT
BEGIN:VEVENT
DTSTART;TZID=Europe/Berlin:20250614T160000
DTEND;TZID=Europe/Berlin:20250614T170000
DTSTAMP:20260424T103415
CREATED:20251024T092206Z
LAST-MODIFIED:20251024T092206Z
UID:18896-1749916800-1749920400@weimar-evangelisch.de
SUMMARY:Altar- und Kirchenführung
DESCRIPTION:Sie erleben eine protestantische Bilderpredigt und entdecken viele Details der Epitaphien im Chorraum der Stadtkirche.
URL:https://weimar-evangelisch.de/veranstaltung/altar-und-kirchenfuehrung-5/2025-06-14/
LOCATION:Herderkirche\, Herderplatz 8\, Weimar\, 99423\, Deutschland
CATEGORIES:Führungen,Veranstaltungen
ATTACH;FMTTYPE=image/jpeg:https://weimar-evangelisch.de/wp-content/uploads/2022/04/WECranachaltarMitte.jpg
END:VEVENT
BEGIN:VEVENT
DTSTART;TZID=Europe/Berlin:20250607T160000
DTEND;TZID=Europe/Berlin:20250607T170000
DTSTAMP:20260424T103415
CREATED:20251024T092206Z
LAST-MODIFIED:20251024T092206Z
UID:18895-1749312000-1749315600@weimar-evangelisch.de
SUMMARY:Altar- und Kirchenführung
DESCRIPTION:Sie erleben eine protestantische Bilderpredigt und entdecken viele Details der Epitaphien im Chorraum der Stadtkirche.
URL:https://weimar-evangelisch.de/veranstaltung/altar-und-kirchenfuehrung-5/2025-06-07/
LOCATION:Herderkirche\, Herderplatz 8\, Weimar\, 99423\, Deutschland
CATEGORIES:Führungen,Veranstaltungen
ATTACH;FMTTYPE=image/jpeg:https://weimar-evangelisch.de/wp-content/uploads/2022/04/WECranachaltarMitte.jpg
END:VEVENT
BEGIN:VEVENT
DTSTART;TZID=Europe/Berlin:20250531T160000
DTEND;TZID=Europe/Berlin:20250531T170000
DTSTAMP:20260424T103415
CREATED:20251024T092206Z
LAST-MODIFIED:20251024T092206Z
UID:18894-1748707200-1748710800@weimar-evangelisch.de
SUMMARY:Altar- und Kirchenführung
DESCRIPTION:Sie erleben eine protestantische Bilderpredigt und entdecken viele Details der Epitaphien im Chorraum der Stadtkirche.
URL:https://weimar-evangelisch.de/veranstaltung/altar-und-kirchenfuehrung-5/2025-05-31/
LOCATION:Herderkirche\, Herderplatz 8\, Weimar\, 99423\, Deutschland
CATEGORIES:Führungen,Veranstaltungen
ATTACH;FMTTYPE=image/jpeg:https://weimar-evangelisch.de/wp-content/uploads/2022/04/WECranachaltarMitte.jpg
END:VEVENT
BEGIN:VEVENT
DTSTART;TZID=Europe/Berlin:20250524T160000
DTEND;TZID=Europe/Berlin:20250524T170000
DTSTAMP:20260424T103415
CREATED:20251024T092206Z
LAST-MODIFIED:20251024T092206Z
UID:18893-1748102400-1748106000@weimar-evangelisch.de
SUMMARY:Altar- und Kirchenführung
DESCRIPTION:Sie erleben eine protestantische Bilderpredigt und entdecken viele Details der Epitaphien im Chorraum der Stadtkirche.
URL:https://weimar-evangelisch.de/veranstaltung/altar-und-kirchenfuehrung-5/2025-05-24/
LOCATION:Herderkirche\, Herderplatz 8\, Weimar\, 99423\, Deutschland
CATEGORIES:Führungen,Veranstaltungen
ATTACH;FMTTYPE=image/jpeg:https://weimar-evangelisch.de/wp-content/uploads/2022/04/WECranachaltarMitte.jpg
END:VEVENT
BEGIN:VEVENT
DTSTART;TZID=Europe/Berlin:20250517T160000
DTEND;TZID=Europe/Berlin:20250517T170000
DTSTAMP:20260424T103415
CREATED:20251024T092206Z
LAST-MODIFIED:20251024T092206Z
UID:18892-1747497600-1747501200@weimar-evangelisch.de
SUMMARY:Altar- und Kirchenführung
DESCRIPTION:Sie erleben eine protestantische Bilderpredigt und entdecken viele Details der Epitaphien im Chorraum der Stadtkirche.
URL:https://weimar-evangelisch.de/veranstaltung/altar-und-kirchenfuehrung-5/2025-05-17/
LOCATION:Herderkirche\, Herderplatz 8\, Weimar\, 99423\, Deutschland
CATEGORIES:Führungen,Veranstaltungen
ATTACH;FMTTYPE=image/jpeg:https://weimar-evangelisch.de/wp-content/uploads/2022/04/WECranachaltarMitte.jpg
END:VEVENT
BEGIN:VEVENT
DTSTART;TZID=Europe/Berlin:20250510T160000
DTEND;TZID=Europe/Berlin:20250510T170000
DTSTAMP:20260424T103415
CREATED:20251024T092206Z
LAST-MODIFIED:20251024T092206Z
UID:18891-1746892800-1746896400@weimar-evangelisch.de
SUMMARY:Altar- und Kirchenführung
DESCRIPTION:Sie erleben eine protestantische Bilderpredigt und entdecken viele Details der Epitaphien im Chorraum der Stadtkirche.
URL:https://weimar-evangelisch.de/veranstaltung/altar-und-kirchenfuehrung-5/2025-05-10/
LOCATION:Herderkirche\, Herderplatz 8\, Weimar\, 99423\, Deutschland
CATEGORIES:Führungen,Veranstaltungen
ATTACH;FMTTYPE=image/jpeg:https://weimar-evangelisch.de/wp-content/uploads/2022/04/WECranachaltarMitte.jpg
END:VEVENT
BEGIN:VEVENT
DTSTART;TZID=Europe/Berlin:20250503T160000
DTEND;TZID=Europe/Berlin:20250503T170000
DTSTAMP:20260424T103415
CREATED:20251024T092206Z
LAST-MODIFIED:20251024T092206Z
UID:18890-1746288000-1746291600@weimar-evangelisch.de
SUMMARY:Altar- und Kirchenführung
DESCRIPTION:Sie erleben eine protestantische Bilderpredigt und entdecken viele Details der Epitaphien im Chorraum der Stadtkirche.
URL:https://weimar-evangelisch.de/veranstaltung/altar-und-kirchenfuehrung-5/2025-05-03/
LOCATION:Herderkirche\, Herderplatz 8\, Weimar\, 99423\, Deutschland
CATEGORIES:Führungen,Veranstaltungen
ATTACH;FMTTYPE=image/jpeg:https://weimar-evangelisch.de/wp-content/uploads/2022/04/WECranachaltarMitte.jpg
END:VEVENT
BEGIN:VEVENT
DTSTART;TZID=Europe/Berlin:20250426T160000
DTEND;TZID=Europe/Berlin:20250426T170000
DTSTAMP:20260424T103415
CREATED:20251024T092206Z
LAST-MODIFIED:20251024T092206Z
UID:18889-1745683200-1745686800@weimar-evangelisch.de
SUMMARY:Altar- und Kirchenführung
DESCRIPTION:Sie erleben eine protestantische Bilderpredigt und entdecken viele Details der Epitaphien im Chorraum der Stadtkirche.
URL:https://weimar-evangelisch.de/veranstaltung/altar-und-kirchenfuehrung-5/2025-04-26/
LOCATION:Herderkirche\, Herderplatz 8\, Weimar\, 99423\, Deutschland
CATEGORIES:Führungen,Veranstaltungen
ATTACH;FMTTYPE=image/jpeg:https://weimar-evangelisch.de/wp-content/uploads/2022/04/WECranachaltarMitte.jpg
END:VEVENT
BEGIN:VEVENT
DTSTART;TZID=Europe/Berlin:20250419T160000
DTEND;TZID=Europe/Berlin:20250419T170000
DTSTAMP:20260424T103415
CREATED:20251024T092206Z
LAST-MODIFIED:20251024T092206Z
UID:18888-1745078400-1745082000@weimar-evangelisch.de
SUMMARY:Altar- und Kirchenführung
DESCRIPTION:Sie erleben eine protestantische Bilderpredigt und entdecken viele Details der Epitaphien im Chorraum der Stadtkirche.
URL:https://weimar-evangelisch.de/veranstaltung/altar-und-kirchenfuehrung-5/2025-04-19/
LOCATION:Herderkirche\, Herderplatz 8\, Weimar\, 99423\, Deutschland
CATEGORIES:Führungen,Veranstaltungen
ATTACH;FMTTYPE=image/jpeg:https://weimar-evangelisch.de/wp-content/uploads/2022/04/WECranachaltarMitte.jpg
END:VEVENT
BEGIN:VEVENT
DTSTART;TZID=Europe/Berlin:20250412T160000
DTEND;TZID=Europe/Berlin:20250412T170000
DTSTAMP:20260424T103415
CREATED:20251024T092206Z
LAST-MODIFIED:20251024T092206Z
UID:18887-1744473600-1744477200@weimar-evangelisch.de
SUMMARY:Altar- und Kirchenführung
DESCRIPTION:Sie erleben eine protestantische Bilderpredigt und entdecken viele Details der Epitaphien im Chorraum der Stadtkirche.
URL:https://weimar-evangelisch.de/veranstaltung/altar-und-kirchenfuehrung-5/2025-04-12/
LOCATION:Herderkirche\, Herderplatz 8\, Weimar\, 99423\, Deutschland
CATEGORIES:Führungen,Veranstaltungen
ATTACH;FMTTYPE=image/jpeg:https://weimar-evangelisch.de/wp-content/uploads/2022/04/WECranachaltarMitte.jpg
END:VEVENT
BEGIN:VEVENT
DTSTART;TZID=Europe/Berlin:20250405T160000
DTEND;TZID=Europe/Berlin:20250405T170000
DTSTAMP:20260424T103415
CREATED:20251024T092206Z
LAST-MODIFIED:20251024T092206Z
UID:18886-1743868800-1743872400@weimar-evangelisch.de
SUMMARY:Altar- und Kirchenführung
DESCRIPTION:Sie erleben eine protestantische Bilderpredigt und entdecken viele Details der Epitaphien im Chorraum der Stadtkirche.
URL:https://weimar-evangelisch.de/veranstaltung/altar-und-kirchenfuehrung-5/2025-04-05/
LOCATION:Herderkirche\, Herderplatz 8\, Weimar\, 99423\, Deutschland
CATEGORIES:Führungen,Veranstaltungen
ATTACH;FMTTYPE=image/jpeg:https://weimar-evangelisch.de/wp-content/uploads/2022/04/WECranachaltarMitte.jpg
END:VEVENT
END:VCALENDAR